BEGIN:VCALENDAR
VERSION:2.0
PRODID:-//Finance and Business Operations - ECPv6.15.18//NONSGML v1.0//EN
CALSCALE:GREGORIAN
METHOD:PUBLISH
X-ORIGINAL-URL:https://www.med.unc.edu/fbo
X-WR-CALDESC:Events for Finance and Business Operations
REFRESH-INTERVAL;VALUE=DURATION:PT1H
X-Robots-Tag:noindex
X-PUBLISHED-TTL:PT1H
BEGIN:VTIMEZONE
TZID:America/New_York
BEGIN:DAYLIGHT
TZOFFSETFROM:-0500
TZOFFSETTO:-0400
TZNAME:EDT
DTSTART:20240310T070000
END:DAYLIGHT
BEGIN:STANDARD
TZOFFSETFROM:-0400
TZOFFSETTO:-0500
TZNAME:EST
DTSTART:20241103T060000
END:STANDARD
BEGIN:DAYLIGHT
TZOFFSETFROM:-0500
TZOFFSETTO:-0400
TZNAME:EDT
DTSTART:20250309T070000
END:DAYLIGHT
BEGIN:STANDARD
TZOFFSETFROM:-0400
TZOFFSETTO:-0500
TZNAME:EST
DTSTART:20251102T060000
END:STANDARD
BEGIN:DAYLIGHT
TZOFFSETFROM:-0500
TZOFFSETTO:-0400
TZNAME:EDT
DTSTART:20260308T070000
END:DAYLIGHT
BEGIN:STANDARD
TZOFFSETFROM:-0400
TZOFFSETTO:-0500
TZNAME:EST
DTSTART:20261101T060000
END:STANDARD
END:VTIMEZONE
BEGIN:VEVENT
DTSTART;TZID=America/New_York:20251030T110000
DTEND;TZID=America/New_York:20251030T120000
DTSTAMP:20260425T084325
CREATED:20250806T184347Z
LAST-MODIFIED:20251013T193312Z
UID:10001634-1761822000-1761825600@www.med.unc.edu
SUMMARY:Concur~ Post-Trip Training
DESCRIPTION:This training will cover all post-training tasks such as Linking an Expense Report\, Uploading Receipts\, Itemizing Receipts\, and T&E Card Transactions.\n\n\nJoin via the link HERE
URL:https://www.med.unc.edu/fbo/events/concur-post-trip-training-7/
END:VEVENT
BEGIN:VEVENT
DTSTART;TZID=America/New_York:20251106T110000
DTEND;TZID=America/New_York:20251106T120000
DTSTAMP:20260425T084325
CREATED:20250806T184021Z
LAST-MODIFIED:20250806T184130Z
UID:10001631-1762426800-1762430400@www.med.unc.edu
SUMMARY:Pre-Trip Concur Training
DESCRIPTION:This training will cover all post-training tasks such as Linking an Expense Report\, Uploading Receipts\, Itemizing Receipts\, and T&E Card Transactions. \nJoin via the link HERE
URL:https://www.med.unc.edu/fbo/events/pre-trip-concur-training-3/
END:VEVENT
BEGIN:VEVENT
DTSTART;TZID=America/New_York:20251118T110000
DTEND;TZID=America/New_York:20251118T120000
DTSTAMP:20260425T084325
CREATED:20250806T184759Z
LAST-MODIFIED:20250806T184759Z
UID:10001638-1763463600-1763467200@www.med.unc.edu
SUMMARY:TarHeel Reports~ Basic Overview and Navigation
DESCRIPTION:This training will demo the navigation tools of TarHeel Reports and take a quick look at four major reports: SOM Dashboard\, Comprehensive Financial Summary Report\, HR Funding Report\, and Research Expenditures. \nThis is an interactive session; you will need access to SOM TarHeel Reports to get the full experience. (Request access using the form here; select “School Reports”) \nJoin via the link HERE
URL:https://www.med.unc.edu/fbo/events/tarheel-reports-basic-overview-and-navigation-8/
END:VEVENT
END:VCALENDAR