BEGIN:VCALENDAR
VERSION:2.0
PRODID:-//Finance and Business Operations - ECPv6.15.18//NONSGML v1.0//EN
CALSCALE:GREGORIAN
METHOD:PUBLISH
X-ORIGINAL-URL:https://www.med.unc.edu/fbo
X-WR-CALDESC:Events for Finance and Business Operations
REFRESH-INTERVAL;VALUE=DURATION:PT1H
X-Robots-Tag:noindex
X-PUBLISHED-TTL:PT1H
BEGIN:VTIMEZONE
TZID:America/New_York
BEGIN:DAYLIGHT
TZOFFSETFROM:-0500
TZOFFSETTO:-0400
TZNAME:EDT
DTSTART:20230312T070000
END:DAYLIGHT
BEGIN:STANDARD
TZOFFSETFROM:-0400
TZOFFSETTO:-0500
TZNAME:EST
DTSTART:20231105T060000
END:STANDARD
BEGIN:DAYLIGHT
TZOFFSETFROM:-0500
TZOFFSETTO:-0400
TZNAME:EDT
DTSTART:20240310T070000
END:DAYLIGHT
BEGIN:STANDARD
TZOFFSETFROM:-0400
TZOFFSETTO:-0500
TZNAME:EST
DTSTART:20241103T060000
END:STANDARD
BEGIN:DAYLIGHT
TZOFFSETFROM:-0500
TZOFFSETTO:-0400
TZNAME:EDT
DTSTART:20250309T070000
END:DAYLIGHT
BEGIN:STANDARD
TZOFFSETFROM:-0400
TZOFFSETTO:-0500
TZNAME:EST
DTSTART:20251102T060000
END:STANDARD
END:VTIMEZONE
BEGIN:VEVENT
DTSTART;TZID=America/New_York:20240801T130000
DTEND;TZID=America/New_York:20240801T140000
DTSTAMP:20260421T145937
CREATED:20240429T125241Z
LAST-MODIFIED:20240716T171832Z
UID:10001584-1722517200-1722520800@www.med.unc.edu
SUMMARY:Concur~ Creating a Request
DESCRIPTION:Zoom Link: https://zoom.us/j/96285810895
URL:https://www.med.unc.edu/fbo/events/concur-creating-a-request-4/
END:VEVENT
BEGIN:VEVENT
DTSTART;TZID=America/New_York:20240808T130000
DTEND;TZID=America/New_York:20240808T140000
DTSTAMP:20260421T145937
CREATED:20240304T154251Z
LAST-MODIFIED:20240716T172054Z
UID:10001574-1723122000-1723125600@www.med.unc.edu
SUMMARY:~ Concur~ Creating/Linking an Expense Report
DESCRIPTION:Zoom Link: https://zoom.us/j/3104963136?omn=91287400164
URL:https://www.med.unc.edu/fbo/events/concur-creating-linking-an-expense-report-2/
END:VEVENT
BEGIN:VEVENT
DTSTART;TZID=America/New_York:20240815T130000
DTEND;TZID=America/New_York:20240815T140000
DTSTAMP:20260421T145937
CREATED:20240304T154344Z
LAST-MODIFIED:20240726T182325Z
UID:10001575-1723726800-1723730400@www.med.unc.edu
SUMMARY:Concur~ Personal Days with Business Travel
DESCRIPTION:Zoom Link: https://zoom.us/j/94245847353
URL:https://www.med.unc.edu/fbo/events/concur-personal-days-with-business-travel-2/
END:VEVENT
BEGIN:VEVENT
DTSTART;TZID=America/New_York:20240820T110000
DTEND;TZID=America/New_York:20240820T114500
DTSTAMP:20260421T145937
CREATED:20240806T191811Z
LAST-MODIFIED:20240806T191811Z
UID:10001586-1724151600-1724154300@www.med.unc.edu
SUMMARY:Concur MythBusters Training
DESCRIPTION:Description: To identify common Concur misconceptions as it relates to travel\, T&E\, and P-Card usage. \nLink: https://zoom.us/j/91226769364
URL:https://www.med.unc.edu/fbo/events/concur-mythbusters-training/
END:VEVENT
BEGIN:VEVENT
DTSTART;TZID=America/New_York:20240822T130000
DTEND;TZID=America/New_York:20240822T140000
DTSTAMP:20260421T145937
CREATED:20240304T154438Z
LAST-MODIFIED:20240726T182427Z
UID:10001576-1724331600-1724335200@www.med.unc.edu
SUMMARY:Concur~ Booking Travel
DESCRIPTION:Zoom Link: https://zoom.us/j/93813651510
URL:https://www.med.unc.edu/fbo/events/concur-booking-travel-2/
END:VEVENT
BEGIN:VEVENT
DTSTART;TZID=America/New_York:20240829T100000
DTEND;TZID=America/New_York:20240829T110000
DTSTAMP:20260421T145937
CREATED:20240726T182542Z
LAST-MODIFIED:20240805T150943Z
UID:10001585-1724925600-1724929200@www.med.unc.edu
SUMMARY:Departmental Workflow Work Session
DESCRIPTION:Link: https://zoom.us/j/98320829352
URL:https://www.med.unc.edu/fbo/events/departmental-workflow-work-session/
END:VEVENT
END:VCALENDAR