BEGIN:VCALENDAR
VERSION:2.0
PRODID:-//Finance and Business Operations - ECPv6.15.18//NONSGML v1.0//EN
CALSCALE:GREGORIAN
METHOD:PUBLISH
X-ORIGINAL-URL:https://www.med.unc.edu/fbo
X-WR-CALDESC:Events for Finance and Business Operations
REFRESH-INTERVAL;VALUE=DURATION:PT1H
X-Robots-Tag:noindex
X-PUBLISHED-TTL:PT1H
BEGIN:VTIMEZONE
TZID:America/New_York
BEGIN:DAYLIGHT
TZOFFSETFROM:-0500
TZOFFSETTO:-0400
TZNAME:EDT
DTSTART:20240310T070000
END:DAYLIGHT
BEGIN:STANDARD
TZOFFSETFROM:-0400
TZOFFSETTO:-0500
TZNAME:EST
DTSTART:20241103T060000
END:STANDARD
BEGIN:DAYLIGHT
TZOFFSETFROM:-0500
TZOFFSETTO:-0400
TZNAME:EDT
DTSTART:20250309T070000
END:DAYLIGHT
BEGIN:STANDARD
TZOFFSETFROM:-0400
TZOFFSETTO:-0500
TZNAME:EST
DTSTART:20251102T060000
END:STANDARD
BEGIN:DAYLIGHT
TZOFFSETFROM:-0500
TZOFFSETTO:-0400
TZNAME:EDT
DTSTART:20260308T070000
END:DAYLIGHT
BEGIN:STANDARD
TZOFFSETFROM:-0400
TZOFFSETTO:-0500
TZNAME:EST
DTSTART:20261101T060000
END:STANDARD
END:VTIMEZONE
BEGIN:VEVENT
DTSTART;TZID=America/New_York:20250508T110000
DTEND;TZID=America/New_York:20250508T120000
DTSTAMP:20260420T015934
CREATED:20250505T155017Z
LAST-MODIFIED:20250505T155252Z
UID:10001614-1746702000-1746705600@www.med.unc.edu
SUMMARY:Concur~ Pre-Trip Training
DESCRIPTION:  \n\nThis training will cover all pre-trip tasks such as Creating a Request\, Personal Days with Business Travel\, and Booking Travel.\nThursday\, May 8th @ 11am-12 noon\nJoin via the link HERE
URL:https://www.med.unc.edu/fbo/events/concur-pre-trip-training-5/
END:VEVENT
BEGIN:VEVENT
DTSTART;TZID=America/New_York:20250515T110000
DTEND;TZID=America/New_York:20250515T120000
DTSTAMP:20260420T015934
CREATED:20250505T160857Z
LAST-MODIFIED:20250505T182256Z
UID:10001617-1747306800-1747310400@www.med.unc.edu
SUMMARY:State Funds Budget Tool Training
DESCRIPTION:  \n\nThis training will demo a tool that was created to improve the accuracy of employee payroll projections on state funds. Unlike the campus-provide fringe estimates\, which are often under or overstated\, this tool uses each employee’s actual historical fringe rate to calculate salary and projections for your department.\nTuesday\,\nJoin via the link HERE
URL:https://www.med.unc.edu/fbo/events/state-funds-budget-tool-training/
END:VEVENT
BEGIN:VEVENT
DTSTART;TZID=America/New_York:20250520T110000
DTEND;TZID=America/New_York:20250520T120000
DTSTAMP:20260420T015934
CREATED:20250505T155216Z
LAST-MODIFIED:20250505T160654Z
UID:10001616-1747738800-1747742400@www.med.unc.edu
SUMMARY:TarHeel Reports~ Basic Overview and Navigation
DESCRIPTION:  \n\nThis training will demo the navigation tools of TarHeel Reports and take a quick look at four major reports: SOM Dashboard\, Comprehensive Financial Summary Report\, HR Funding Report\, and Research Expenditures.\nThis is an interactive session; you will need access to SOM TarHeel Reports to get the full experience. (Request access using the form here; select “School Reports”)\n\n\nTuesday\, May 13th @ 11am-12noon\nJoin via the link HERE
URL:https://www.med.unc.edu/fbo/events/tarheel-reports-basic-overview-and-navigation-2/
END:VEVENT
BEGIN:VEVENT
DTSTART;TZID=America/New_York:20250522T110000
DTEND;TZID=America/New_York:20250522T120000
DTSTAMP:20260420T015934
CREATED:20250505T155139Z
LAST-MODIFIED:20250505T155139Z
UID:10001615-1747911600-1747915200@www.med.unc.edu
SUMMARY:Concur~ Post-Trip Training
DESCRIPTION:  \n\nThis training will cover all post-training tasks such as Linking an Expense Report\, Uploading Receipts\, Itemizing Receipts\, and T&E Card Transactions.\nThursday\, May 22nd @ 11am-12 noon\nJoin via the link HERE
URL:https://www.med.unc.edu/fbo/events/concur-post-trip-training-2/
END:VEVENT
END:VCALENDAR