BEGIN:VCALENDAR
VERSION:2.0
PRODID:-//Finance and Business Operations - ECPv6.15.18//NONSGML v1.0//EN
CALSCALE:GREGORIAN
METHOD:PUBLISH
X-ORIGINAL-URL:https://www.med.unc.edu/fbo
X-WR-CALDESC:Events for Finance and Business Operations
REFRESH-INTERVAL;VALUE=DURATION:PT1H
X-Robots-Tag:noindex
X-PUBLISHED-TTL:PT1H
BEGIN:VTIMEZONE
TZID:America/New_York
BEGIN:DAYLIGHT
TZOFFSETFROM:-0500
TZOFFSETTO:-0400
TZNAME:EDT
DTSTART:20230312T070000
END:DAYLIGHT
BEGIN:STANDARD
TZOFFSETFROM:-0400
TZOFFSETTO:-0500
TZNAME:EST
DTSTART:20231105T060000
END:STANDARD
BEGIN:DAYLIGHT
TZOFFSETFROM:-0500
TZOFFSETTO:-0400
TZNAME:EDT
DTSTART:20240310T070000
END:DAYLIGHT
BEGIN:STANDARD
TZOFFSETFROM:-0400
TZOFFSETTO:-0500
TZNAME:EST
DTSTART:20241103T060000
END:STANDARD
BEGIN:DAYLIGHT
TZOFFSETFROM:-0500
TZOFFSETTO:-0400
TZNAME:EDT
DTSTART:20250309T070000
END:DAYLIGHT
BEGIN:STANDARD
TZOFFSETFROM:-0400
TZOFFSETTO:-0500
TZNAME:EST
DTSTART:20251102T060000
END:STANDARD
END:VTIMEZONE
BEGIN:VEVENT
DTSTART;TZID=America/New_York:20241210T110000
DTEND;TZID=America/New_York:20241210T120000
DTSTAMP:20260425T201417
CREATED:20241202T170518Z
LAST-MODIFIED:20241202T170518Z
UID:10001604-1733828400-1733832000@www.med.unc.edu
SUMMARY:TarHeel Reports 2.0- Research Funds
DESCRIPTION:TarHeel Reports 2.0- Research Funds \nDescription: A scenario-based training on how to utilize the SOM TarHeel reports to help make decisions when using Research Funds. \nDate: Tuesday\, December 10th @ 11:00am-12:00am \nRegistration Required HERE! \n 
URL:https://www.med.unc.edu/fbo/events/tarheel-reports-2-0-research-funds/
END:VEVENT
BEGIN:VEVENT
DTSTART;TZID=America/New_York:20241212T130000
DTEND;TZID=America/New_York:20241212T140000
DTSTAMP:20260425T201417
CREATED:20241202T170605Z
LAST-MODIFIED:20241202T170605Z
UID:10001605-1734008400-1734012000@www.med.unc.edu
SUMMARY:Concur Pre-Trip Training
DESCRIPTION:Concur Pre-Trip Training \nDescription: This training will explain how to create a request\, document for personal days with business travel\, and book flights. \nDate: Thursday\, December 12th @1pm-2pm \nZoom Link: https://zoom.us/j/92600930190
URL:https://www.med.unc.edu/fbo/events/concur-pre-trip-training-2/
END:VEVENT
END:VCALENDAR