BEGIN:VCALENDAR
VERSION:2.0
PRODID:-//Flow Cytometry Core Facility - ECPv6.15.18//NONSGML v1.0//EN
CALSCALE:GREGORIAN
METHOD:PUBLISH
X-ORIGINAL-URL:https://www.med.unc.edu/flowcytometry
X-WR-CALDESC:Events for Flow Cytometry Core Facility
REFRESH-INTERVAL;VALUE=DURATION:PT1H
X-Robots-Tag:noindex
X-PUBLISHED-TTL:PT1H
BEGIN:VTIMEZONE
TZID:America/New_York
BEGIN:DAYLIGHT
TZOFFSETFROM:-0500
TZOFFSETTO:-0400
TZNAME:EDT
DTSTART:20170312T070000
END:DAYLIGHT
BEGIN:STANDARD
TZOFFSETFROM:-0400
TZOFFSETTO:-0500
TZNAME:EST
DTSTART:20171105T060000
END:STANDARD
BEGIN:DAYLIGHT
TZOFFSETFROM:-0500
TZOFFSETTO:-0400
TZNAME:EDT
DTSTART:20180311T070000
END:DAYLIGHT
BEGIN:STANDARD
TZOFFSETFROM:-0400
TZOFFSETTO:-0500
TZNAME:EST
DTSTART:20181104T060000
END:STANDARD
BEGIN:DAYLIGHT
TZOFFSETFROM:-0500
TZOFFSETTO:-0400
TZNAME:EDT
DTSTART:20190310T070000
END:DAYLIGHT
BEGIN:STANDARD
TZOFFSETFROM:-0400
TZOFFSETTO:-0500
TZNAME:EST
DTSTART:20191103T060000
END:STANDARD
BEGIN:DAYLIGHT
TZOFFSETFROM:-0500
TZOFFSETTO:-0400
TZNAME:EDT
DTSTART:20200308T070000
END:DAYLIGHT
BEGIN:STANDARD
TZOFFSETFROM:-0400
TZOFFSETTO:-0500
TZNAME:EST
DTSTART:20201101T060000
END:STANDARD
END:VTIMEZONE
BEGIN:VTIMEZONE
TZID:America/New_York
BEGIN:DAYLIGHT
TZOFFSETFROM:-0500
TZOFFSETTO:-0400
TZNAME:EDT
DTSTART:20160313T070000
END:DAYLIGHT
BEGIN:STANDARD
TZOFFSETFROM:-0400
TZOFFSETTO:-0500
TZNAME:EST
DTSTART:20161106T060000
END:STANDARD
BEGIN:DAYLIGHT
TZOFFSETFROM:-0500
TZOFFSETTO:-0400
TZNAME:EDT
DTSTART:20170312T070000
END:DAYLIGHT
BEGIN:STANDARD
TZOFFSETFROM:-0400
TZOFFSETTO:-0500
TZNAME:EST
DTSTART:20171105T060000
END:STANDARD
BEGIN:DAYLIGHT
TZOFFSETFROM:-0500
TZOFFSETTO:-0400
TZNAME:EDT
DTSTART:20180311T070000
END:DAYLIGHT
BEGIN:STANDARD
TZOFFSETFROM:-0400
TZOFFSETTO:-0500
TZNAME:EST
DTSTART:20181104T060000
END:STANDARD
BEGIN:DAYLIGHT
TZOFFSETFROM:-0500
TZOFFSETTO:-0400
TZNAME:EDT
DTSTART:20190310T070000
END:DAYLIGHT
BEGIN:STANDARD
TZOFFSETFROM:-0400
TZOFFSETTO:-0500
TZNAME:EST
DTSTART:20191103T060000
END:STANDARD
END:VTIMEZONE
BEGIN:VEVENT
DTSTART;TZID=America/New_York:20190307T110000
DTEND;TZID=America/New_York:20190308T170000
DTSTAMP:20260421T112153
CREATED:20190103T145113Z
LAST-MODIFIED:20190130T225651Z
UID:10000131-1551956400-1552064400@www.med.unc.edu
SUMMARY:SEFCIG 2019 Athens GA
DESCRIPTION:Join us for the 10th anniversary of the South East Flow Cytometry Interest Group (SEFCIG) in Athens\, GA. \nMarch 7                    TechnoFlow–Paul D. Coverdell Building Room S175 \n11:00 – 12:00       Forensic Flow – Join us to test your skills at detecting bad flow data \nJodi Kroeger\, Moffitt Cancer Institute \n12:00 – 1:00         Luncheon – Coverdell Rotunda \n1:00 – 1:45            Multi-Dimensional Functional Profiling of Human Rhinovirus and Allergen- specific T-Cells By Means Of Spectral Flow Cytometry \nLiesbeth Paul and Joanne Lannigan\, University of Virginia. \n1:45 – 2:30            Imaging and Spectral Cytometry go Viral! \nJoanne Lannigan\, University of Virginia  \n2:30 – 3:15            TBA \n3:15 – 4:00            Next Generation Cell Sorting: New Technologies and Strategies \n                               Joe Trotter\, Becton Dickinson \n  \n6 PM – 9 PM Opening Reception- Pecan Tree Galleria \n  \nMarch 8                    General Session– Masters Hall \nFlow in the South \n9 – 9:10                 Welcome and Introductions \n9:10 – 9:55            Canine Breast Cancer Immunotherapy as a Model of Human Disease \nCurtis Bird\, Auburn University \n9:55 – 10:40         Single cell analyses of human B cell responses: Lessons from infectious disease and autoimmunity \nJens Wrammert\, Emory University \n10:40 – 11:25       Using Flow Cytometry to Catch Parasites Sleeping \nDennis Kyle\, University of Georgia \n11:25 – 12:00       Exhibits \n  \nVendor Break Out Sessions with Box Lunches \n12 – 2:45               Vendor Talks and Exhibits \n  \nFlow in the World \n2:45 – 3:30            Extracellular Vesicle-Biome Analysis by Nanoscale High Resolution Flow Cytometry \nTerry Morgan\, Oregon School of Health \n3;30 – 4:15             Optimizing and validating FC-based EV measurements \nJohn Nolan\, Scintillon Institute \n4:15 – 5:00             Developing Flow Cytometry Assays to Support Clinical Trials \n                                  Jake Jacobberger\, Case Western \n  \nRegister at: sefcig.org
URL:https://www.med.unc.edu/flowcytometry/event/sefcig-2019-athens-ga/
LOCATION:NC\, United States
GEO:35.7595731;-79.0192997
END:VEVENT
BEGIN:VEVENT
DTSTART;VALUE=DATE:20190305
DTEND;VALUE=DATE:20190307
DTSTAMP:20260421T112153
CREATED:20190118T141856Z
LAST-MODIFIED:20190130T225327Z
UID:10000133-1551744000-1551916799@www.med.unc.edu
SUMMARY:Fundamentals of Flow Cytometry 2-day course in Athens\, GA
DESCRIPTION:In advance of the South East Flow Cytometry Interest Group (SEFCIG) meeting\, Excyte will offer a 2-day Fundamentals of Flow Cytometry. This course is for both new and experienced scientists using Flow Cytometry for their research. \nExCyte – Flow Cytometry Boot Camp \nRegister here: https://excyteatuga.eventbrite.com/ \nFor special discounts available to the UGA community and those attending SEFCIG email Tim Bushnell timbushnell@expertcytometry.com
URL:https://www.med.unc.edu/flowcytometry/event/fundamentals-of-flow-cytometry/
END:VEVENT
BEGIN:VEVENT
DTSTART;TZID=America/New_York:20190226T090000
DTEND;TZID=America/New_York:20190226T100000
DTSTAMP:20260421T112153
CREATED:20190131T175119Z
LAST-MODIFIED:20190131T210157Z
UID:10000135-1551171600-1551175200@www.med.unc.edu
SUMMARY:Integrated single-cell level T-cell activation profiling
DESCRIPTION:The activation of naive T cells by antigen is one of the central events in the adaptive immune responses.  We present a new assay developed to take advantage of the fastest flow cytometry platform – iQue PLUS\, to help scientists study proliferation\, activation status and cytokine secretion profiles of this process within a single kit. \nSpeaker: Jenny Zhang\, Ph.D. Field Application Scientist\, Sartorius \nPresented for the Research Triangle Cytometry Association \n9-10 AM \nNIEHS
URL:https://www.med.unc.edu/flowcytometry/event/t-cell-typing-on-intellicyt-ique-plus/
END:VEVENT
BEGIN:VEVENT
DTSTART;TZID=America/New_York:20190129T090000
DTEND;TZID=America/New_York:20190129T110000
DTSTAMP:20260421T112153
CREATED:20181102T141540Z
LAST-MODIFIED:20190103T145209Z
UID:10000130-1548752400-1548759600@www.med.unc.edu
SUMMARY:Intracellular Flow Cytometry  - Tools for measuring Phospho proteins\, cytokines and transcription factors
DESCRIPTION:We rescheduled this event to January 29 from 9-11 AM in room 6004 Marsico Hall \nInvestigators interested in the technical aspects of running flow cytometry experiments to measure intracellular signaling molecules \, cytokines and transcription factors should attend this important presentation by Drew Bantly from BD Biosciences. \n  \n 
URL:https://www.med.unc.edu/flowcytometry/event/phospho-flow-cytometry-presentation/
LOCATION:Marsico 6004\, 125 Mason Farm Rd\, Chapel Hill\, NC\, 27599\, United States
GEO:35.9024976;-79.0538753
X-APPLE-STRUCTURED-LOCATION;VALUE=URI;X-ADDRESS=Marsico 6004 125 Mason Farm Rd Chapel Hill NC 27599 United States;X-APPLE-RADIUS=500;X-TITLE=125 Mason Farm Rd:geo:-79.0538753,35.9024976
END:VEVENT
BEGIN:VEVENT
DTSTART;TZID=America/New_York:20181022T101500
DTEND;TZID=America/New_York:20181022T133000
DTSTAMP:20260421T112153
CREATED:20180817T154703Z
LAST-MODIFIED:20181011T190732Z
UID:10000127-1540203300-1540215000@www.med.unc.edu
SUMMARY:Mass Cytometry Research Day
DESCRIPTION:The UNC Flow and Mass Cytometry Core Facilities and the Research Triangle Cytometry Association will host a series of talks on the latest in research using Mass Cytometry. \nMonday October 22 from  10:15 AM – 1:30 PM\, Pagano Conference Room\, LCCC \n  \nSchedule: \n10:15 -10:45 AM – ‘Taking the First Steps of Mass Cytometry’ – Dan Frederick\, PhD\, Fluidigm \n10:45 -11:45 AM –  ‘Learning in vivo: How Data Science and Cytomics Are Connecting Cell Biology and Medicine’ – Jonathan Irish\, Vanderbilt University \n11:45 – 12:00 PM – Grab a lunch \n12:00 – 12:30 PM – ‘Immune profiling of Chlamydia trachomatis infected women’ – Avinash Kollipara\, UNC \n12:30 – 1:30 PM – ‘Deep Immune Profiling using the Maxpar Human Immune Monitoring Panel Kit with Mass Cytometry’ – Bruce Bagwell\, Verity Software House / Greg Stelzer Fluidigm \n  \nIf you plan to stay for lunch\, please register in advance: https://www.eventbrite.com/e/mass-cytometry-research-day-at-unc-registration-50766371584
URL:https://www.med.unc.edu/flowcytometry/event/cytof-research-day/
LOCATION:Pagano Conference Room\, 450 West Drive\, Chapel Hill\, NC\, United States
ORGANIZER;CN="UNC Flow Cytometry":MAILTO:uncflowcyto@med.unc.edu
END:VEVENT
BEGIN:VEVENT
DTSTART;TZID=America/New_York:20181015T100000
DTEND;TZID=America/New_York:20181015T150000
DTSTAMP:20260421T112153
CREATED:20181008T150728Z
LAST-MODIFIED:20181008T150728Z
UID:10000129-1539597600-1539615600@www.med.unc.edu
SUMMARY:Fall FCS Training Session October 15th
DESCRIPTION:Our Fall FCS Express Training Session will be held on October 15\, 2018 in MacNider Hall Room 21 from 10am-3pm (lunch will be provided).  Sarah Schuett with Denovo Software will be here to discuss getting started with the software\, working with plots\, gates\, stats\, spreadsheets and graphing\, batch processing\, compensation\, and transformations.  In the afternoon there will be time available for Q/A for our advanced users and/or you can book time with Sarah to discuss your specific layouts.
URL:https://www.med.unc.edu/flowcytometry/event/fall-fcs-training-session-october-15th/
LOCATION:21 McNider Hall
END:VEVENT
BEGIN:VEVENT
DTSTART;TZID=America/New_York:20180821T090000
DTEND;TZID=America/New_York:20180821T100000
DTSTAMP:20260421T112153
CREATED:20180716T201303Z
LAST-MODIFIED:20180717T153829Z
UID:10000126-1534842000-1534845600@www.med.unc.edu
SUMMARY:Introduction to Spectral Cytometry with the Cytek Aurora
DESCRIPTION:Cytek Biosciences is pleased to offer the Cytek Aurora system. This novel flow cytometer expands the breadth of applications that are currently available on conventional cytometers. The system incorporates new and innovative technologies designed to maximize the benefits of spectral cytometry and provides enhanced flexibility in experiment and panel design. During the seminar\, the following topics will be discussed: \n\nWhy do spectral flow cytometry?\nMain differences between conventional and high resolution spectral flow cytometry\nHow to achieve high resolution spectral flow cytometry\nInstrument setup considerations\nFluorochrome options\nPanel design considerations\nMulticolor data examples\n\nhttps://cytekbio.com/pages/aurora
URL:https://www.med.unc.edu/flowcytometry/event/research-triangle-cytometry-association/
LOCATION:Marsico 6004\, 125 Mason Farm Rd\, Chapel Hill\, NC\, 27599\, United States
GEO:35.9024976;-79.0538753
X-APPLE-STRUCTURED-LOCATION;VALUE=URI;X-ADDRESS=Marsico 6004 125 Mason Farm Rd Chapel Hill NC 27599 United States;X-APPLE-RADIUS=500;X-TITLE=125 Mason Farm Rd:geo:-79.0538753,35.9024976
END:VEVENT
BEGIN:VEVENT
DTSTART;TZID=America/New_York:20180629T100000
DTEND;TZID=America/New_York:20180629T140000
DTSTAMP:20260421T112153
CREATED:20171212T232000Z
LAST-MODIFIED:20180618T202434Z
UID:10000125-1530266400-1530280800@www.med.unc.edu
SUMMARY:FCS Express Training
DESCRIPTION:Sarah Schuett from Denovo Software will be coming to do a basic training on FCS Express:  getting started with the software\, inserting plots\, gates\, statistics\, batch processing\, compensation\, and re-using layouts as templates.  Following the introduction and lunch we will have Q/A for advanced users to book time with Sarah to discuss their specific layouts.\nLunch will be provided\nThe link to register is https://doodle.com/poll/gb9ivbxxrnw9gizn
URL:https://www.med.unc.edu/flowcytometry/event/fcs-express-flow-cytometry-analysis-software-presentation/
END:VEVENT
BEGIN:VEVENT
DTSTART;TZID=America/New_York:20180616T000000
DTEND;TZID=America/New_York:20180622T120000
DTSTAMP:20260421T112153
CREATED:20130410T182500Z
LAST-MODIFIED:20180618T202433Z
UID:10000119-1529107200-1529668800@www.med.unc.edu
SUMMARY:41st Annual Research Course in Flow Cytometry
DESCRIPTION:In the laboratories and lectures you’ll learn about pertinent topics in the art and science of flow cytometry. You will rank your interest for all the laboratories that we will be offering\, and we’ll construct a tailored schedule for you for the laboratory sessions. \nAdd to all this activity a special guest lecturer\, a traditional Maine lobster bake\, and some good old Yankee entertainment\, and you’re close to describing the course. If you stay on campus in our new dormitories\, the entire cost\, including room\, board and tuition\, is $2700! Give us a call or write. \nWhether you are a beginner or just need a tune up\, come visit us in Maine. We guarantee you will be immersed in this wonderful technology for a week and will be full of new ideas when you return. \nSchedlue: http://www.vsh.com/bowdoin/sch.asp  \nRegistration will be limited to 80 participants: register here! \nFees: $2000.00 US until March 30th\, 2017$2200.00 US after March 30th\, 2017 \nMore information: http://www.vsh.com/bowdoin/info.asp
URL:https://www.med.unc.edu/flowcytometry/event/36th-annual-research-course-in-flow-cytometry/
END:VEVENT
BEGIN:VEVENT
DTSTART;TZID=America/New_York:20180323T210000
DTEND;TZID=America/New_York:20180323T230000
DTSTAMP:20260421T112153
CREATED:20140908T012000Z
LAST-MODIFIED:20180618T202433Z
UID:10000122-1521838800-1521846000@www.med.unc.edu
SUMMARY:CyTOF -Helios: Getting Started
DESCRIPTION:Jennifer Frahm from Fluidigm will give a practical session on how to get started on high content flow cytometry projects on the Helios.  \nThis will be a general session on considerations for a Helios experiment followed by small group sessions meeting with investigators to discuss specific projects.  \nMark your calendars and arrange with Jennifer in the afternoon for your lab consultation. \nJennifer Frahm\, Ph. D. \nField Application Scientist\, Proteomics \njennifer.frahm@fluidigm.com
URL:https://www.med.unc.edu/flowcytometry/event/advanced-experimental-design-and-antibody-panel-design/
END:VEVENT
BEGIN:VEVENT
DTSTART;TZID=America/New_York:20180215T090000
DTEND;TZID=America/New_York:20180215T110000
DTSTAMP:20260421T112153
CREATED:20160718T202500Z
LAST-MODIFIED:20180618T202434Z
UID:10000124-1518685200-1518692400@www.med.unc.edu
SUMMARY:FCS Express Flow and Image Cytometry: Moving Beyond FlowJo
DESCRIPTION:The De Novo Software approach to flow cytometry data analysis allows for advanced analysis with an easy to use interface and efficiency in mind. Attend this seminar if you need to eliminate bottlenecks in your analysis\, easily communicate findings\, model data\, or need a new approach to make data analysis more efficient. FCS Express allows you to access data analysis tools from any computer\, Mac or PC\, so you can analyze when and where you need to. Join us to learn about the FCS Express difference! \nLocation notes:  \nNIEHS\, 111 T. W. Alexander Drive \nRall Building\, Rodbell Auditorium B\, Research Triangle Park\, North Carolina \n IMPORTANT: Due to the high level of security\, visitors to NIEHS must provide two forms of ID (driver’s license\, company ID\, university ID) and should be prepared to give the security guards the name of the seminar you are attending or have available a copy of this announcement.
URL:https://www.med.unc.edu/flowcytometry/event/fcs-express-flow-cytometry-analysis-software-presentation-1/
END:VEVENT
BEGIN:VEVENT
DTSTART;TZID=America/New_York:20171101T123000
DTEND;TZID=America/New_York:20171101T153000
DTSTAMP:20260421T112153
CREATED:20131119T004500Z
LAST-MODIFIED:20180618T202435Z
UID:10000120-1509539400-1509550200@www.med.unc.edu
SUMMARY:Introductory Flow Cytometry Training Class
DESCRIPTION:To register\, you must first create an account in iLab: https://my.ilabsolutions.com/account/signup/279?sc_id=3267 You will need to enter your PI name and billing information. Once you have created your account\, you may request the Introductory Training. \nThis first class is a lecture on the basics of the instrumentation and best practices for experimental design. It is required of all core users\, regardless of prior experience. Once completing the class\, you can sign up for instrument training. \nThere is a $121 fee for the lecture and $92 for instrument training\, which includes any amount of additional coaching you may need. Investigators outside of the UNC system are subject to higher rates: https://www.med.unc.edu/flowcytometry/rates-services-policies/rates \nIf you are new to flow cytometry\, We suggest that you visit our web site and browse the page\, Useful flow cytometry links: https://www.med.unc.edu/flowcytometry/resources-2/useful-links \nUnder Tutorials\, find introduction to flow cytometry webinars in nice little chunks. \nThermoFisher tutorials – learn about fluorescence and flow cytometry \nBD tutorials – includes introduction to FACSDiva\, the software for the LSR II and LSRFortessa. \nMore advanced users will find this webinar on fluorophores and panel design helpful:  http://www.biolegend.com/brilliantviolet_webinar
URL:https://www.med.unc.edu/flowcytometry/event/introductory-flow-cytometry-training-class-6/
END:VEVENT
BEGIN:VEVENT
DTSTART;TZID=America/New_York:20170717T123000
DTEND;TZID=America/New_York:20170717T153000
DTSTAMP:20260421T112153
CREATED:20140206T212500Z
LAST-MODIFIED:20180618T202435Z
UID:10000121-1500294600-1500305400@www.med.unc.edu
SUMMARY:FULL - Introductory Flow Cytometry Training Lecture
DESCRIPTION:To register\, you must first create an account in iLab: https://my.ilabsolutions.com/account/signup/279?sc_id=3267 You will need to enter your PI name and billing information. Once you have created your account\, you may request the Introductory Training. \nThis first class is a lecture on the basics of the instrumentation and best practices for experimental design. It is required of all core users\, regardless of prior experience. Once completing the class\, you can sign up for instrument training. \nThere is a $121 fee for the lecture and $92 for instrument training\, which includes any amount of additional coaching you may need. Investigators outside of the UNC system are subject to higher rates: https://www.med.unc.edu/flowcytometry/rates-services-policies/rates \nIf you are new to flow cytometry\, We suggest that you visit our web site and browse the page\, Useful flow cytometry links: https://www.med.unc.edu/flowcytometry/resources-2/useful-links \nUnder Tutorials\, find introduction to flow cytometry webinars in nice little chunks. \nThermoFisher tutorials – learn about fluorescence and flow cytometry \nBeckman tutorials – includes ones on cell sorting\, compensation\, applications and more . \nhttp://fast.wistia.net/embed/iframe/84bx7y3oqi?autoPlay=true&controlsVisibleOnLoad=true&playButton=false&playerColor=ed1c24&popover=true&version=v1&videoHeight=360&videoWidth=640  \nBD tutorials – includes introduction to FACSDiva\, the software for the LSR II and LSRFortessa. \nMore advanced users will find this webinar on fluorophores and panel design helpful:  http://www.biolegend.com/brilliantviolet_webinar  \n•If you plan to train on the CyAns (most new users start here)\, you should review the Summit software\, CyAn introduction and CyAn operation online training in advance of your instrument training: https://www.beckmancoulter.com/wsrportal/wsr/research-and-discovery/products-and-services/flow-cytometry/computer-based-training/index.htm
URL:https://www.med.unc.edu/flowcytometry/event/introductory-flow-cytometry-training-class-7/
END:VEVENT
BEGIN:VEVENT
DTSTART;TZID=America/New_York:20170222T103000
DTEND;TZID=America/New_York:20170222T150000
DTSTAMP:20260421T112153
CREATED:20150528T215500Z
LAST-MODIFIED:20180618T202435Z
UID:10000123-1487759400-1487775600@www.med.unc.edu
SUMMARY:iQue Screener PLUS workshop
DESCRIPTION:The UNC Flow Cytometry Core invites users and interested investigators to learn more about the Intellicyt iQue Screener PLUS This is a high through put flow cytometer capable of running 96 and 384-well rapid screening (about 5 minutes per 96-well plate). \nThis is a 3-laser (violet\, blue\, yellow-green) high throughput flow cytometer capable of detecting up to 13 colors of fluorescence.  \nAn introduction to the instrument and training on the ForeCyt software will be held in Room 2004 Marsico Hall on Wednesday February 22. This class is open to all interested investigators.  \n\nMorning: Introduction and basics\nLunch: Advanced applications/ ForeCyt software\nAfternoon: Instrument demo/running samples\n\nFor more information on the instrument configuration\, you can go to our website:  https://www.med.unc.edu/flowcytometry/instrumentation-2/analyzers/intellicyt-ique-screener    \nFor more information on the iQue Screener: http://www.intellicyt.com/ique-screener.html \nIf you are interested in running a sample plate\, we are taking limited requests to run by appointment. Contact Sebastien Coquery to schedule.  \nNo reservations are needed to attend the ForeCyt class.
URL:https://www.med.unc.edu/flowcytometry/event/ique-screener-software-training/
END:VEVENT
END:VCALENDAR