BEGIN:VCALENDAR
VERSION:2.0
PRODID:-//Age-Based Genomic Screening (ABGS) - ECPv6.15.18//NONSGML v1.0//EN
CALSCALE:GREGORIAN
METHOD:PUBLISH
X-ORIGINAL-URL:https://www.med.unc.edu/genetics/abgs
X-WR-CALDESC:Events for Age-Based Genomic Screening (ABGS)
REFRESH-INTERVAL;VALUE=DURATION:PT1H
X-Robots-Tag:noindex
X-PUBLISHED-TTL:PT1H
BEGIN:VTIMEZONE
TZID:America/New_York
BEGIN:DAYLIGHT
TZOFFSETFROM:-0500
TZOFFSETTO:-0400
TZNAME:EDT
DTSTART:20230312T070000
END:DAYLIGHT
BEGIN:STANDARD
TZOFFSETFROM:-0400
TZOFFSETTO:-0500
TZNAME:EST
DTSTART:20231105T060000
END:STANDARD
BEGIN:DAYLIGHT
TZOFFSETFROM:-0500
TZOFFSETTO:-0400
TZNAME:EDT
DTSTART:20240310T070000
END:DAYLIGHT
BEGIN:STANDARD
TZOFFSETFROM:-0400
TZOFFSETTO:-0500
TZNAME:EST
DTSTART:20241103T060000
END:STANDARD
BEGIN:DAYLIGHT
TZOFFSETFROM:-0500
TZOFFSETTO:-0400
TZNAME:EDT
DTSTART:20250309T070000
END:DAYLIGHT
BEGIN:STANDARD
TZOFFSETFROM:-0400
TZOFFSETTO:-0500
TZNAME:EST
DTSTART:20251102T060000
END:STANDARD
BEGIN:DAYLIGHT
TZOFFSETFROM:-0500
TZOFFSETTO:-0400
TZNAME:EDT
DTSTART:20260308T070000
END:DAYLIGHT
BEGIN:STANDARD
TZOFFSETFROM:-0400
TZOFFSETTO:-0500
TZNAME:EST
DTSTART:20261101T060000
END:STANDARD
END:VTIMEZONE
BEGIN:VEVENT
DTSTART;TZID=America/New_York:20240709T123000
DTEND;TZID=America/New_York:20240709T123000
DTSTAMP:20260420T000947
CREATED:20240605T172111Z
LAST-MODIFIED:20240605T173627Z
UID:10000397-1720528200-1720528200@www.med.unc.edu
SUMMARY:ENLACE Facebook Live Information Session
DESCRIPTION:Log on to this Facebook live session hosted by ENLACE to find out how genomic screening can benefit a child’s health! Come learn about Age-Based Genomic Screening (ABGS)\, a project that helps find treatable genetic conditions during a child’s regular check-ups\, giving important health information to doctors and parents. Featuring Laura V. Milko\, Ph. D and Grace Leon-Lozano\, B.S. from ABGS.
URL:https://www.med.unc.edu/genetics/abgs/event/enlace-facebook-live-information-session/
LOCATION:NC
ATTACH;FMTTYPE=image/png:https://www.med.unc.edu/genetics/abgs/wp-content/uploads/sites/1363/2024/06/ENLACE-FB-Live-Session-07.09.24.png
END:VEVENT
BEGIN:VEVENT
DTSTART;TZID=America/New_York:20240914T100000
DTEND;TZID=America/New_York:20240914T140000
DTSTAMP:20260420T000947
CREATED:20240912T185012Z
LAST-MODIFIED:20240912T185012Z
UID:10000398-1726308000-1726322400@www.med.unc.edu
SUMMARY:Fall Community Health and Wellness Fair
DESCRIPTION:Hosted by Novant Health\, Heart for Monroe\, Walgreens\, and Wingate University\, join ABGS at the Fall Community Health and Wellness Fair. Visit our table to hear more about ABGS and stop by other tables to receive health services like flu shots\, blood pressure\, and blood sugar screenings and giveaways like free food\, dental hygiene kits\, school supplies\, and more! \nLearn more by visiting this site: LINK
URL:https://www.med.unc.edu/genetics/abgs/event/fall-community-health-and-wellness-fair/
LOCATION:Monroe Science Center\, 318 E. Franklin St.\, Monroe\, 28112\, United States
ATTACH;FMTTYPE=image/png:https://www.med.unc.edu/genetics/abgs/wp-content/uploads/sites/1363/2024/09/Screenshot-2024-09-12-at-2.41.21 PM.png
ORGANIZER;CN="Monroe University":MAILTO:l.dinkins@wingate.edu
END:VEVENT
BEGIN:VEVENT
DTSTART;TZID=America/New_York:20240921T120000
DTEND;TZID=America/New_York:20240921T180000
DTSTAMP:20260420T000947
CREATED:20240912T191424Z
LAST-MODIFIED:20240912T191424Z
UID:10000399-1726920000-1726941600@www.med.unc.edu
SUMMARY:Hispanic Heritage Fiesta
DESCRIPTION:Join the Age-Based Genomic Screening Team at the Hispanic Heritage Fiesta. Visit our table to learn more about genetics and genetic screening and then explore the rest of the event that features food\, music\, dance\, art\, and games! \nVisit this site for more information: LINK
URL:https://www.med.unc.edu/genetics/abgs/event/hispanic-heritage-fiesta/
LOCATION:Shakori Hills Art Center\, 1439 Henderson Tanyard Rd.\, Pittsboro\, 27312\, United States
ATTACH;FMTTYPE=image/png:https://www.med.unc.edu/genetics/abgs/wp-content/uploads/sites/1363/2024/09/Screenshot-2024-09-12-at-3.12.50 PM.png
END:VEVENT
BEGIN:VEVENT
DTSTART;TZID=America/New_York:20240928T100000
DTEND;TZID=America/New_York:20240928T150000
DTSTAMP:20260420T000947
CREATED:20240927T161020Z
LAST-MODIFIED:20240927T161020Z
UID:10000400-1727517600-1727535600@www.med.unc.edu
SUMMARY:Spanish Heritage Month Festival
DESCRIPTION:Join the Age-Based Genomic Screening team this Saturday\, September 28th at the Miles Magnolia Event Center in Louisburg\, NC for a Spanish Heritage Month event! After visiting our booth to learn more about genetic and genomic screening and our project\, explore the rest of the event for food\, music\, and art vendors!
URL:https://www.med.unc.edu/genetics/abgs/event/spanish-heritage-month-festival/
LOCATION:Mile Magnolia Event Center\, 24 Douglas Williams Rd\, Louisburg\, NC\, 27549\, United States
ATTACH;FMTTYPE=image/png:https://www.med.unc.edu/genetics/abgs/wp-content/uploads/sites/1363/2024/09/Screenshot-2024-09-27-at-11.58.21 AM.png
END:VEVENT
BEGIN:VEVENT
DTSTART;TZID=America/New_York:20250228T090000
DTEND;TZID=America/New_York:20250228T163000
DTSTAMP:20260420T000947
CREATED:20250212T153223Z
LAST-MODIFIED:20250212T153223Z
UID:10000401-1740733200-1740760200@www.med.unc.edu
SUMMARY:46th Annual Minority Health Conference - Bridging the Digital Divide: Leveraging Technology and Data for Health Equity
DESCRIPTION:Hosted by the Gillings School of Global Public Health\, UNC-Chapel Hill\, join the Age-Based Genomic Screening team at the 46th Annual Minority Health Conference. This year\, the theme for the conference is Bridging the Digital Divide: Leveraging Technology and Data for Health Equity. Visit our table to hear more about ABGS and hear about ways to get involved in our project! \nLearn more by visiting this site: LINK
URL:https://www.med.unc.edu/genetics/abgs/event/46th-annual-minority-health-conference-bridging-the-digital-divide-leveraging-technology-and-data-for-health-equity/
LOCATION:The Friday Conference Center\, 100 Friday Center Drive\, Chapel Hill\, NC\, 27599\, United States
ATTACH;FMTTYPE=image/png:https://www.med.unc.edu/genetics/abgs/wp-content/uploads/sites/1363/2025/02/Screenshot-2025-02-12-at-10.28.11 AM.png
END:VEVENT
BEGIN:VEVENT
DTSTART;VALUE=DATE:20250306
DTEND;VALUE=DATE:20250309
DTSTAMP:20260420T000947
CREATED:20250212T154314Z
LAST-MODIFIED:20250212T154314Z
UID:10000402-1741219200-1741478399@www.med.unc.edu
SUMMARY:2025 American Indian Unity Conference
DESCRIPTION:Hosted by the United Tribes of North Carolina\, join the Age-Based Genomic Screening team at the 2025 American Indian Unity Conference. This is the 50th annual Unity Conference and will continue to promote educational\, economic\, religious\, charitable\, and cultural activities for American Indian people. \n  \nVisit our table to hear more about ABGS and hear about ways to get involved in our project!
URL:https://www.med.unc.edu/genetics/abgs/event/2025-american-indian-unity-conference/
LOCATION:Sheraton Greensboro Hotel at Four Seasons\, Koury Convention Center\, 3121 West Gate City Blvd.\, Greensboro\, NC\, 27407\, United States
ATTACH;FMTTYPE=image/png:https://www.med.unc.edu/genetics/abgs/wp-content/uploads/sites/1363/2025/02/Screenshot-2025-02-12-at-10.35.02 AM.png
END:VEVENT
BEGIN:VEVENT
DTSTART;TZID=America/New_York:20250312T110000
DTEND;TZID=America/New_York:20250312T140000
DTSTAMP:20260420T000947
CREATED:20250311T154545Z
LAST-MODIFIED:20250311T154545Z
UID:10000404-1741777200-1741788000@www.med.unc.edu
SUMMARY:UNC Total Wellbeing Expo 2025
DESCRIPTION:Host by UNC Office of Human Resources\, The Age-Based Genomic Screening team will be tabling at the UNC Total Wellbeing Expo\, which is an event for all University staff and faculty are invited to promote total well-being!
URL:https://www.med.unc.edu/genetics/abgs/event/unc-total-wellbeing-expo-2025/
LOCATION:Fetzer Hall\, 210 South Road\, Chapel Hill\, NC\, 27599\, United States
ORGANIZER;CN="Office of Human Resources":MAILTO:hr@unc.edu
END:VEVENT
BEGIN:VEVENT
DTSTART;TZID=America/New_York:20250315T100000
DTEND;TZID=America/New_York:20250315T130000
DTSTAMP:20260420T000947
CREATED:20250311T155357Z
LAST-MODIFIED:20250311T155357Z
UID:10000405-1742032800-1742043600@www.med.unc.edu
SUMMARY:Black Family Wellness Expo
DESCRIPTION:Hosted by the Links\, INC\, join the Age-Based Genomic Screening team at the 2025 Black Family Wellness Expo. The Black Family Wellness Expo’s goal is to help reduce health and economic disparities and to save and improve lives in the Black community. There will be free health screenings\, live music and dancing\, cooking demonstrations\, vendors\, giveaways\, and more fun for the whole family! \n  \nRegistration link
URL:https://www.med.unc.edu/genetics/abgs/event/black-family-wellness-expo/
LOCATION:Southeat Raleigh YMCA\, 1436 Rock Quarry Road\, Raleigh\, NC\, 27610\, United States
END:VEVENT
BEGIN:VEVENT
DTSTART;VALUE=DATE:20250405
DTEND;VALUE=DATE:20250406
DTSTAMP:20260420T000947
CREATED:20250212T155035Z
LAST-MODIFIED:20250408T160045Z
UID:10000403-1743811200-1743897599@www.med.unc.edu
SUMMARY:UNC Science Expo
DESCRIPTION:Hosted by the UNC-Chapel Hill faculty\, students\, and staff\, join the Age-Based Genomic Screening team at the UNC Science Expo. The UNC Science Expo is a signature event of the annual North Carolina Science Festival featuring more than 100 booths staffed by UNC-Chapel Hill students\, researchers\, practitioners\, and community volunteers\, hands-on activities and games\, science demonstrations\, behind-the-scenes lab tours\, and more! \n  \nVisit our table to hear more about ABGS and hear about ways to get involved in our project!
URL:https://www.med.unc.edu/genetics/abgs/event/unc-science-expo/
LOCATION:Morehead Planetarium and Science Center\, 250 E Franklin St.\, Chapel Hill\, NC\, 27514\, United States
ATTACH;FMTTYPE=image/png:https://www.med.unc.edu/genetics/abgs/wp-content/uploads/sites/1363/2025/02/Screenshot-2025-02-12-at-10.44.59 AM.png
END:VEVENT
BEGIN:VEVENT
DTSTART;TZID=America/New_York:20250502T170000
DTEND;TZID=America/New_York:20250502T190000
DTSTAMP:20260420T000947
CREATED:20250311T160115Z
LAST-MODIFIED:20250311T160115Z
UID:10000406-1746205200-1746212400@www.med.unc.edu
SUMMARY:New Hope Elementary School STEAM Extravaganza
DESCRIPTION:Hosted by New Hope Elementary School\, join the Age-Based Genomic Screening team at the New Hope Elementary School STEAM Extravaganza!
URL:https://www.med.unc.edu/genetics/abgs/event/new-hope-elementary-school-steam-extravaganza/
LOCATION:New Hope Elem School\, 1900 New Hope Church Rd\, Chapel Hill\, NC\, 27514\, United States
END:VEVENT
END:VCALENDAR