BEGIN:VCALENDAR
VERSION:2.0
PRODID:-//Age-Based Genomic Screening (ABGS) - ECPv6.15.18//NONSGML v1.0//EN
CALSCALE:GREGORIAN
METHOD:PUBLISH
X-ORIGINAL-URL:https://www.med.unc.edu/genetics/abgs
X-WR-CALDESC:Events for Age-Based Genomic Screening (ABGS)
REFRESH-INTERVAL;VALUE=DURATION:PT1H
X-Robots-Tag:noindex
X-PUBLISHED-TTL:PT1H
BEGIN:VTIMEZONE
TZID:America/New_York
BEGIN:DAYLIGHT
TZOFFSETFROM:-0500
TZOFFSETTO:-0400
TZNAME:EDT
DTSTART:20230312T070000
END:DAYLIGHT
BEGIN:STANDARD
TZOFFSETFROM:-0400
TZOFFSETTO:-0500
TZNAME:EST
DTSTART:20231105T060000
END:STANDARD
BEGIN:DAYLIGHT
TZOFFSETFROM:-0500
TZOFFSETTO:-0400
TZNAME:EDT
DTSTART:20240310T070000
END:DAYLIGHT
BEGIN:STANDARD
TZOFFSETFROM:-0400
TZOFFSETTO:-0500
TZNAME:EST
DTSTART:20241103T060000
END:STANDARD
BEGIN:DAYLIGHT
TZOFFSETFROM:-0500
TZOFFSETTO:-0400
TZNAME:EDT
DTSTART:20250309T070000
END:DAYLIGHT
BEGIN:STANDARD
TZOFFSETFROM:-0400
TZOFFSETTO:-0500
TZNAME:EST
DTSTART:20251102T060000
END:STANDARD
END:VTIMEZONE
BEGIN:VEVENT
DTSTART;TZID=America/New_York:20240307T080000
DTEND;TZID=America/New_York:20240309T170000
DTSTAMP:20260424T220236
CREATED:20231215T142323Z
LAST-MODIFIED:20231215T142323Z
UID:10000389-1709798400-1710003600@www.med.unc.edu
SUMMARY:ABGS at the 49th Annual NC Indian Unity Conference 2024
DESCRIPTION:ABGS is planning on tabling at the United Tribes Conference in Charlotte\, NC from March 7-9\, 2024. We will be doing educational outreach about genetics and genomics and are excited talk to everyone at the conference.  \nHere is some information about the organizers\, United United Tribes of North Carolina: \n\n“United Tribes of North Carolina Purpose \nEstablished in 1982 to provide greater coordination and unity among the American Indian tribes and organizations of the state of North Carolina. We work to promote educational\, economic\, religious\, charitable and cultural activities for American Indian people.United United Tribes of North Carolina a 501(c) 3 nonprofit corporation.”
URL:https://www.med.unc.edu/genetics/abgs/event/abgs-at-the-49th-annual-nc-indian-unity-conference-2024/
LOCATION:Hilton Charlotte University Place\, Charlotte\, NC\, 8629 J M Keynes Dr\, Charlotte\, NC\, 28262\, United States
ATTACH;FMTTYPE=image/jpeg:https://www.med.unc.edu/genetics/abgs/wp-content/uploads/sites/1363/2023/12/The-49th-Annual-N.C.-Indian-Unity-Conference-with-details-on-the-event-.jpeg
END:VEVENT
END:VCALENDAR