BEGIN:VCALENDAR
VERSION:2.0
PRODID:-//Age-Based Genomic Screening (ABGS) - ECPv6.15.18//NONSGML v1.0//EN
CALSCALE:GREGORIAN
METHOD:PUBLISH
X-ORIGINAL-URL:https://www.med.unc.edu/genetics/abgs
X-WR-CALDESC:Events for Age-Based Genomic Screening (ABGS)
REFRESH-INTERVAL;VALUE=DURATION:PT1H
X-Robots-Tag:noindex
X-PUBLISHED-TTL:PT1H
BEGIN:VTIMEZONE
TZID:America/New_York
BEGIN:DAYLIGHT
TZOFFSETFROM:-0500
TZOFFSETTO:-0400
TZNAME:EDT
DTSTART:20230312T070000
END:DAYLIGHT
BEGIN:STANDARD
TZOFFSETFROM:-0400
TZOFFSETTO:-0500
TZNAME:EST
DTSTART:20231105T060000
END:STANDARD
BEGIN:DAYLIGHT
TZOFFSETFROM:-0500
TZOFFSETTO:-0400
TZNAME:EDT
DTSTART:20240310T070000
END:DAYLIGHT
BEGIN:STANDARD
TZOFFSETFROM:-0400
TZOFFSETTO:-0500
TZNAME:EST
DTSTART:20241103T060000
END:STANDARD
BEGIN:DAYLIGHT
TZOFFSETFROM:-0500
TZOFFSETTO:-0400
TZNAME:EDT
DTSTART:20250309T070000
END:DAYLIGHT
BEGIN:STANDARD
TZOFFSETFROM:-0400
TZOFFSETTO:-0500
TZNAME:EST
DTSTART:20251102T060000
END:STANDARD
END:VTIMEZONE
BEGIN:VEVENT
DTSTART;TZID=America/New_York:20240928T100000
DTEND;TZID=America/New_York:20240928T150000
DTSTAMP:20260424T081558
CREATED:20240927T161020Z
LAST-MODIFIED:20240927T161020Z
UID:10000400-1727517600-1727535600@www.med.unc.edu
SUMMARY:Spanish Heritage Month Festival
DESCRIPTION:Join the Age-Based Genomic Screening team this Saturday\, September 28th at the Miles Magnolia Event Center in Louisburg\, NC for a Spanish Heritage Month event! After visiting our booth to learn more about genetic and genomic screening and our project\, explore the rest of the event for food\, music\, and art vendors!
URL:https://www.med.unc.edu/genetics/abgs/event/spanish-heritage-month-festival/
LOCATION:Mile Magnolia Event Center\, 24 Douglas Williams Rd\, Louisburg\, NC\, 27549\, United States
ATTACH;FMTTYPE=image/png:https://www.med.unc.edu/genetics/abgs/wp-content/uploads/sites/1363/2024/09/Screenshot-2024-09-27-at-11.58.21 AM.png
END:VEVENT
END:VCALENDAR