BEGIN:VCALENDAR
VERSION:2.0
PRODID:-//Age-Based Genomic Screening (ABGS) - ECPv6.15.18//NONSGML v1.0//EN
CALSCALE:GREGORIAN
METHOD:PUBLISH
X-ORIGINAL-URL:https://www.med.unc.edu/genetics/abgs
X-WR-CALDESC:Events for Age-Based Genomic Screening (ABGS)
REFRESH-INTERVAL;VALUE=DURATION:PT1H
X-Robots-Tag:noindex
X-PUBLISHED-TTL:PT1H
BEGIN:VTIMEZONE
TZID:America/New_York
BEGIN:DAYLIGHT
TZOFFSETFROM:-0500
TZOFFSETTO:-0400
TZNAME:EDT
DTSTART:20240310T070000
END:DAYLIGHT
BEGIN:STANDARD
TZOFFSETFROM:-0400
TZOFFSETTO:-0500
TZNAME:EST
DTSTART:20241103T060000
END:STANDARD
BEGIN:DAYLIGHT
TZOFFSETFROM:-0500
TZOFFSETTO:-0400
TZNAME:EDT
DTSTART:20250309T070000
END:DAYLIGHT
BEGIN:STANDARD
TZOFFSETFROM:-0400
TZOFFSETTO:-0500
TZNAME:EST
DTSTART:20251102T060000
END:STANDARD
BEGIN:DAYLIGHT
TZOFFSETFROM:-0500
TZOFFSETTO:-0400
TZNAME:EDT
DTSTART:20260308T070000
END:DAYLIGHT
BEGIN:STANDARD
TZOFFSETFROM:-0400
TZOFFSETTO:-0500
TZNAME:EST
DTSTART:20261101T060000
END:STANDARD
END:VTIMEZONE
BEGIN:VEVENT
DTSTART;VALUE=DATE:20250405
DTEND;VALUE=DATE:20250406
DTSTAMP:20260422T225201
CREATED:20250212T155035Z
LAST-MODIFIED:20250408T160045Z
UID:10000403-1743811200-1743897599@www.med.unc.edu
SUMMARY:UNC Science Expo
DESCRIPTION:Hosted by the UNC-Chapel Hill faculty\, students\, and staff\, join the Age-Based Genomic Screening team at the UNC Science Expo. The UNC Science Expo is a signature event of the annual North Carolina Science Festival featuring more than 100 booths staffed by UNC-Chapel Hill students\, researchers\, practitioners\, and community volunteers\, hands-on activities and games\, science demonstrations\, behind-the-scenes lab tours\, and more! \n  \nVisit our table to hear more about ABGS and hear about ways to get involved in our project!
URL:https://www.med.unc.edu/genetics/abgs/event/unc-science-expo/
LOCATION:Morehead Planetarium and Science Center\, 250 E Franklin St.\, Chapel Hill\, NC\, 27514\, United States
ATTACH;FMTTYPE=image/png:https://www.med.unc.edu/genetics/abgs/wp-content/uploads/sites/1363/2025/02/Screenshot-2025-02-12-at-10.44.59 AM.png
END:VEVENT
END:VCALENDAR