BEGIN:VCALENDAR
VERSION:2.0
PRODID:-//Department of Genetics - ECPv6.15.18//NONSGML v1.0//EN
CALSCALE:GREGORIAN
METHOD:PUBLISH
X-ORIGINAL-URL:https://www.med.unc.edu/genetics
X-WR-CALDESC:Events for Department of Genetics
REFRESH-INTERVAL;VALUE=DURATION:PT1H
X-Robots-Tag:noindex
X-PUBLISHED-TTL:PT1H
BEGIN:VTIMEZONE
TZID:America/New_York
BEGIN:DAYLIGHT
TZOFFSETFROM:-0500
TZOFFSETTO:-0400
TZNAME:EDT
DTSTART:20240310T070000
END:DAYLIGHT
BEGIN:STANDARD
TZOFFSETFROM:-0400
TZOFFSETTO:-0500
TZNAME:EST
DTSTART:20241103T060000
END:STANDARD
BEGIN:DAYLIGHT
TZOFFSETFROM:-0500
TZOFFSETTO:-0400
TZNAME:EDT
DTSTART:20250309T070000
END:DAYLIGHT
BEGIN:STANDARD
TZOFFSETFROM:-0400
TZOFFSETTO:-0500
TZNAME:EST
DTSTART:20251102T060000
END:STANDARD
BEGIN:DAYLIGHT
TZOFFSETFROM:-0500
TZOFFSETTO:-0400
TZNAME:EDT
DTSTART:20260308T070000
END:DAYLIGHT
BEGIN:STANDARD
TZOFFSETFROM:-0400
TZOFFSETTO:-0500
TZNAME:EST
DTSTART:20261101T060000
END:STANDARD
END:VTIMEZONE
BEGIN:VEVENT
DTSTART;TZID=America/New_York:20250110T120000
DTEND;TZID=America/New_York:20250110T130000
DTSTAMP:20260420T220814
CREATED:20250103T041811Z
LAST-MODIFIED:20250103T041811Z
UID:10001795-1736510400-1736514000@www.med.unc.edu
SUMMARY:Friday – GMB/BCB Seminar Series: Jeffrey Bailey
DESCRIPTION:GMB/BCB Friday Seminar Series\nThe GMB/BCB Friday Seminar Series welcomes Jeffrey Bailey\, Mencoff Family Associate Professor of Translational Research\, Department of Pathology and Laboratory Medicine at Brown University\, on Friday\, January 10\, 2025. Dr. Bailey’s talk title is “The genomics and genetics of emerging drug and diagnostic resistance in Plasmodium falciparum in sub-Saharan Africa”. Dr. Bailey is hosted by UNC’s Genetic and Molecular Biology Graduate Students.
URL:https://www.med.unc.edu/genetics/event/friday-gmb-bcb-seminar-series-jeffrey-bailey/
LOCATION:1131 Bioinformatics Building\, 125 Mason Farm Road\, Chapel Hill\, NC\, 27514\, United States
CATEGORIES:Friday - BCB Seminar Series,Friday - GMB Seminar Series
ATTACH;FMTTYPE=image/jpeg:https://www.med.unc.edu/genetics/wp-content/uploads/sites/481/2025/01/GMB-BCB-Seminars-25-0110-Jeffrey-Bailey.jpg
GEO:35.9024976;-79.0538753
X-APPLE-STRUCTURED-LOCATION;VALUE=URI;X-ADDRESS=1131 Bioinformatics Building 125 Mason Farm Road Chapel Hill NC 27514 United States;X-APPLE-RADIUS=500;X-TITLE=125 Mason Farm Road:geo:-79.0538753,35.9024976
END:VEVENT
BEGIN:VEVENT
DTSTART;TZID=America/New_York:20250117T120000
DTEND;TZID=America/New_York:20250117T130000
DTSTAMP:20260420T220814
CREATED:20250113T140842Z
LAST-MODIFIED:20250117T122611Z
UID:10001798-1737115200-1737118800@www.med.unc.edu
SUMMARY:CANCELLED Friday – GMB/BCB Seminar Series: Alexander Gusev
DESCRIPTION:GMB/BCB Friday Seminar Series – CANCELLED\nThe GMB/BCB Friday Seminar Series welcomes Alexander Gusev\, Associate Professor at Dana-Farber Cancer Institute/Harvard Medical School\, on Friday\, January 17\, 2025. Dr. Gusev’s talk title is “Leveraging large-scale epigenetic variation to identify novel context-specific disease mechanisms”. Dr. Gusev is hosted by Jason Stein\, Associate Professor of Genetics.
URL:https://www.med.unc.edu/genetics/event/friday-gmb-bcb-seminar-series-alexander-gusev/
LOCATION:1131 Bioinformatics Building\, 125 Mason Farm Road\, Chapel Hill\, NC\, 27514\, United States
CATEGORIES:Friday - BCB Seminar Series,Friday - GMB Seminar Series
ATTACH;FMTTYPE=image/jpeg:https://www.med.unc.edu/genetics/wp-content/uploads/sites/481/2025/01/GMB-BCB-Seminars-25-0117-Alexander-Gusev.jpg
GEO:35.9024976;-79.0538753
X-APPLE-STRUCTURED-LOCATION;VALUE=URI;X-ADDRESS=1131 Bioinformatics Building 125 Mason Farm Road Chapel Hill NC 27514 United States;X-APPLE-RADIUS=500;X-TITLE=125 Mason Farm Road:geo:-79.0538753,35.9024976
END:VEVENT
END:VCALENDAR