BEGIN:VCALENDAR
VERSION:2.0
PRODID:-//Department of Genetics - ECPv6.15.18//NONSGML v1.0//EN
CALSCALE:GREGORIAN
METHOD:PUBLISH
X-ORIGINAL-URL:https://www.med.unc.edu/genetics
X-WR-CALDESC:Events for Department of Genetics
REFRESH-INTERVAL;VALUE=DURATION:PT1H
X-Robots-Tag:noindex
X-PUBLISHED-TTL:PT1H
BEGIN:VTIMEZONE
TZID:America/New_York
BEGIN:DAYLIGHT
TZOFFSETFROM:-0500
TZOFFSETTO:-0400
TZNAME:EDT
DTSTART:20240310T070000
END:DAYLIGHT
BEGIN:STANDARD
TZOFFSETFROM:-0400
TZOFFSETTO:-0500
TZNAME:EST
DTSTART:20241103T060000
END:STANDARD
BEGIN:DAYLIGHT
TZOFFSETFROM:-0500
TZOFFSETTO:-0400
TZNAME:EDT
DTSTART:20250309T070000
END:DAYLIGHT
BEGIN:STANDARD
TZOFFSETFROM:-0400
TZOFFSETTO:-0500
TZNAME:EST
DTSTART:20251102T060000
END:STANDARD
BEGIN:DAYLIGHT
TZOFFSETFROM:-0500
TZOFFSETTO:-0400
TZNAME:EDT
DTSTART:20260308T070000
END:DAYLIGHT
BEGIN:STANDARD
TZOFFSETFROM:-0400
TZOFFSETTO:-0500
TZNAME:EST
DTSTART:20261101T060000
END:STANDARD
BEGIN:DAYLIGHT
TZOFFSETFROM:-0500
TZOFFSETTO:-0400
TZNAME:EDT
DTSTART:20270314T070000
END:DAYLIGHT
BEGIN:STANDARD
TZOFFSETFROM:-0400
TZOFFSETTO:-0500
TZNAME:EST
DTSTART:20271107T060000
END:STANDARD
END:VTIMEZONE
BEGIN:VEVENT
DTSTART;TZID=America/New_York:20251110T090000
DTEND;TZID=America/New_York:20251110T100000
DTSTAMP:20260424T105721
CREATED:20251103T155440Z
LAST-MODIFIED:20251103T155440Z
UID:10001933-1762765200-1762768800@www.med.unc.edu
SUMMARY:Monday – GMB Defense: Mickey Murvin
DESCRIPTION:GMB Curriculum Student Defense\nGMB Curriculum Student Defense: Mickey Murvin\, student of Mauro Calabrese. Presented in partial satisfaction of the requirements for the degree of Doctor of Philosophy.
URL:https://www.med.unc.edu/genetics/event/monday-gmb-defense-mickey-murvin/
LOCATION:G100 Bondurant\, 321 S. Columnbia St.\, Chapel Hill\, NC\, 27599\, United States
CATEGORIES:GMB Defenses/Special Events
ATTACH;FMTTYPE=image/jpeg:https://www.med.unc.edu/genetics/wp-content/uploads/sites/481/2025/11/Mickey-Murvin_Defense-Announcement-25-1110-scaled.jpg
GEO:35.905249;-79.0581498
X-APPLE-STRUCTURED-LOCATION;VALUE=URI;X-ADDRESS=G100 Bondurant 321 S. Columnbia St. Chapel Hill NC 27599 United States;X-APPLE-RADIUS=500;X-TITLE=321 S. Columnbia St.:geo:-79.0581498,35.905249
END:VEVENT
BEGIN:VEVENT
DTSTART;TZID=America/New_York:20260106T110000
DTEND;TZID=America/New_York:20260106T120000
DTSTAMP:20260424T105721
CREATED:20251223T172828Z
LAST-MODIFIED:20251223T172828Z
UID:10001943-1767697200-1767700800@www.med.unc.edu
SUMMARY:Tuesday – GMB Defense: Jessica McAfee
DESCRIPTION:GMB Curriculum Student Defense\nGMB Curriculum Student Defense: Jessica McAfee\, student of Hyejung Won. Presented in partial satisfaction of the requirements for the degree of Doctor of Philosophy.
URL:https://www.med.unc.edu/genetics/event/tuesday-gmb-defense-jessica-mcafee/
LOCATION:1131 Bioinformatics Building\, 125 Mason Farm Road\, Chapel Hill\, NC\, 27514\, United States
CATEGORIES:GMB Defenses/Special Events
ATTACH;FMTTYPE=image/jpeg:https://www.med.unc.edu/genetics/wp-content/uploads/sites/481/2025/12/Jessica-McAfee_Defense-Announcement-26-0106-scaled.jpg
GEO:35.9024976;-79.0538753
X-APPLE-STRUCTURED-LOCATION;VALUE=URI;X-ADDRESS=1131 Bioinformatics Building 125 Mason Farm Road Chapel Hill NC 27514 United States;X-APPLE-RADIUS=500;X-TITLE=125 Mason Farm Road:geo:-79.0538753,35.9024976
END:VEVENT
BEGIN:VEVENT
DTSTART;TZID=America/New_York:20260122T140000
DTEND;TZID=America/New_York:20260122T150000
DTSTAMP:20260424T105721
CREATED:20260109T205953Z
LAST-MODIFIED:20260109T205953Z
UID:10001952-1769090400-1769094000@www.med.unc.edu
SUMMARY:Thursday – GMB Defense: Yibo Si
DESCRIPTION:GMB Curriculum Student Defense\nGMB Curriculum Student Defense: Yibo Si\, student of Henrik Dohlman. Presented in partial satisfaction of the requirements for the degree of Doctor of Philosophy.
URL:https://www.med.unc.edu/genetics/event/thursday-gmb-defense-yibo-si/
LOCATION:1131 Bioinformatics Building\, 125 Mason Farm Road\, Chapel Hill\, NC\, 27514\, United States
CATEGORIES:GMB Defenses/Special Events
ATTACH;FMTTYPE=image/jpeg:https://www.med.unc.edu/genetics/wp-content/uploads/sites/481/2026/01/Yibo-Si_Defense-Announcement-26-0122-scaled.jpg
GEO:35.9024976;-79.0538753
X-APPLE-STRUCTURED-LOCATION;VALUE=URI;X-ADDRESS=1131 Bioinformatics Building 125 Mason Farm Road Chapel Hill NC 27514 United States;X-APPLE-RADIUS=500;X-TITLE=125 Mason Farm Road:geo:-79.0538753,35.9024976
END:VEVENT
BEGIN:VEVENT
DTSTART;TZID=America/New_York:20260128T090000
DTEND;TZID=America/New_York:20260128T100000
DTSTAMP:20260424T105721
CREATED:20260113T210919Z
LAST-MODIFIED:20260126T123439Z
UID:10001957-1769590800-1769594400@www.med.unc.edu
SUMMARY:Wednesday – GMB Defense: Carolyn Turcotte
DESCRIPTION:GMB Curriculum Student Defense\nGMB Curriculum Student Defense: Carolyn Turcotte\, student of Jeff Sekelsky. Presented in partial satisfaction of the requirements for the degree of Doctor of Philosophy. \n*Note new date\, time\, and location due to weather conditions.
URL:https://www.med.unc.edu/genetics/event/wednesday-gmb-defense-carolyn-turcotte/
LOCATION:G100 Bondurant\, 321 S. Columnbia St.\, Chapel Hill\, NC\, 27599\, United States
CATEGORIES:GMB Defenses/Special Events
ATTACH;FMTTYPE=image/jpeg:https://www.med.unc.edu/genetics/wp-content/uploads/sites/481/2026/01/Carolyn-Turcotte_Defense-Announcement-26-0128-scaled.jpg
GEO:35.905249;-79.0581498
X-APPLE-STRUCTURED-LOCATION;VALUE=URI;X-ADDRESS=G100 Bondurant 321 S. Columnbia St. Chapel Hill NC 27599 United States;X-APPLE-RADIUS=500;X-TITLE=321 S. Columnbia St.:geo:-79.0581498,35.905249
END:VEVENT
BEGIN:VEVENT
DTSTART;TZID=America/New_York:20260226T150000
DTEND;TZID=America/New_York:20260226T160000
DTSTAMP:20260424T105721
CREATED:20260213T204446Z
LAST-MODIFIED:20260213T204510Z
UID:10001977-1772118000-1772121600@www.med.unc.edu
SUMMARY:Thursday – GMB Defense: Riya Gohil
DESCRIPTION:GMB Curriculum Student Defense\nGMB Curriculum Student Defense: Riya Gohil\, student of Jill Dowen. Presented in partial satisfaction of the requirements for the degree of Doctor of Philosophy.
URL:https://www.med.unc.edu/genetics/event/thursday-gmb-defense-riya-gohil/
LOCATION:G100 Bondurant\, 321 S. Columnbia St.\, Chapel Hill\, NC\, 27599\, United States
CATEGORIES:GMB Defenses/Special Events
ATTACH;FMTTYPE=image/jpeg:https://www.med.unc.edu/genetics/wp-content/uploads/sites/481/2026/02/Riya-Gohil_Defense-Announcement-26-0226-scaled.jpg
GEO:35.905249;-79.0581498
X-APPLE-STRUCTURED-LOCATION;VALUE=URI;X-ADDRESS=G100 Bondurant 321 S. Columnbia St. Chapel Hill NC 27599 United States;X-APPLE-RADIUS=500;X-TITLE=321 S. Columnbia St.:geo:-79.0581498,35.905249
END:VEVENT
BEGIN:VEVENT
DTSTART;TZID=America/New_York:20260312T150000
DTEND;TZID=America/New_York:20260312T160000
DTSTAMP:20260424T105721
CREATED:20260227T192516Z
LAST-MODIFIED:20260227T192516Z
UID:10001985-1773327600-1773331200@www.med.unc.edu
SUMMARY:Thursday – GMB Defense: Sharon Edmiston
DESCRIPTION:GMB Curriculum Student Defense\nGMB Curriculum Student Defense: Sharon Edmiston\, student of Nancy Thomas. Presented in partial satisfaction of the requirements for the degree of Doctor of Philosophy.
URL:https://www.med.unc.edu/genetics/event/thursday-gmb-defense-sharon-edmiston/
LOCATION:G100 Bondurant\, 321 S. Columnbia St.\, Chapel Hill\, NC\, 27599\, United States
CATEGORIES:GMB Defenses/Special Events
ATTACH;FMTTYPE=image/jpeg:https://www.med.unc.edu/genetics/wp-content/uploads/sites/481/2026/02/Sharon-Edmiston_Defense-Announcement-26-0312-scaled.jpg
GEO:35.905249;-79.0581498
X-APPLE-STRUCTURED-LOCATION;VALUE=URI;X-ADDRESS=G100 Bondurant 321 S. Columnbia St. Chapel Hill NC 27599 United States;X-APPLE-RADIUS=500;X-TITLE=321 S. Columnbia St.:geo:-79.0581498,35.905249
END:VEVENT
BEGIN:VEVENT
DTSTART;TZID=America/New_York:20260316T120000
DTEND;TZID=America/New_York:20260316T130000
DTSTAMP:20260424T105721
CREATED:20260305T201238Z
LAST-MODIFIED:20260305T201238Z
UID:10001991-1773662400-1773666000@www.med.unc.edu
SUMMARY:Monday – GMB Defense: Fred Koitz
DESCRIPTION:GMB Curriculum Student Defense\nGMB Curriculum Student Defense: Fred Koitz\, student of Kacy Gordon. Presented in partial satisfaction of the requirements for the degree of Doctor of Philosophy.
URL:https://www.med.unc.edu/genetics/event/monday-gmb-defense-fred-koitz/
LOCATION:215 Coker Hall\, Chapel Hill\, NC\, United States
CATEGORIES:GMB Defenses/Special Events
ATTACH;FMTTYPE=image/jpeg:https://www.med.unc.edu/genetics/wp-content/uploads/sites/481/2026/03/Fred-Koitz_Defense-Announcement-26-0316-scaled.jpg
END:VEVENT
BEGIN:VEVENT
DTSTART;TZID=America/New_York:20260402T090000
DTEND;TZID=America/New_York:20260402T100000
DTSTAMP:20260424T105721
CREATED:20260319T184643Z
LAST-MODIFIED:20260319T184643Z
UID:10002000-1775120400-1775124000@www.med.unc.edu
SUMMARY:Thursday – GMB Defense: Chloe Whitworth
DESCRIPTION:GMB Curriculum Student Defense\nGMB Curriculum Student Defense: Chloe Whitworth\, student of Bill Polacheck and Vicki Bautch. Presented in partial satisfaction of the requirements for the degree of Doctor of Philosophy.
URL:https://www.med.unc.edu/genetics/event/thursday-gmb-defense-chloe-whitworth/
LOCATION:1131 Bioinformatics Building\, 125 Mason Farm Road\, Chapel Hill\, NC\, 27514\, United States
CATEGORIES:GMB Defenses/Special Events
ATTACH;FMTTYPE=image/jpeg:https://www.med.unc.edu/genetics/wp-content/uploads/sites/481/2026/03/Chloe-Whitworth_Defense-Announcement-26-0402-scaled.jpg
GEO:35.9024976;-79.0538753
X-APPLE-STRUCTURED-LOCATION;VALUE=URI;X-ADDRESS=1131 Bioinformatics Building 125 Mason Farm Road Chapel Hill NC 27514 United States;X-APPLE-RADIUS=500;X-TITLE=125 Mason Farm Road:geo:-79.0538753,35.9024976
END:VEVENT
BEGIN:VEVENT
DTSTART;TZID=America/New_York:20260407T120000
DTEND;TZID=America/New_York:20260407T130000
DTSTAMP:20260424T105721
CREATED:20260325T143450Z
LAST-MODIFIED:20260325T143450Z
UID:10002004-1775563200-1775566800@www.med.unc.edu
SUMMARY:Tuesday – GMB Defense: Brian Gural
DESCRIPTION:GMB Curriculum Student Defense\nGMB Curriculum Student Defense: Brian Gural\, student of Christoph Rau. Presented in partial satisfaction of the requirements for the degree of Doctor of Philosophy.
URL:https://www.med.unc.edu/genetics/event/tuesday-gmb-defense-brian-gural/
LOCATION:1131 Bioinformatics Building\, 125 Mason Farm Road\, Chapel Hill\, NC\, 27514\, United States
CATEGORIES:GMB Defenses/Special Events
ATTACH;FMTTYPE=image/jpeg:https://www.med.unc.edu/genetics/wp-content/uploads/sites/481/2026/03/Brian-Gural_Defense-Announcement-26-0407-scaled.jpg
GEO:35.9024976;-79.0538753
X-APPLE-STRUCTURED-LOCATION;VALUE=URI;X-ADDRESS=1131 Bioinformatics Building 125 Mason Farm Road Chapel Hill NC 27514 United States;X-APPLE-RADIUS=500;X-TITLE=125 Mason Farm Road:geo:-79.0538753,35.9024976
END:VEVENT
BEGIN:VEVENT
DTSTART;TZID=America/New_York:20260407T133000
DTEND;TZID=America/New_York:20260407T143000
DTSTAMP:20260424T105721
CREATED:20260326T152108Z
LAST-MODIFIED:20260326T152108Z
UID:10002008-1775568600-1775572200@www.med.unc.edu
SUMMARY:Tuesday – GMB Defense: Noor Singh
DESCRIPTION:GMB Curriculum Student Defense\nGMB Curriculum Student Defense: Noor Singh\, student of Kacy Gordon. Presented in partial satisfaction of the requirements for the degree of Doctor of Philosophy.
URL:https://www.med.unc.edu/genetics/event/tuesday-gmb-defense-noor-singh/
LOCATION:1131 Bioinformatics Building\, 125 Mason Farm Road\, Chapel Hill\, NC\, 27514\, United States
CATEGORIES:GMB Defenses/Special Events
ATTACH;FMTTYPE=image/jpeg:https://www.med.unc.edu/genetics/wp-content/uploads/sites/481/2026/03/Noor-Singh_Defense-Announcement-26-0407-scaled.jpg
GEO:35.9024976;-79.0538753
X-APPLE-STRUCTURED-LOCATION;VALUE=URI;X-ADDRESS=1131 Bioinformatics Building 125 Mason Farm Road Chapel Hill NC 27514 United States;X-APPLE-RADIUS=500;X-TITLE=125 Mason Farm Road:geo:-79.0538753,35.9024976
END:VEVENT
BEGIN:VEVENT
DTSTART;TZID=America/New_York:20260407T143000
DTEND;TZID=America/New_York:20260407T153000
DTSTAMP:20260424T105721
CREATED:20260327T121004Z
LAST-MODIFIED:20260327T121004Z
UID:10002009-1775572200-1775575800@www.med.unc.edu
SUMMARY:Tuesday – GMB Defense: Ian Curtin
DESCRIPTION:GMB Curriculum Student Defense\nGMB Curriculum Student Defense: Ian Curtin\, student of Jason Stein. Presented in partial satisfaction of the requirements for the degree of Doctor of Philosophy.
URL:https://www.med.unc.edu/genetics/event/tuesday-gmb-defense-ian-curtin/
LOCATION:1131 Bioinformatics Building\, 125 Mason Farm Road\, Chapel Hill\, NC\, 27514\, United States
CATEGORIES:GMB Defenses/Special Events
ATTACH;FMTTYPE=image/jpeg:https://www.med.unc.edu/genetics/wp-content/uploads/sites/481/2026/03/Ian-Curtin_Defense-Announcement-26-0407-scaled.jpg
GEO:35.9024976;-79.0538753
X-APPLE-STRUCTURED-LOCATION;VALUE=URI;X-ADDRESS=1131 Bioinformatics Building 125 Mason Farm Road Chapel Hill NC 27514 United States;X-APPLE-RADIUS=500;X-TITLE=125 Mason Farm Road:geo:-79.0538753,35.9024976
END:VEVENT
BEGIN:VEVENT
DTSTART;TZID=America/New_York:20260408T120000
DTEND;TZID=America/New_York:20260408T130000
DTSTAMP:20260424T105721
CREATED:20260325T142706Z
LAST-MODIFIED:20260326T122940Z
UID:10002002-1775649600-1775653200@www.med.unc.edu
SUMMARY:Wednesday – GMB Defense: Gabrielle Quickstad
DESCRIPTION:GMB Curriculum Student Defense\nGMB Curriculum Student Defense: Gabrielle Quickstad\, student of Karl Shpargel and Terry Magnuson. Presented in partial satisfaction of the requirements for the degree of Doctor of Philosophy.
URL:https://www.med.unc.edu/genetics/event/wednesday-gmb-defense-gabrielle-quickstad/
LOCATION:1131 Bioinformatics Building\, 125 Mason Farm Road\, Chapel Hill\, NC\, 27514\, United States
CATEGORIES:GMB Defenses/Special Events
ATTACH;FMTTYPE=image/jpeg:https://www.med.unc.edu/genetics/wp-content/uploads/sites/481/2026/03/Gabrielle-Quickstad_Defense-Announcement-26-0408-1-scaled.jpg
GEO:35.9024976;-79.0538753
X-APPLE-STRUCTURED-LOCATION;VALUE=URI;X-ADDRESS=1131 Bioinformatics Building 125 Mason Farm Road Chapel Hill NC 27514 United States;X-APPLE-RADIUS=500;X-TITLE=125 Mason Farm Road:geo:-79.0538753,35.9024976
END:VEVENT
BEGIN:VEVENT
DTSTART;TZID=America/New_York:20260501T130000
DTEND;TZID=America/New_York:20260501T140000
DTSTAMP:20260424T105721
CREATED:20260417T172142Z
LAST-MODIFIED:20260417T172142Z
UID:10002020-1777640400-1777644000@www.med.unc.edu
SUMMARY:Friday – GMB Defense: Oscar Arroyo
DESCRIPTION:GMB Curriculum Student Defense\nGMB Curriculum Student Defense: Oscar Arroyo\, student of Daniel McKay. Presented in partial satisfaction of the requirements for the degree of Doctor of Philosophy.
URL:https://www.med.unc.edu/genetics/event/friday-gmb-defense-oscar-arroyo/
LOCATION:1131 Bioinformatics Building\, 125 Mason Farm Road\, Chapel Hill\, NC\, 27514\, United States
CATEGORIES:GMB Defenses/Special Events
ATTACH;FMTTYPE=image/jpeg:https://www.med.unc.edu/genetics/wp-content/uploads/sites/481/2026/04/Oscar-Arroyo_Defense-Announcement-26-0501-scaled.jpg
GEO:35.9024976;-79.0538753
X-APPLE-STRUCTURED-LOCATION;VALUE=URI;X-ADDRESS=1131 Bioinformatics Building 125 Mason Farm Road Chapel Hill NC 27514 United States;X-APPLE-RADIUS=500;X-TITLE=125 Mason Farm Road:geo:-79.0538753,35.9024976
END:VEVENT
END:VCALENDAR