BEGIN:VCALENDAR
VERSION:2.0
PRODID:-//Department of Genetics - ECPv6.15.18//NONSGML v1.0//EN
CALSCALE:GREGORIAN
METHOD:PUBLISH
X-ORIGINAL-URL:https://www.med.unc.edu/genetics
X-WR-CALDESC:Events for Department of Genetics
REFRESH-INTERVAL;VALUE=DURATION:PT1H
X-Robots-Tag:noindex
X-PUBLISHED-TTL:PT1H
BEGIN:VTIMEZONE
TZID:America/New_York
BEGIN:DAYLIGHT
TZOFFSETFROM:-0500
TZOFFSETTO:-0400
TZNAME:EDT
DTSTART:20250309T070000
END:DAYLIGHT
BEGIN:STANDARD
TZOFFSETFROM:-0400
TZOFFSETTO:-0500
TZNAME:EST
DTSTART:20251102T060000
END:STANDARD
BEGIN:DAYLIGHT
TZOFFSETFROM:-0500
TZOFFSETTO:-0400
TZNAME:EDT
DTSTART:20260308T070000
END:DAYLIGHT
BEGIN:STANDARD
TZOFFSETFROM:-0400
TZOFFSETTO:-0500
TZNAME:EST
DTSTART:20261101T060000
END:STANDARD
BEGIN:DAYLIGHT
TZOFFSETFROM:-0500
TZOFFSETTO:-0400
TZNAME:EDT
DTSTART:20270314T070000
END:DAYLIGHT
BEGIN:STANDARD
TZOFFSETFROM:-0400
TZOFFSETTO:-0500
TZNAME:EST
DTSTART:20271107T060000
END:STANDARD
END:VTIMEZONE
BEGIN:VEVENT
DTSTART;TZID=America/New_York:20260518T120000
DTEND;TZID=America/New_York:20260518T130000
DTSTAMP:20260422T184914
CREATED:20260422T114836Z
LAST-MODIFIED:20260422T115133Z
UID:10002022-1779105600-1779109200@www.med.unc.edu
SUMMARY:Monday - UNC Department of Genetics Faculty Meeting: May 2026
DESCRIPTION:UNC Department of Genetics Faculty Meeting \nMonday\, May 18 / 12-1pm \n6004 Marsico Hall
URL:https://www.med.unc.edu/genetics/event/monday-unc-department-of-genetics-faculty-meeting-may-2026/
LOCATION:6004 Marsico Hall\, 125 Mason Farm Road\, Chapel Hill\, NC\, 27599\, United States
CATEGORIES:Genetics Department Special Seminars/Events
ATTACH;FMTTYPE=image/jpeg:https://www.med.unc.edu/genetics/wp-content/uploads/sites/481/2026/04/Genetics-Faculty-Meeting-6004-Marsico-Hall.jpg
GEO:35.9023878;-79.0538372
X-APPLE-STRUCTURED-LOCATION;VALUE=URI;X-ADDRESS=6004 Marsico Hall 125 Mason Farm Road Chapel Hill NC 27599 United States;X-APPLE-RADIUS=500;X-TITLE=125 Mason Farm Road:geo:-79.0538372,35.9023878
END:VEVENT
BEGIN:VEVENT
DTSTART;TZID=America/New_York:20260603T120000
DTEND;TZID=America/New_York:20260603T130000
DTSTAMP:20260422T184914
CREATED:20260325T151657Z
LAST-MODIFIED:20260331T142028Z
UID:10002006-1780488000-1780491600@www.med.unc.edu
SUMMARY:Wednesday – Department of Genetics Colloquium: Jason Stein
DESCRIPTION:Genetics Research Colloquium\nThe UNC Department of Genetics Research Colloquium welcomes Jason Stein\, Associate Professor of Genetics\, UNC Neuroscience Center on Wednesday\, June 3\, 2026. \nMechanisms underlying genetic and environmental associations with autism
URL:https://www.med.unc.edu/genetics/event/wednesday-department-of-genetics-colloquium-jason-stein/
LOCATION:1131 Bioinformatics Building\, 125 Mason Farm Road\, Chapel Hill\, NC\, 27514\, United States
CATEGORIES:Wednesday - Genetics Department Research Colloquium
ATTACH;FMTTYPE=image/jpeg:https://www.med.unc.edu/genetics/wp-content/uploads/sites/481/2026/03/Genetics-Colloquium_26-0603-Jason-Stein.jpg
GEO:35.9024976;-79.0538753
X-APPLE-STRUCTURED-LOCATION;VALUE=URI;X-ADDRESS=1131 Bioinformatics Building 125 Mason Farm Road Chapel Hill NC 27514 United States;X-APPLE-RADIUS=500;X-TITLE=125 Mason Farm Road:geo:-79.0538753,35.9024976
END:VEVENT
END:VCALENDAR