BEGIN:VCALENDAR
VERSION:2.0
PRODID:-//Department of Genetics - ECPv6.15.18//NONSGML v1.0//EN
CALSCALE:GREGORIAN
METHOD:PUBLISH
X-ORIGINAL-URL:https://www.med.unc.edu/genetics
X-WR-CALDESC:Events for Department of Genetics
REFRESH-INTERVAL;VALUE=DURATION:PT1H
X-Robots-Tag:noindex
X-PUBLISHED-TTL:PT1H
BEGIN:VTIMEZONE
TZID:America/New_York
BEGIN:DAYLIGHT
TZOFFSETFROM:-0500
TZOFFSETTO:-0400
TZNAME:EDT
DTSTART:20240310T070000
END:DAYLIGHT
BEGIN:STANDARD
TZOFFSETFROM:-0400
TZOFFSETTO:-0500
TZNAME:EST
DTSTART:20241103T060000
END:STANDARD
BEGIN:DAYLIGHT
TZOFFSETFROM:-0500
TZOFFSETTO:-0400
TZNAME:EDT
DTSTART:20250309T070000
END:DAYLIGHT
BEGIN:STANDARD
TZOFFSETFROM:-0400
TZOFFSETTO:-0500
TZNAME:EST
DTSTART:20251102T060000
END:STANDARD
BEGIN:DAYLIGHT
TZOFFSETFROM:-0500
TZOFFSETTO:-0400
TZNAME:EDT
DTSTART:20260308T070000
END:DAYLIGHT
BEGIN:STANDARD
TZOFFSETFROM:-0400
TZOFFSETTO:-0500
TZNAME:EST
DTSTART:20261101T060000
END:STANDARD
END:VTIMEZONE
BEGIN:VEVENT
DTSTART;TZID=America/New_York:20250602T091500
DTEND;TZID=America/New_York:20250602T140000
DTSTAMP:20260419T100717
CREATED:20250527T125322Z
LAST-MODIFIED:20250527T125322Z
UID:10001870-1748855700-1748872800@www.med.unc.edu
SUMMARY:Monday – 2025 BCB New Student Symposium
DESCRIPTION:BCB New Student Symposium\n9:15 AM Coffee and Bagels \n9:30 AM Harris Davis/Brian Kuhlman and Henrik Dohlman Labs \n9:45 AM Hazel Milla/Anthony Zannas Lab \n10:00 AM Beatriz Campillo/Mike Love Lab \n10:15 AM Madeline Bonanno/Terry Furey Lab \n10:30 AM Morning Break \n10:45 AM Maya Yin/Jason Stein Lab \n11:00 AM Colin Taylor/Adam Palmer Lab \n11:15 AM Carmen Martin/Chuck Perou Lab \n11:30 AM-12:00 PM Morning Break \n12:00-2:00 PM New Student Luncheon
URL:https://www.med.unc.edu/genetics/event/monday-2025-bcb-new-student-symposium/
LOCATION:1131 Bioinformatics Building\, 125 Mason Farm Road\, Chapel Hill\, NC\, 27514\, United States
CATEGORIES:BCB Defenses/Special Events
ATTACH;FMTTYPE=image/jpeg:https://www.med.unc.edu/genetics/wp-content/uploads/sites/481/2025/05/2025-BCB-New-Student-Symposium.jpg
GEO:35.9024976;-79.0538753
X-APPLE-STRUCTURED-LOCATION;VALUE=URI;X-ADDRESS=1131 Bioinformatics Building 125 Mason Farm Road Chapel Hill NC 27514 United States;X-APPLE-RADIUS=500;X-TITLE=125 Mason Farm Road:geo:-79.0538753,35.9024976
END:VEVENT
BEGIN:VEVENT
DTSTART;TZID=America/New_York:20250616T120000
DTEND;TZID=America/New_York:20250616T130000
DTSTAMP:20260419T100717
CREATED:20250603T184218Z
LAST-MODIFIED:20250603T184338Z
UID:10001871-1750075200-1750078800@www.med.unc.edu
SUMMARY:Monday - UNC Department of Genetics Faculty Meeting: June 2025
DESCRIPTION:UNC Department of Genetics Faculty Meeting \nMonday\, June 16 / 12-1pm \n1131 Bioinformatics Building
URL:https://www.med.unc.edu/genetics/event/monday-unc-department-of-genetics-faculty-meeting-june-2025/
LOCATION:1131 Bioinformatics Building\, 125 Mason Farm Road\, Chapel Hill\, NC\, 27514\, United States
CATEGORIES:Genetics Department Special Seminars/Events
ATTACH;FMTTYPE=image/jpeg:https://www.med.unc.edu/genetics/wp-content/uploads/sites/481/2023/05/UNC-Genetics-Faculty-Meeting-2023.jpg
GEO:35.9024976;-79.0538753
X-APPLE-STRUCTURED-LOCATION;VALUE=URI;X-ADDRESS=1131 Bioinformatics Building 125 Mason Farm Road Chapel Hill NC 27514 United States;X-APPLE-RADIUS=500;X-TITLE=125 Mason Farm Road:geo:-79.0538753,35.9024976
END:VEVENT
BEGIN:VEVENT
DTSTART;TZID=America/New_York:20250623T140000
DTEND;TZID=America/New_York:20250623T150000
DTSTAMP:20260419T100717
CREATED:20250610T182211Z
LAST-MODIFIED:20250610T182211Z
UID:10001872-1750687200-1750690800@www.med.unc.edu
SUMMARY:Monday – GMB Defense: Lilly Chiou
DESCRIPTION:GMB Curriculum Student Defense\nGMB Curriculum Student Defense: Lilly Chiou\, student of Cyrus Vaziri. Presented in partial satisfaction of the requirements for the degree of Doctor of Philosophy.
URL:https://www.med.unc.edu/genetics/event/monday-gmb-defense-lilly-chiou/
LOCATION:1131 Bioinformatics Building\, 125 Mason Farm Road\, Chapel Hill\, NC\, 27514\, United States
CATEGORIES:GMB Defenses/Special Events
ATTACH;FMTTYPE=image/jpeg:https://www.med.unc.edu/genetics/wp-content/uploads/sites/481/2025/06/Lilly-Chiou_Defense-Announcement-25-0623-scaled.jpg
GEO:35.9024976;-79.0538753
X-APPLE-STRUCTURED-LOCATION;VALUE=URI;X-ADDRESS=1131 Bioinformatics Building 125 Mason Farm Road Chapel Hill NC 27514 United States;X-APPLE-RADIUS=500;X-TITLE=125 Mason Farm Road:geo:-79.0538753,35.9024976
END:VEVENT
BEGIN:VEVENT
DTSTART;TZID=America/New_York:20250630T100000
DTEND;TZID=America/New_York:20250630T110000
DTSTAMP:20260419T100717
CREATED:20250617T191234Z
LAST-MODIFIED:20250617T191234Z
UID:10001873-1751277600-1751281200@www.med.unc.edu
SUMMARY:Monday – BCB Student Defense: Yuriko Harigaya
DESCRIPTION:BCB Curriculum Student Defense\nYuriko Harigaya\nStudent of Michael Love & William Valdar \nMonday\, June 30\, 2025 at 10:00am \n1131 Bioinformatics Building \nPresented in partial satisfaction of the requirements for the degree of Doctor of Philosophy. \nThis student defense will be broadcast via Zoom. Link will be provided through UNC Curriculum in Bioinformatics and Computational Biology emails. Contact jcornett@email.unc.edu for meeting link if you have not received. Links will be provided to UNC affiliated email addresses only or through written consent of defending student.
URL:https://www.med.unc.edu/genetics/event/monday-bcb-student-defense-yuriko-harigaya/
LOCATION:1131 Bioinformatics Building\, 125 Mason Farm Road\, Chapel Hill\, NC\, 27514\, United States
CATEGORIES:BCB Defenses/Special Events
ATTACH;FMTTYPE=image/jpeg:https://www.med.unc.edu/genetics/wp-content/uploads/sites/481/2025/06/BCB-Defense-Yuriko-Harigaya-063025-scaled.jpg
GEO:35.9024976;-79.0538753
X-APPLE-STRUCTURED-LOCATION;VALUE=URI;X-ADDRESS=1131 Bioinformatics Building 125 Mason Farm Road Chapel Hill NC 27514 United States;X-APPLE-RADIUS=500;X-TITLE=125 Mason Farm Road:geo:-79.0538753,35.9024976
END:VEVENT
BEGIN:VEVENT
DTSTART;TZID=America/New_York:20250630T120000
DTEND;TZID=America/New_York:20250630T130000
DTSTAMP:20260419T100717
CREATED:20250623T020005Z
LAST-MODIFIED:20250623T020005Z
UID:10001874-1751284800-1751288400@www.med.unc.edu
SUMMARY:Monday – GMB Defense: Yogitha Chareddy
DESCRIPTION:GMB Curriculum Student Defense\nGMB Curriculum Student Defense: Yogitha Chareddy\, student of Chad Pecot. Presented in partial satisfaction of the requirements for the degree of Doctor of Philosophy.
URL:https://www.med.unc.edu/genetics/event/monday-gmb-defense-yogitha-chareddy/
LOCATION:Pagano Conference Room\, 450 West Drive\, Chapel Hill\, NC\, 27514\, United States
CATEGORIES:GMB Defenses/Special Events
ATTACH;FMTTYPE=image/jpeg:https://www.med.unc.edu/genetics/wp-content/uploads/sites/481/2025/06/Yogitha-Chareddy_Defense-Announcement-25-0630-scaled.jpg
END:VEVENT
END:VCALENDAR