BEGIN:VCALENDAR
VERSION:2.0
PRODID:-//Department of Genetics - ECPv6.15.18//NONSGML v1.0//EN
CALSCALE:GREGORIAN
METHOD:PUBLISH
X-ORIGINAL-URL:https://www.med.unc.edu/genetics
X-WR-CALDESC:Events for Department of Genetics
REFRESH-INTERVAL;VALUE=DURATION:PT1H
X-Robots-Tag:noindex
X-PUBLISHED-TTL:PT1H
BEGIN:VTIMEZONE
TZID:America/New_York
BEGIN:DAYLIGHT
TZOFFSETFROM:-0500
TZOFFSETTO:-0400
TZNAME:EDT
DTSTART:20230312T070000
END:DAYLIGHT
BEGIN:STANDARD
TZOFFSETFROM:-0400
TZOFFSETTO:-0500
TZNAME:EST
DTSTART:20231105T060000
END:STANDARD
BEGIN:DAYLIGHT
TZOFFSETFROM:-0500
TZOFFSETTO:-0400
TZNAME:EDT
DTSTART:20240310T070000
END:DAYLIGHT
BEGIN:STANDARD
TZOFFSETFROM:-0400
TZOFFSETTO:-0500
TZNAME:EST
DTSTART:20241103T060000
END:STANDARD
BEGIN:DAYLIGHT
TZOFFSETFROM:-0500
TZOFFSETTO:-0400
TZNAME:EDT
DTSTART:20250309T070000
END:DAYLIGHT
BEGIN:STANDARD
TZOFFSETFROM:-0400
TZOFFSETTO:-0500
TZNAME:EST
DTSTART:20251102T060000
END:STANDARD
BEGIN:DAYLIGHT
TZOFFSETFROM:-0500
TZOFFSETTO:-0400
TZNAME:EDT
DTSTART:20260308T070000
END:DAYLIGHT
BEGIN:STANDARD
TZOFFSETFROM:-0400
TZOFFSETTO:-0500
TZNAME:EST
DTSTART:20261101T060000
END:STANDARD
END:VTIMEZONE
BEGIN:VEVENT
DTSTART;TZID=America/New_York:20250421T120000
DTEND;TZID=America/New_York:20250421T130000
DTSTAMP:20260424T083634
CREATED:20250318T154229Z
LAST-MODIFIED:20250318T154229Z
UID:10001850-1745236800-1745240400@www.med.unc.edu
SUMMARY:Monday - UNC Department of Genetics Faculty Meeting: April 2025
DESCRIPTION:UNC Department of Genetics Faculty Meeting \nMonday\, April 21 / 12-1pm \nPagano Conference Room\, LCCC 00-002
URL:https://www.med.unc.edu/genetics/event/monday-unc-department-of-genetics-faculty-meeting-april-2025/
LOCATION:Pagano Conference Room\, 450 West Drive\, Chapel Hill\, NC\, 27514\, United States
CATEGORIES:Genetics Department Special Seminars/Events
ATTACH;FMTTYPE=image/jpeg:https://www.med.unc.edu/genetics/wp-content/uploads/sites/481/2023/09/Genetics-Faculty-Meeting-Pagano-Room.jpg
END:VEVENT
BEGIN:VEVENT
DTSTART;TZID=America/New_York:20250415T090000
DTEND;TZID=America/New_York:20250415T100000
DTSTAMP:20260424T083634
CREATED:20250407T113323Z
LAST-MODIFIED:20250407T113323Z
UID:10001859-1744707600-1744711200@www.med.unc.edu
SUMMARY:Tuesday – GMB Student Seminar Series: Madden & Lerner
DESCRIPTION:Genetics & Molecular Biology Student Seminar Series\nWeekly seminar series featuring talks from the students of the UNC Curriculum in Genetics & Molecular Biology. \nThis week’s speakers are Ethan Madden from the Brian Strahl Lab and Lynn Lerner from the Gaorav Gupta Lab.
URL:https://www.med.unc.edu/genetics/event/tuesday-gmb-student-seminar-series-madden-lerner/
LOCATION:Pagano Conference Room\, 450 West Drive\, Chapel Hill\, NC\, 27514\, United States
CATEGORIES:Tuesday - GMB Student Seminars
ATTACH;FMTTYPE=image/jpeg:https://www.med.unc.edu/genetics/wp-content/uploads/sites/481/2025/04/GMB-Student-Seminars_25-0415.jpg
END:VEVENT
BEGIN:VEVENT
DTSTART;TZID=America/New_York:20250408T090000
DTEND;TZID=America/New_York:20250408T100000
DTSTAMP:20260424T083634
CREATED:20250328T181346Z
LAST-MODIFIED:20250328T181346Z
UID:10001857-1744102800-1744106400@www.med.unc.edu
SUMMARY:Tuesday – GMB Student Seminar Series: Puller & Okoroafor
DESCRIPTION:Genetics & Molecular Biology Student Seminar Series\nWeekly seminar series featuring talks from the students of the UNC Curriculum in Genetics & Molecular Biology. \nThis week’s speakers are Gabby Puller from the Pat Brennwald Lab and Uchechi Okoroafor from the Sam Young Lab.
URL:https://www.med.unc.edu/genetics/event/tuesday-gmb-student-seminar-series-puller-okoroafor/
LOCATION:Pagano Conference Room\, 450 West Drive\, Chapel Hill\, NC\, 27514\, United States
CATEGORIES:Tuesday - GMB Student Seminars
ATTACH;FMTTYPE=image/jpeg:https://www.med.unc.edu/genetics/wp-content/uploads/sites/481/2025/03/GMB-Student-Seminars_25-0408.jpg
END:VEVENT
BEGIN:VEVENT
DTSTART;TZID=America/New_York:20250401T090000
DTEND;TZID=America/New_York:20250401T100000
DTSTAMP:20260424T083634
CREATED:20250321T195336Z
LAST-MODIFIED:20250321T195336Z
UID:10001851-1743498000-1743501600@www.med.unc.edu
SUMMARY:Tuesday – GMB Student Seminar Series: Salcido & Gerdes Gyuricza
DESCRIPTION:Genetics & Molecular Biology Student Seminar Series\nWeekly seminar series featuring talks from the students of the UNC Curriculum in Genetics & Molecular Biology. \nThis week’s speakers are Ryan Salcido from the Mauro Calabrese Lab and Isabela Gerdes Gyuricza from the Jonathan Parr Lab.
URL:https://www.med.unc.edu/genetics/event/tuesday-gmb-student-seminar-series-salcido-gerdes-gyuricza/
LOCATION:Pagano Conference Room\, 450 West Drive\, Chapel Hill\, NC\, 27514\, United States
CATEGORIES:Tuesday - GMB Student Seminars
ATTACH;FMTTYPE=image/jpeg:https://www.med.unc.edu/genetics/wp-content/uploads/sites/481/2025/03/GMB-Student-Seminars_25-0401.jpg
END:VEVENT
BEGIN:VEVENT
DTSTART;TZID=America/New_York:20250318T090000
DTEND;TZID=America/New_York:20250318T100000
DTSTAMP:20260424T083634
CREATED:20250310T130515Z
LAST-MODIFIED:20250310T130605Z
UID:10001843-1742288400-1742292000@www.med.unc.edu
SUMMARY:Tuesday – GMB Student Seminar Series: Boyson & Troncoso
DESCRIPTION:Genetics & Molecular Biology Student Seminar Series\nWeekly seminar series featuring talks from the students of the UNC Curriculum in Genetics & Molecular Biology. \nThis week’s speakers are Sam Boyson from the Mauro Calabrese Lab and Karla Troncoso from the Bob Duronio Lab.
URL:https://www.med.unc.edu/genetics/event/tuesday-gmb-student-seminar-series-boyson-troncoso/
LOCATION:Pagano Conference Room\, 450 West Drive\, Chapel Hill\, NC\, 27514\, United States
CATEGORIES:Tuesday - GMB Student Seminars
ATTACH;FMTTYPE=image/jpeg:https://www.med.unc.edu/genetics/wp-content/uploads/sites/481/2025/03/GMB-Student-Seminars_25-0318.jpg
END:VEVENT
BEGIN:VEVENT
DTSTART;TZID=America/New_York:20250317T120000
DTEND;TZID=America/New_York:20250317T130000
DTSTAMP:20260424T083634
CREATED:20250317T145330Z
LAST-MODIFIED:20250317T145330Z
UID:10001848-1742212800-1742216400@www.med.unc.edu
SUMMARY:Monday - UNC Department of Genetics Faculty Meeting: March 2025
DESCRIPTION:UNC Department of Genetics Faculty Meeting \nMonday\, March 17\, 12-1pm \nPagano Conference Room\, LCCC 00-002
URL:https://www.med.unc.edu/genetics/event/monday-unc-department-of-genetics-faculty-meeting-march-2025/
LOCATION:Pagano Conference Room\, 450 West Drive\, Chapel Hill\, NC\, 27514\, United States
CATEGORIES:Genetics Department Special Seminars/Events
ATTACH;FMTTYPE=image/jpeg:https://www.med.unc.edu/genetics/wp-content/uploads/sites/481/2023/09/Genetics-Faculty-Meeting-Pagano-Room.jpg
END:VEVENT
BEGIN:VEVENT
DTSTART;TZID=America/New_York:20250304T090000
DTEND;TZID=America/New_York:20250304T100000
DTSTAMP:20260424T083634
CREATED:20250227T212700Z
LAST-MODIFIED:20250303T174807Z
UID:10001831-1741078800-1741082400@www.med.unc.edu
SUMMARY:Tuesday – CANCELLED - GMB Student Seminar Series: Edwards & Coke
DESCRIPTION:Genetics & Molecular Biology Student Seminar Series\nWeekly seminar series featuring talks from the students of the UNC Curriculum in Genetics & Molecular Biology. \nThis week’s speakers are Alyssa Edwards from the Dale Ramsden Lab and Addie Coke from the Bob Goldstein and Christina Burch Labs. \nCANCELLED \nThese talks have been rescheduled for Tuesday\, May 13\, 2025.
URL:https://www.med.unc.edu/genetics/event/tuesday-gmb-student-seminar-series-edwards-coke/
LOCATION:Pagano Conference Room\, 450 West Drive\, Chapel Hill\, NC\, 27514\, United States
CATEGORIES:Tuesday - GMB Student Seminars
ATTACH;FMTTYPE=image/jpeg:https://www.med.unc.edu/genetics/wp-content/uploads/sites/481/2025/02/GMB-Student-Seminars_25-0304.jpg
END:VEVENT
BEGIN:VEVENT
DTSTART;TZID=America/New_York:20250225T090000
DTEND;TZID=America/New_York:20250225T100000
DTSTAMP:20260424T083634
CREATED:20250217T140358Z
LAST-MODIFIED:20250217T140913Z
UID:10001819-1740474000-1740477600@www.med.unc.edu
SUMMARY:Tuesday – GMB Student Seminar Series: Gural & Fox
DESCRIPTION:Genetics & Molecular Biology Student Seminar Series\nWeekly seminar series featuring talks from the students of the UNC Curriculum in Genetics & Molecular Biology. \nThis week’s speakers are Brian Gural from the Christoph Rau Lab and Geoff Fox from the Jill Dowen & Brian Strahl Labs.
URL:https://www.med.unc.edu/genetics/event/tuesday-gmb-student-seminar-series-gural-fox-2/
LOCATION:Pagano Conference Room\, 450 West Drive\, Chapel Hill\, NC\, 27514\, United States
CATEGORIES:Tuesday - GMB Student Seminars
ATTACH;FMTTYPE=image/jpeg:https://www.med.unc.edu/genetics/wp-content/uploads/sites/481/2025/02/GMB-Student-Seminars_25-0225-1.jpg
END:VEVENT
BEGIN:VEVENT
DTSTART;TZID=America/New_York:20250218T090000
DTEND;TZID=America/New_York:20250218T100000
DTSTAMP:20260424T083634
CREATED:20250207T200632Z
LAST-MODIFIED:20250207T200632Z
UID:10001817-1739869200-1739872800@www.med.unc.edu
SUMMARY:Tuesday – GMB Student Seminar Series: Kornegay & Koitz
DESCRIPTION:Genetics & Molecular Biology Student Seminar Series\nWeekly seminar series featuring talks from the students of the UNC Curriculum in Genetics & Molecular Biology. \nThis week’s speakers are Benjamin Kornegay from the Jill Dowen Lab and Fred Koitz from the Kacy Gordon Lab.
URL:https://www.med.unc.edu/genetics/event/tuesday-gmb-student-seminar-series-kornegay-koitz-2/
LOCATION:Pagano Conference Room\, 450 West Drive\, Chapel Hill\, NC\, 27514\, United States
CATEGORIES:Tuesday - GMB Student Seminars
ATTACH;FMTTYPE=image/jpeg:https://www.med.unc.edu/genetics/wp-content/uploads/sites/481/2025/02/GMB-Student-Seminars_25-0218.jpg
END:VEVENT
BEGIN:VEVENT
DTSTART;TZID=America/New_York:20250204T120000
DTEND;TZID=America/New_York:20250204T130000
DTSTAMP:20260424T083634
CREATED:20250127T142157Z
LAST-MODIFIED:20250127T142157Z
UID:10001809-1738670400-1738674000@www.med.unc.edu
SUMMARY:Tuesday – GMB Defense: Kevin Field
DESCRIPTION:GMB Curriculum Student Defense\nGMB Curriculum Student Defense: Kevin Field\, student of Ian Davis. Presented in partial satisfaction of the requirements for the degree of Doctor of Philosophy.
URL:https://www.med.unc.edu/genetics/event/tuesday-gmb-defense-kevin-field/
LOCATION:Pagano Conference Room\, 450 West Drive\, Chapel Hill\, NC\, 27514\, United States
CATEGORIES:GMB Defenses/Special Events
ATTACH;FMTTYPE=image/jpeg:https://www.med.unc.edu/genetics/wp-content/uploads/sites/481/2025/01/Kevin-Field_Defense-Announcement-25-0204-scaled.jpg
END:VEVENT
BEGIN:VEVENT
DTSTART;TZID=America/New_York:20250204T090000
DTEND;TZID=America/New_York:20250204T100000
DTSTAMP:20260424T083634
CREATED:20250124T142904Z
LAST-MODIFIED:20250124T143022Z
UID:10001807-1738659600-1738663200@www.med.unc.edu
SUMMARY:Tuesday – GMB Student Seminar Series: Mahmoud & Lester
DESCRIPTION:Genetics & Molecular Biology Student Seminar Series\nWeekly seminar series featuring talks from the students of the UNC Curriculum in Genetics & Molecular Biology. \nThis week’s speakers are Mohamed Mahmoud from the Jeff Sekelsky Lab and Sarah Lester from the Samir Kelada and Karen Mohlke Labs.
URL:https://www.med.unc.edu/genetics/event/tuesday-gmb-student-seminar-series-mahmoud-lester-2/
LOCATION:Pagano Conference Room\, 450 West Drive\, Chapel Hill\, NC\, 27514\, United States
CATEGORIES:Tuesday - GMB Student Seminars
ATTACH;FMTTYPE=image/jpeg:https://www.med.unc.edu/genetics/wp-content/uploads/sites/481/2025/01/GMB-Student-Seminars_25-0204.jpg
END:VEVENT
BEGIN:VEVENT
DTSTART;TZID=America/New_York:20250128T090000
DTEND;TZID=America/New_York:20250128T100000
DTSTAMP:20260424T083634
CREATED:20250117T154353Z
LAST-MODIFIED:20250117T154353Z
UID:10001804-1738054800-1738058400@www.med.unc.edu
SUMMARY:Tuesday – GMB Student Seminar Series: Nicholas & McAfee
DESCRIPTION:Genetics & Molecular Biology Student Seminar Series\nWeekly seminar series featuring talks from the students of the UNC Curriculum in Genetics & Molecular Biology. \nThis week’s speakers are Jayna Nicholas from the Laura Raffield & Karen Mohlke Labs and Jessica McAfee from the Hyejung Won Lab.
URL:https://www.med.unc.edu/genetics/event/tuesday-gmb-student-seminar-series-nicholas-mcafee-2/
LOCATION:Pagano Conference Room\, 450 West Drive\, Chapel Hill\, NC\, 27514\, United States
CATEGORIES:Tuesday - GMB Student Seminars
ATTACH;FMTTYPE=image/jpeg:https://www.med.unc.edu/genetics/wp-content/uploads/sites/481/2025/01/GMB-Student-Seminars_25-0128.jpg
END:VEVENT
BEGIN:VEVENT
DTSTART;TZID=America/New_York:20250127T120000
DTEND;TZID=America/New_York:20250127T130000
DTSTAMP:20260424T083634
CREATED:20250106T161658Z
LAST-MODIFIED:20250106T161658Z
UID:10001796-1737979200-1737982800@www.med.unc.edu
SUMMARY:Monday - UNC Department of Genetics Faculty Meeting: January 2025
DESCRIPTION:UNC Department of Genetics Faculty Meeting \nMonday\, January 27\, 12-1pm \nPagano Conference Room\, LCCC 00-002 \nLunch provided for this in-person meeting.
URL:https://www.med.unc.edu/genetics/event/monday-unc-department-of-genetics-faculty-meeting-january-2025/
LOCATION:Pagano Conference Room\, 450 West Drive\, Chapel Hill\, NC\, 27514\, United States
CATEGORIES:Genetics Department Special Seminars/Events
ATTACH;FMTTYPE=image/jpeg:https://www.med.unc.edu/genetics/wp-content/uploads/sites/481/2023/09/Genetics-Faculty-Meeting-Pagano-Room.jpg
END:VEVENT
BEGIN:VEVENT
DTSTART;TZID=America/New_York:20250121T090000
DTEND;TZID=America/New_York:20250121T100000
DTSTAMP:20260424T083634
CREATED:20250117T153146Z
LAST-MODIFIED:20250117T154430Z
UID:10001803-1737450000-1737453600@www.med.unc.edu
SUMMARY:Tuesday – GMB Student Seminar Series: Weerasinghe & Santa Rosa
DESCRIPTION:Genetics & Molecular Biology Student Seminar Series\nWeekly seminar series featuring talks from the students of the UNC Curriculum in Genetics & Molecular Biology. \nThis week’s speakers are Isurika Weerasinghe from the Charles Perou Lab and Priscila Santa Rosa from the Jeff Sekelsky and Bob Duronio Labs.
URL:https://www.med.unc.edu/genetics/event/tuesday-gmb-student-seminar-series-weerasinghe-santa-rosa/
LOCATION:Pagano Conference Room\, 450 West Drive\, Chapel Hill\, NC\, 27514\, United States
CATEGORIES:Tuesday - GMB Student Seminars
ATTACH;FMTTYPE=image/jpeg:https://www.med.unc.edu/genetics/wp-content/uploads/sites/481/2025/01/GMB-Student-Seminars_25-0121.jpg
END:VEVENT
BEGIN:VEVENT
DTSTART;TZID=America/New_York:20250114T090000
DTEND;TZID=America/New_York:20250114T100000
DTSTAMP:20260424T083634
CREATED:20250113T144923Z
LAST-MODIFIED:20250113T144923Z
UID:10001800-1736845200-1736848800@www.med.unc.edu
SUMMARY:Tuesday – GMB Student Seminar Series: Zhao & Whitworth
DESCRIPTION:Genetics & Molecular Biology Student Seminar Series\nWeekly seminar series featuring talks from the students of the UNC Curriculum in Genetics & Molecular Biology. \nThis week’s speakers are Jingyu Zhao from the Sam Lai Lab and Chloe Whitworth from the Bill Polacheck & Vicki Bautch Labs.
URL:https://www.med.unc.edu/genetics/event/tuesday-gmb-student-seminar-series-zhao-whitworth/
LOCATION:Pagano Conference Room\, 450 West Drive\, Chapel Hill\, NC\, 27514\, United States
CATEGORIES:Tuesday - GMB Student Seminars
ATTACH;FMTTYPE=image/jpeg:https://www.med.unc.edu/genetics/wp-content/uploads/sites/481/2025/01/GMB-Student-Seminars_25-0114.jpg
END:VEVENT
BEGIN:VEVENT
DTSTART;TZID=America/New_York:20241203T090000
DTEND;TZID=America/New_York:20241203T100000
DTSTAMP:20260424T083634
CREATED:20241121T214924Z
LAST-MODIFIED:20241121T214924Z
UID:10001786-1733216400-1733220000@www.med.unc.edu
SUMMARY:Tuesday – GMB Student Seminar Series: Chack & Abrash
DESCRIPTION:Genetics & Molecular Biology Student Seminar Series\nWeekly seminar series featuring talks from the students of the UNC Curriculum in Genetics & Molecular Biology. \nThis week’s speakers are Aaron Chack from the Chad Pecot Lab and Elizabeth Abrash from the Mauro Calabrese Lab.
URL:https://www.med.unc.edu/genetics/event/tuesday-gmb-student-seminar-series-chack-abrash-2/
LOCATION:Pagano Conference Room\, 450 West Drive\, Chapel Hill\, NC\, 27514\, United States
CATEGORIES:Tuesday - GMB Student Seminars
ATTACH;FMTTYPE=image/jpeg:https://www.med.unc.edu/genetics/wp-content/uploads/sites/481/2024/11/GMB-Student-Seminars_24-1203.jpg
END:VEVENT
BEGIN:VEVENT
DTSTART;TZID=America/New_York:20241119T090000
DTEND;TZID=America/New_York:20241119T100000
DTSTAMP:20260424T083634
CREATED:20241115T135047Z
LAST-MODIFIED:20241115T135047Z
UID:10001782-1732006800-1732010400@www.med.unc.edu
SUMMARY:Tuesday – GMB Student Seminar Series: Brinkman & Branham
DESCRIPTION:Genetics & Molecular Biology Student Seminar Series\nWeekly seminar series featuring talks from the students of the UNC Curriculum in Genetics & Molecular Biology. \nThis week’s speakers are Jackie Brinkman from the Jesse Raab Lab and Erica Branham from the Sarah Linnstaedt Lab.
URL:https://www.med.unc.edu/genetics/event/tuesday-gmb-student-seminar-series-brinkman-branham-2/
LOCATION:Pagano Conference Room\, 450 West Drive\, Chapel Hill\, NC\, 27514\, United States
CATEGORIES:Tuesday - GMB Student Seminars
ATTACH;FMTTYPE=image/jpeg:https://www.med.unc.edu/genetics/wp-content/uploads/sites/481/2024/11/GMB-Student-Seminars_24-1119.jpg
END:VEVENT
BEGIN:VEVENT
DTSTART;TZID=America/New_York:20241118T120000
DTEND;TZID=America/New_York:20241118T130000
DTSTAMP:20260424T083634
CREATED:20241010T151434Z
LAST-MODIFIED:20241010T151434Z
UID:10001755-1731931200-1731934800@www.med.unc.edu
SUMMARY:Monday - UNC Department of Genetics Faculty Meeting: November 2024
DESCRIPTION:UNC Department of Genetics Faculty Meeting \nMonday\, November 18\, 12-1pm \nPagano Conference Room\, LCCC 00-002 \nLunch provided for this in-person meeting.
URL:https://www.med.unc.edu/genetics/event/monday-unc-department-of-genetics-faculty-meeting-november-2024/
LOCATION:Pagano Conference Room\, 450 West Drive\, Chapel Hill\, NC\, 27514\, United States
CATEGORIES:Genetics Department Special Seminars/Events
ATTACH;FMTTYPE=image/jpeg:https://www.med.unc.edu/genetics/wp-content/uploads/sites/481/2023/09/Genetics-Faculty-Meeting-Pagano-Room.jpg
END:VEVENT
BEGIN:VEVENT
DTSTART;TZID=America/New_York:20241112T090000
DTEND;TZID=America/New_York:20241112T100000
DTSTAMP:20260424T083634
CREATED:20241104T143252Z
LAST-MODIFIED:20241104T143252Z
UID:10001778-1731402000-1731405600@www.med.unc.edu
SUMMARY:Tuesday – GMB Student Seminar Series: Cohen & Arroyo
DESCRIPTION:Genetics & Molecular Biology Student Seminar Series\nWeekly seminar series featuring talks from the students of the UNC Curriculum in Genetics & Molecular Biology. \nThis week’s speakers are Jonathan Cohen from the Jason Whitmire Lab and Oscar Arroyo from the Daniel McKay Lab.
URL:https://www.med.unc.edu/genetics/event/tuesday-gmb-student-seminar-series-cohen-arroyo/
LOCATION:Pagano Conference Room\, 450 West Drive\, Chapel Hill\, NC\, 27514\, United States
CATEGORIES:Tuesday - GMB Student Seminars
ATTACH;FMTTYPE=image/jpeg:https://www.med.unc.edu/genetics/wp-content/uploads/sites/481/2024/11/GMB-Student-Seminars_24-1112.jpg
END:VEVENT
BEGIN:VEVENT
DTSTART;TZID=America/New_York:20241105T090000
DTEND;TZID=America/New_York:20241105T100000
DTSTAMP:20260424T083634
CREATED:20241028T154540Z
LAST-MODIFIED:20241029T134310Z
UID:10001770-1730797200-1730800800@www.med.unc.edu
SUMMARY:Tuesday – GMB Student Seminar Series: Edmiston & Curtin
DESCRIPTION:Genetics & Molecular Biology Student Seminar Series\nWeekly seminar series featuring talks from the students of the UNC Curriculum in Genetics & Molecular Biology. \nThis week’s speakers are Sharon Edmiston from the Nancy Thomas Lab and Ian Curtin from the Jason Stein Lab.
URL:https://www.med.unc.edu/genetics/event/tuesday-gmb-student-seminar-series-edmiston-curtin-2/
LOCATION:Pagano Conference Room\, 450 West Drive\, Chapel Hill\, NC\, 27514\, United States
CATEGORIES:Tuesday - GMB Student Seminars
ATTACH;FMTTYPE=image/jpeg:https://www.med.unc.edu/genetics/wp-content/uploads/sites/481/2024/10/GMB-Student-Seminars_24-1105-1.jpg
END:VEVENT
BEGIN:VEVENT
DTSTART;TZID=America/New_York:20241029T090000
DTEND;TZID=America/New_York:20241029T100000
DTSTAMP:20260424T083634
CREATED:20241021T121646Z
LAST-MODIFIED:20241021T121646Z
UID:10001764-1730192400-1730196000@www.med.unc.edu
SUMMARY:Tuesday – GMB Student Seminar Series: Johnsen & Gohil
DESCRIPTION:Genetics & Molecular Biology Student Seminar Series\nWeekly seminar series featuring talks from the students of the UNC Curriculum in Genetics & Molecular Biology. \nThis week’s speakers are Sean Johnsen from the Dan McKay Lab and Riya Gohil from the Jill Dowen Lab.
URL:https://www.med.unc.edu/genetics/event/tuesday-gmb-student-seminar-series-johnsen-gohil-2/
LOCATION:Pagano Conference Room\, 450 West Drive\, Chapel Hill\, NC\, 27514\, United States
CATEGORIES:Tuesday - GMB Student Seminars
ATTACH;FMTTYPE=image/jpeg:https://www.med.unc.edu/genetics/wp-content/uploads/sites/481/2024/10/GMB-Student-Seminars_24-1029.jpg
END:VEVENT
BEGIN:VEVENT
DTSTART;TZID=America/New_York:20241021T120000
DTEND;TZID=America/New_York:20241021T130000
DTSTAMP:20260424T083634
CREATED:20241007T171940Z
LAST-MODIFIED:20241007T171940Z
UID:10001754-1729512000-1729515600@www.med.unc.edu
SUMMARY:Monday - UNC Department of Genetics Faculty Meeting: October 2024
DESCRIPTION:UNC Department of Genetics Faculty Meeting \nMonday\, October 21\, 12-1pm \nPagano Conference Room\, LCCC 00-002 \nLunch provided for this in-person meeting.
URL:https://www.med.unc.edu/genetics/event/monday-unc-department-of-genetics-faculty-meeting-october-2024/
LOCATION:Pagano Conference Room\, 450 West Drive\, Chapel Hill\, NC\, 27514\, United States
CATEGORIES:Genetics Department Special Seminars/Events
ATTACH;FMTTYPE=image/jpeg:https://www.med.unc.edu/genetics/wp-content/uploads/sites/481/2023/09/Genetics-Faculty-Meeting-Pagano-Room.jpg
END:VEVENT
BEGIN:VEVENT
DTSTART;TZID=America/New_York:20241015T090000
DTEND;TZID=America/New_York:20241015T100000
DTSTAMP:20260424T083634
CREATED:20241014T150004Z
LAST-MODIFIED:20241014T150004Z
UID:10001761-1728982800-1728986400@www.med.unc.edu
SUMMARY:Tuesday – GMB Student Seminar Series: Berglind & Singh
DESCRIPTION:Genetics & Molecular Biology Student Seminar Series\nWeekly seminar series featuring talks from the students of the UNC Curriculum in Genetics & Molecular Biology. \nThis week’s speakers are Ana Berglind from the Erin Heinzen Lab and Noor Singh from the Kacy Gordon Lab.
URL:https://www.med.unc.edu/genetics/event/tuesday-gmb-student-seminar-series-berglind-singh/
LOCATION:Pagano Conference Room\, 450 West Drive\, Chapel Hill\, NC\, 27514\, United States
CATEGORIES:Tuesday - GMB Student Seminars
ATTACH;FMTTYPE=image/jpeg:https://www.med.unc.edu/genetics/wp-content/uploads/sites/481/2024/10/GMB-Student-Seminars_24-1015.jpg
END:VEVENT
BEGIN:VEVENT
DTSTART;TZID=America/New_York:20241008T090000
DTEND;TZID=America/New_York:20241008T100000
DTSTAMP:20260424T083634
CREATED:20240927T173848Z
LAST-MODIFIED:20240927T173906Z
UID:10001744-1728378000-1728381600@www.med.unc.edu
SUMMARY:Tuesday – GMB Student Seminar Series: Murvin & Chiou
DESCRIPTION:Genetics & Molecular Biology Student Seminar Series\nWeekly seminar series featuring talks from the students of the UNC Curriculum in Genetics & Molecular Biology. \nThis week’s speakers are Mickey Murvin from the Mauro Calabrese Lab and Lilly Chiou from the Cyrus Vaziri Lab.
URL:https://www.med.unc.edu/genetics/event/tuesday-gmb-student-seminar-series-murvin-chiou/
LOCATION:Pagano Conference Room\, 450 West Drive\, Chapel Hill\, NC\, 27514\, United States
CATEGORIES:Tuesday - GMB Student Seminars
ATTACH;FMTTYPE=image/jpeg:https://www.med.unc.edu/genetics/wp-content/uploads/sites/481/2024/09/GMB-Student-Seminars_24-1008.jpg
END:VEVENT
BEGIN:VEVENT
DTSTART;TZID=America/New_York:20240924T090000
DTEND;TZID=America/New_York:20240924T100000
DTSTAMP:20260424T083634
CREATED:20240917T195824Z
LAST-MODIFIED:20240917T195824Z
UID:10001741-1727168400-1727172000@www.med.unc.edu
SUMMARY:Tuesday – GMB Student Seminar Series: McPherson & Kolbin
DESCRIPTION:Genetics & Molecular Biology Student Seminar Series\nWeekly seminar series featuring talks from the students of the UNC Curriculum in Genetics & Molecular Biology. \nThis week’s speakers are Jeanne-Marie McPherson from the Bob Duronio and Dan McKay Labs and Daniel Kolbin from the Kerry Bloom Lab.
URL:https://www.med.unc.edu/genetics/event/tuesday-gmb-student-seminar-series-mcpherson-kolbin/
LOCATION:Pagano Conference Room\, 450 West Drive\, Chapel Hill\, NC\, 27514\, United States
CATEGORIES:Tuesday - GMB Student Seminars
ATTACH;FMTTYPE=image/jpeg:https://www.med.unc.edu/genetics/wp-content/uploads/sites/481/2024/09/GMB-Student-Seminars_24-0924.jpg
END:VEVENT
BEGIN:VEVENT
DTSTART;TZID=America/New_York:20240916T120000
DTEND;TZID=America/New_York:20240916T130000
DTSTAMP:20260424T083634
CREATED:20240828T134557Z
LAST-MODIFIED:20240828T134557Z
UID:10001732-1726488000-1726491600@www.med.unc.edu
SUMMARY:Monday - UNC Department of Genetics Faculty Meeting: September 2024
DESCRIPTION:UNC Department of Genetics Faculty Meeting \nMonday\, September 16\, 12-1pm \nPagano Conference Room\, LCCC 00-002 \nLunch provided for this in-person meeting.
URL:https://www.med.unc.edu/genetics/event/monday-unc-department-of-genetics-faculty-meeting-september-2024/
LOCATION:Pagano Conference Room\, 450 West Drive\, Chapel Hill\, NC\, 27514\, United States
CATEGORIES:Genetics Department Special Seminars/Events
ATTACH;FMTTYPE=image/jpeg:https://www.med.unc.edu/genetics/wp-content/uploads/sites/481/2023/09/Genetics-Faculty-Meeting-Pagano-Room.jpg
END:VEVENT
BEGIN:VEVENT
DTSTART;TZID=America/New_York:20240910T090000
DTEND;TZID=America/New_York:20240910T100000
DTSTAMP:20260424T083634
CREATED:20240903T141558Z
LAST-MODIFIED:20240903T141558Z
UID:10001733-1725958800-1725962400@www.med.unc.edu
SUMMARY:Tuesday – GMB Student Seminar Series: Fraser and Droby
DESCRIPTION:Genetics & Molecular Biology Student Seminar Series\nWeekly seminar series featuring talks from the students of the UNC Curriculum in Genetics & Molecular Biology. This week’s speakers are Caroline Fraser from the Ian Davis Lab and Gaith Droby from the Cyrus Vaziri Lab.
URL:https://www.med.unc.edu/genetics/event/tuesday-gmb-student-seminar-series-fraser-and-droby/
LOCATION:Pagano Conference Room\, 450 West Drive\, Chapel Hill\, NC\, 27514\, United States
CATEGORIES:Tuesday - GMB Student Seminars
ATTACH;FMTTYPE=image/jpeg:https://www.med.unc.edu/genetics/wp-content/uploads/sites/481/2024/09/GMB-Student-Seminars_24-0910.jpg
END:VEVENT
BEGIN:VEVENT
DTSTART;TZID=America/New_York:20240903T090000
DTEND;TZID=America/New_York:20240903T100000
DTSTAMP:20260424T083634
CREATED:20240823T173722Z
LAST-MODIFIED:20240823T173722Z
UID:10001726-1725354000-1725357600@www.med.unc.edu
SUMMARY:Tuesday – GMB Student Seminar Series: NO Talks This Week (9/3)
DESCRIPTION:Genetics & Molecular Biology Student Seminar Series\nWeekly seminar series featuring talks from the students of the UNC Curriculum in Genetics & Molecular Biology. \nNo talks this week. \nUNC Well-Being Day. \nClasses are cancelled.
URL:https://www.med.unc.edu/genetics/event/tuesday-gmb-student-seminar-series-no-talks-this-week-9-3/
LOCATION:Pagano Conference Room\, 450 West Drive\, Chapel Hill\, NC\, 27514\, United States
CATEGORIES:Tuesday - GMB Student Seminars
END:VEVENT
BEGIN:VEVENT
DTSTART;TZID=America/New_York:20240827T090000
DTEND;TZID=America/New_York:20240827T100000
DTSTAMP:20260424T083634
CREATED:20240823T173230Z
LAST-MODIFIED:20240826T123045Z
UID:10001725-1724749200-1724752800@www.med.unc.edu
SUMMARY:Tuesday – GMB Student Seminar Series: Parsons & Turcotte
DESCRIPTION:Genetics & Molecular Biology Student Seminar Series\nWeekly seminar series featuring talks from the students of the UNC Curriculum in Genetics & Molecular Biology. This week’s speakers are Victoria Parsons from the Karen Mohlke Lab and Carolyn Turcotte from the Jeff Sekelsky Lab.
URL:https://www.med.unc.edu/genetics/event/tuesday-gmb-student-seminar-series-parsons-turcotte/
LOCATION:Pagano Conference Room\, 450 West Drive\, Chapel Hill\, NC\, 27514\, United States
CATEGORIES:Tuesday - GMB Student Seminars
END:VEVENT
END:VCALENDAR