BEGIN:VCALENDAR
VERSION:2.0
PRODID:-//Genetics and Molecular Biology Curriculum - ECPv6.15.18//NONSGML v1.0//EN
CALSCALE:GREGORIAN
METHOD:PUBLISH
X-ORIGINAL-URL:https://www.med.unc.edu/gmb
X-WR-CALDESC:Events for Genetics and Molecular Biology Curriculum
REFRESH-INTERVAL;VALUE=DURATION:PT1H
X-Robots-Tag:noindex
X-PUBLISHED-TTL:PT1H
BEGIN:VTIMEZONE
TZID:America/New_York
BEGIN:DAYLIGHT
TZOFFSETFROM:-0500
TZOFFSETTO:-0400
TZNAME:EDT
DTSTART:20250309T070000
END:DAYLIGHT
BEGIN:STANDARD
TZOFFSETFROM:-0400
TZOFFSETTO:-0500
TZNAME:EST
DTSTART:20251102T060000
END:STANDARD
BEGIN:DAYLIGHT
TZOFFSETFROM:-0500
TZOFFSETTO:-0400
TZNAME:EDT
DTSTART:20260308T070000
END:DAYLIGHT
BEGIN:STANDARD
TZOFFSETFROM:-0400
TZOFFSETTO:-0500
TZNAME:EST
DTSTART:20261101T060000
END:STANDARD
BEGIN:DAYLIGHT
TZOFFSETFROM:-0500
TZOFFSETTO:-0400
TZNAME:EDT
DTSTART:20270314T070000
END:DAYLIGHT
BEGIN:STANDARD
TZOFFSETFROM:-0400
TZOFFSETTO:-0500
TZNAME:EST
DTSTART:20271107T060000
END:STANDARD
END:VTIMEZONE
BEGIN:VEVENT
DTSTART;TZID=America/New_York:20260106T110000
DTEND;TZID=America/New_York:20260106T120000
DTSTAMP:20260420T130920
CREATED:20251223T171855Z
LAST-MODIFIED:20251223T171855Z
UID:10000186-1767697200-1767700800@www.med.unc.edu
SUMMARY:Tuesday – GMB Defense: Jessica McAfee
DESCRIPTION:GMB Curriculum Student Defense\nGMB Curriculum Student Defense: Jessica McAfee\, student of Hyejung Won. Presented in partial satisfaction of the requirements for the degree of Doctor of Philosophy.
URL:https://www.med.unc.edu/gmb/event/tuesday-gmb-defense-jessica-mcafee/
LOCATION:1131 Bioinformatics Building\, 130 Mason Farm Road\, Chapel Hill\, NC\, 27599\, United States
CATEGORIES:Defenses
ATTACH;FMTTYPE=image/jpeg:https://www.med.unc.edu/gmb/wp-content/uploads/sites/1391/2025/12/Jessica-McAfee_Defense-Announcement-26-0106-scaled.jpg
END:VEVENT
BEGIN:VEVENT
DTSTART;TZID=America/New_York:20260109T120000
DTEND;TZID=America/New_York:20260109T130000
DTSTAMP:20260420T130920
CREATED:20251223T175632Z
LAST-MODIFIED:20251223T175632Z
UID:10000187-1767960000-1767963600@www.med.unc.edu
SUMMARY:Friday - GMB/BCB Seminar Series: Laura Lee
DESCRIPTION:GMB/BCB Friday Seminar Series\nThe GMB/BCB Friday Seminar Series welcomes Laura Lee\, Assistant Professor of Biology at UNC Chapel Hill\, on Friday\, January 9\, 2026. Dr. Lee’s talk title is “How does GSH regulate cell cycle progression in plants?”. Dr. Lee is hosted by Dan McKay\, Associate Professor of Biology and Genetics.
URL:https://www.med.unc.edu/gmb/event/friday-gmb-bcb-seminar-series-laura-lee/
LOCATION:1131 Bioinformatics Building\, 130 Mason Farm Road\, Chapel Hill\, NC\, 27599\, United States
CATEGORIES:Faculty Seminars
ATTACH;FMTTYPE=image/jpeg:https://www.med.unc.edu/gmb/wp-content/uploads/sites/1391/2025/12/GMB-BCB-Friday-Seminar-Series-January-9-2026.jpg
END:VEVENT
BEGIN:VEVENT
DTSTART;TZID=America/New_York:20260113T090000
DTEND;TZID=America/New_York:20260113T100000
DTSTAMP:20260420T130920
CREATED:20260105T143902Z
LAST-MODIFIED:20260105T144855Z
UID:10000190-1768294800-1768298400@www.med.unc.edu
SUMMARY:Tuesday – GMB Student Seminar Series: Koitz
DESCRIPTION:Genetics & Molecular Biology Student Seminar Series\nWeekly seminar series featuring talks from the students of the UNC Curriculum in Genetics & Molecular Biology. \nThis week’s speaker is Fred Koitz from the Kacy Gordon Lab.
URL:https://www.med.unc.edu/gmb/event/tuesday-gmb-student-seminar-series-koitz/
LOCATION:Pagano Room at Lineberger\, 450 West Drive\, Chapel Hill\, NC\, 27599
CATEGORIES:Student Seminars
ATTACH;FMTTYPE=image/jpeg:https://www.med.unc.edu/gmb/wp-content/uploads/sites/1391/2026/01/GMB-Student-Seminars_26-0113-1.jpg
END:VEVENT
BEGIN:VEVENT
DTSTART;TZID=America/New_York:20260116T120000
DTEND;TZID=America/New_York:20260116T130000
DTSTAMP:20260420T130920
CREATED:20251223T203801Z
LAST-MODIFIED:20251223T203801Z
UID:10000188-1768564800-1768568400@www.med.unc.edu
SUMMARY:Friday - GMB/BCB Seminar Series: Jun Li
DESCRIPTION:GMB/BCB Friday Seminar Series\nThe GMB/BCB Friday Seminar Series welcomes Jun Li\, Associate Professor\, School of Data Science and Society at UNC Chapel Hill\, on Friday\, January 16\, 2026. Dr. Li’s talk title is “Functional Proteomic Landscapes across Human Cancers”. Dr. Li is hosted by Will Valdar\, Professor of Genetics and Biostatistics.
URL:https://www.med.unc.edu/gmb/event/friday-gmb-bcb-seminar-series-jun-li/
LOCATION:1131 Bioinformatics Building\, 130 Mason Farm Road\, Chapel Hill\, NC\, 27599\, United States
CATEGORIES:Faculty Seminars
ATTACH;FMTTYPE=image/jpeg:https://www.med.unc.edu/gmb/wp-content/uploads/sites/1391/2025/12/GMB-BCB-Friday-Seminar-Series-January-16-2026-scaled.jpeg
END:VEVENT
BEGIN:VEVENT
DTSTART;VALUE=DATE:20260119
DTEND;VALUE=DATE:20260120
DTSTAMP:20260420T130920
CREATED:20260112T144230Z
LAST-MODIFIED:20260112T144230Z
UID:10000193-1768780800-1768867199@www.med.unc.edu
SUMMARY:Monday – UNC Holiday – Martin Luther King\, Jr. Birthday 2026
DESCRIPTION:UNC Holiday – Martin Luther King\, Jr. Birthday\nOffices Closed \nNo Classes \nUNC HR Holiday Calendar \nUNC Academic Calendar
URL:https://www.med.unc.edu/gmb/event/monday-unc-holiday-martin-luther-king-jr-birthday-2026/
LOCATION:NC
CATEGORIES:University Events
ATTACH;FMTTYPE=image/jpeg:https://www.med.unc.edu/gmb/wp-content/uploads/sites/1391/2026/01/UNC-Chapel-Hill-Holiday.jpg
END:VEVENT
BEGIN:VEVENT
DTSTART;TZID=America/New_York:20260120T090000
DTEND;TZID=America/New_York:20260120T100000
DTSTAMP:20260420T130920
CREATED:20260112T143338Z
LAST-MODIFIED:20260112T152105Z
UID:10000192-1768899600-1768903200@www.med.unc.edu
SUMMARY:Tuesday – GMB Student Seminar Series: Kornegay & Edwards
DESCRIPTION:Genetics & Molecular Biology Student Seminar Series\nWeekly seminar series featuring talks from the students of the UNC Curriculum in Genetics & Molecular Biology. \nThis week’s speakers are Benjamin Kornegay from the Jill Dowen Lab and Alyssa Edwards from the Cary Moody Lab.
URL:https://www.med.unc.edu/gmb/event/tuesday-gmb-student-seminar-series-kornegay-edwards/
LOCATION:Pagano Room at Lineberger\, 450 West Drive\, Chapel Hill\, NC\, 27599
CATEGORIES:Student Seminars
ATTACH;FMTTYPE=image/jpeg:https://www.med.unc.edu/gmb/wp-content/uploads/sites/1391/2026/01/GMB-Student-Seminars_26-0120-2.jpg
END:VEVENT
BEGIN:VEVENT
DTSTART;TZID=America/New_York:20260122T140000
DTEND;TZID=America/New_York:20260122T150000
DTSTAMP:20260420T130920
CREATED:20260109T202556Z
LAST-MODIFIED:20260109T202556Z
UID:10000191-1769090400-1769094000@www.med.unc.edu
SUMMARY:Thursday – GMB Defense: Yibo Si
DESCRIPTION:GMB Curriculum Student Defense\nGMB Curriculum Student Defense: Yibo Si\, student of Henrik Dohlman. Presented in partial satisfaction of the requirements for the degree of Doctor of Philosophy.
URL:https://www.med.unc.edu/gmb/event/thursday-gmb-defense-yibo-si/
LOCATION:1131 Bioinformatics Building\, 130 Mason Farm Road\, Chapel Hill\, NC\, 27599\, United States
CATEGORIES:Defenses
ATTACH;FMTTYPE=image/jpeg:https://www.med.unc.edu/gmb/wp-content/uploads/sites/1391/2026/01/Yibo-Si_Defense-Announcement-26-0122-scaled.jpg
END:VEVENT
BEGIN:VEVENT
DTSTART;TZID=America/New_York:20260123T120000
DTEND;TZID=America/New_York:20260123T130000
DTSTAMP:20260420T130920
CREATED:20260102T184208Z
LAST-MODIFIED:20260102T184318Z
UID:10000189-1769169600-1769173200@www.med.unc.edu
SUMMARY:Friday - GMB/BCB Seminar Series: Yarui Diao
DESCRIPTION:GMB/BCB Friday Seminar Series\nThe GMB/BCB Friday Seminar Series welcomes Yarui Diao\, Associate Professor\, Department of Cell Biology at Duke University\, on Friday\, January 23\, 2026. Dr. Diao’s talk title is “Regeneration Genomics: From Omics Technologies to Mechanism-Informed Regenerative Medicine”. Dr. Diao is hosted by Jill Dowen\, Associate Professor of Biology and Biochemistry & Biophysics.
URL:https://www.med.unc.edu/gmb/event/friday-gmb-bcb-seminar-series-yarui-diao/
LOCATION:1131 Bioinformatics Building\, 130 Mason Farm Road\, Chapel Hill\, NC\, 27599\, United States
CATEGORIES:Faculty Seminars
ATTACH;FMTTYPE=image/jpeg:https://www.med.unc.edu/gmb/wp-content/uploads/sites/1391/2026/01/GMB-BCB-Friday-Seminar-Series-January-23-2026-scaled.jpeg
END:VEVENT
BEGIN:VEVENT
DTSTART;TZID=America/New_York:20260127T090000
DTEND;TZID=America/New_York:20260127T100000
DTSTAMP:20260420T130920
CREATED:20260116T194256Z
LAST-MODIFIED:20260126T140103Z
UID:10000195-1769504400-1769508000@www.med.unc.edu
SUMMARY:Tuesday – CANCELLED - GMB Student Seminar Series: Coke & Boyson
DESCRIPTION:Genetics & Molecular Biology Student Seminar Series\nWeekly seminar series featuring talks from the students of the UNC Curriculum in Genetics & Molecular Biology. \nThis week’s speakers are Addie Coke from the Bob Goldstein and Christina Burch Labs and Sam Boyson from the Mauro Calabrese Lab. \n*Talks to be rescheduled due to weather.
URL:https://www.med.unc.edu/gmb/event/tuesday-gmb-student-seminar-series-coke-boyson/
LOCATION:Pagano Room at Lineberger\, 450 West Drive\, Chapel Hill\, NC\, 27599
CATEGORIES:Student Seminars
ATTACH;FMTTYPE=image/jpeg:https://www.med.unc.edu/gmb/wp-content/uploads/sites/1391/2026/01/GMB-Student-Seminars_26-0127.jpg
END:VEVENT
BEGIN:VEVENT
DTSTART;TZID=America/New_York:20260128T090000
DTEND;TZID=America/New_York:20260128T100000
DTSTAMP:20260420T130920
CREATED:20260113T210706Z
LAST-MODIFIED:20260126T123148Z
UID:10000194-1769590800-1769594400@www.med.unc.edu
SUMMARY:Wednesday – GMB Defense: Carolyn Turcotte
DESCRIPTION:GMB Curriculum Student Defense\nGMB Curriculum Student Defense: Carolyn Turcotte\, student of Jeff Sekelsky. Presented in partial satisfaction of the requirements for the degree of Doctor of Philosophy. \n*Note new date\, time\, and location due to weather conditions.
URL:https://www.med.unc.edu/gmb/event/wednesday-gmb-defense-carolyn-turcotte/
LOCATION:G100 Bondurant Hall\, 321 South Columbia Street\, Chapel Hill\, NC\, 27514\, United States
CATEGORIES:Defenses
ATTACH;FMTTYPE=image/jpeg:https://www.med.unc.edu/gmb/wp-content/uploads/sites/1391/2026/01/Carolyn-Turcotte_Defense-Announcement-26-0128-scaled.jpg
END:VEVENT
END:VCALENDAR