BEGIN:VCALENDAR
VERSION:2.0
PRODID:-//Clinical Laboratory Science - ECPv6.15.18//NONSGML v1.0//EN
CALSCALE:GREGORIAN
METHOD:PUBLISH
X-ORIGINAL-URL:https://www.med.unc.edu/healthsciences/clinical
X-WR-CALDESC:Events for Clinical Laboratory Science
REFRESH-INTERVAL;VALUE=DURATION:PT1H
X-Robots-Tag:noindex
X-PUBLISHED-TTL:PT1H
BEGIN:VTIMEZONE
TZID:America/New_York
BEGIN:DAYLIGHT
TZOFFSETFROM:-0500
TZOFFSETTO:-0400
TZNAME:EDT
DTSTART:20230312T070000
END:DAYLIGHT
BEGIN:STANDARD
TZOFFSETFROM:-0400
TZOFFSETTO:-0500
TZNAME:EST
DTSTART:20231105T060000
END:STANDARD
BEGIN:DAYLIGHT
TZOFFSETFROM:-0500
TZOFFSETTO:-0400
TZNAME:EDT
DTSTART:20240310T070000
END:DAYLIGHT
BEGIN:STANDARD
TZOFFSETFROM:-0400
TZOFFSETTO:-0500
TZNAME:EST
DTSTART:20241103T060000
END:STANDARD
BEGIN:DAYLIGHT
TZOFFSETFROM:-0500
TZOFFSETTO:-0400
TZNAME:EDT
DTSTART:20250309T070000
END:DAYLIGHT
BEGIN:STANDARD
TZOFFSETFROM:-0400
TZOFFSETTO:-0500
TZNAME:EST
DTSTART:20251102T060000
END:STANDARD
END:VTIMEZONE
BEGIN:VEVENT
DTSTART;TZID=America/New_York:20240301T163000
DTEND;TZID=America/New_York:20240301T173000
DTSTAMP:20260423T005526
CREATED:20240108T024058Z
LAST-MODIFIED:20240108T024058Z
UID:10000252-1709310600-1709314200@www.med.unc.edu
SUMMARY:Take a Lab Tour with a CLS Student
DESCRIPTION:The faculty and students of the Division of CLS offer many opportunities each semester to engage with us and find out more about the profession of Medical Laboratory Science. This semester\, you can sit in on a class\, meet with a faculty member\, or take a lab tour with a CLS student. Sign up today!
URL:https://www.med.unc.edu/healthsciences/clinical/event/take-a-lab-tour-with-a-cls-student/2024-03-01/
CATEGORIES:Lab Tour,Learn More About Clinical Laboratory Science
ATTACH;FMTTYPE=image/png:https://www.med.unc.edu/healthsciences/clinical/wp-content/uploads/sites/590/2023/08/ELP_6222-Edited.png
ORGANIZER;CN="Division of Clinical Laboratory Science":MAILTO:CLSProgram@med.unc.edu
END:VEVENT
END:VCALENDAR