BEGIN:VCALENDAR
VERSION:2.0
PRODID:-//Division of Occupational Science and Occupational Therapy - ECPv6.15.18//NONSGML v1.0//EN
CALSCALE:GREGORIAN
METHOD:PUBLISH
X-ORIGINAL-URL:https://www.med.unc.edu/healthsciences/ocsci
X-WR-CALDESC:Events for Division of Occupational Science and Occupational Therapy
REFRESH-INTERVAL;VALUE=DURATION:PT1H
X-Robots-Tag:noindex
X-PUBLISHED-TTL:PT1H
BEGIN:VTIMEZONE
TZID:America/New_York
BEGIN:DAYLIGHT
TZOFFSETFROM:-0500
TZOFFSETTO:-0400
TZNAME:EDT
DTSTART:20220313T070000
END:DAYLIGHT
BEGIN:STANDARD
TZOFFSETFROM:-0400
TZOFFSETTO:-0500
TZNAME:EST
DTSTART:20221106T060000
END:STANDARD
BEGIN:DAYLIGHT
TZOFFSETFROM:-0500
TZOFFSETTO:-0400
TZNAME:EDT
DTSTART:20230312T070000
END:DAYLIGHT
BEGIN:STANDARD
TZOFFSETFROM:-0400
TZOFFSETTO:-0500
TZNAME:EST
DTSTART:20231105T060000
END:STANDARD
BEGIN:DAYLIGHT
TZOFFSETFROM:-0500
TZOFFSETTO:-0400
TZNAME:EDT
DTSTART:20240310T070000
END:DAYLIGHT
BEGIN:STANDARD
TZOFFSETFROM:-0400
TZOFFSETTO:-0500
TZNAME:EST
DTSTART:20241103T060000
END:STANDARD
END:VTIMEZONE
BEGIN:VEVENT
DTSTART;TZID=America/New_York:20230515T191500
DTEND;TZID=America/New_York:20230515T201500
DTSTAMP:20260424T111622
CREATED:20230421T141927Z
LAST-MODIFIED:20230421T141927Z
UID:10000043-1684178100-1684181700@www.med.unc.edu
SUMMARY:Continuing Education: Ethics Event 2023
DESCRIPTION:The UNC Division of Occupational Science and Occupational Therapy is pleased that Dr. Micheal Sandbank will be presenting “Ethical Considerations for Enacting Evidence-Based Practice” at this year’s Ethics Event and a panel of practitioners will share their perspectives. \nWe hope you’ll join us for this free hybrid event. \nWhen: Monday\, May 15 at 7:15 p.m.\nWhere: Bondurant Hall G100 OR Zoom\nUNC Campus visitors may acquire a temporary $1 parking pass for the evening of the event. Click here to follow the instructions to acquire a parking pass.\n\nWe will be issuing a certificate of attendance for this event – details for accessing the certificate will be shared at the end of the event.
URL:https://www.med.unc.edu/healthsciences/ocsci/event/continuing-education-ethics-event-2023/
LOCATION:Bondurant Hall\, Room G100
END:VEVENT
END:VCALENDAR