BEGIN:VCALENDAR
VERSION:2.0
PRODID:-//NC School-Based Occupational Therapy - ECPv6.15.18//NONSGML v1.0//EN
CALSCALE:GREGORIAN
METHOD:PUBLISH
X-ORIGINAL-URL:https://www.med.unc.edu/healthsciences/ocsci/nc-school-based-ot
X-WR-CALDESC:Events for NC School-Based Occupational Therapy
REFRESH-INTERVAL;VALUE=DURATION:PT1H
X-Robots-Tag:noindex
X-PUBLISHED-TTL:PT1H
BEGIN:VTIMEZONE
TZID:America/New_York
BEGIN:DAYLIGHT
TZOFFSETFROM:-0500
TZOFFSETTO:-0400
TZNAME:EDT
DTSTART:20180311T070000
END:DAYLIGHT
BEGIN:STANDARD
TZOFFSETFROM:-0400
TZOFFSETTO:-0500
TZNAME:EST
DTSTART:20181104T060000
END:STANDARD
BEGIN:DAYLIGHT
TZOFFSETFROM:-0500
TZOFFSETTO:-0400
TZNAME:EDT
DTSTART:20190310T070000
END:DAYLIGHT
BEGIN:STANDARD
TZOFFSETFROM:-0400
TZOFFSETTO:-0500
TZNAME:EST
DTSTART:20191103T060000
END:STANDARD
BEGIN:DAYLIGHT
TZOFFSETFROM:-0500
TZOFFSETTO:-0400
TZNAME:EDT
DTSTART:20200308T070000
END:DAYLIGHT
BEGIN:STANDARD
TZOFFSETFROM:-0400
TZOFFSETTO:-0500
TZNAME:EST
DTSTART:20201101T060000
END:STANDARD
BEGIN:DAYLIGHT
TZOFFSETFROM:-0500
TZOFFSETTO:-0400
TZNAME:EDT
DTSTART:20210314T070000
END:DAYLIGHT
BEGIN:STANDARD
TZOFFSETFROM:-0400
TZOFFSETTO:-0500
TZNAME:EST
DTSTART:20211107T060000
END:STANDARD
BEGIN:DAYLIGHT
TZOFFSETFROM:-0500
TZOFFSETTO:-0400
TZNAME:EDT
DTSTART:20220313T070000
END:DAYLIGHT
BEGIN:STANDARD
TZOFFSETFROM:-0400
TZOFFSETTO:-0500
TZNAME:EST
DTSTART:20221106T060000
END:STANDARD
BEGIN:DAYLIGHT
TZOFFSETFROM:-0500
TZOFFSETTO:-0400
TZNAME:EDT
DTSTART:20230312T070000
END:DAYLIGHT
BEGIN:STANDARD
TZOFFSETFROM:-0400
TZOFFSETTO:-0500
TZNAME:EST
DTSTART:20231105T060000
END:STANDARD
BEGIN:DAYLIGHT
TZOFFSETFROM:-0500
TZOFFSETTO:-0400
TZNAME:EDT
DTSTART:20240310T070000
END:DAYLIGHT
BEGIN:STANDARD
TZOFFSETFROM:-0400
TZOFFSETTO:-0500
TZNAME:EST
DTSTART:20241103T060000
END:STANDARD
END:VTIMEZONE
BEGIN:VEVENT
DTSTART;TZID=America/New_York:20230927T100000
DTEND;TZID=America/New_York:20230927T150000
DTSTAMP:20260425T144442
CREATED:20230810T205027Z
LAST-MODIFIED:20230905T175836Z
UID:10000363-1695808800-1695826800@www.med.unc.edu
SUMMARY:2023 Fall Statewide Meeting for Related Service Provider Representatives (East)
DESCRIPTION:East: September 27\, 2023 | 10:00am – 3:00pm \nWest: September 29\, 2023 | 10:00am – 3:00pm \nRegister today! \n 
URL:https://www.med.unc.edu/healthsciences/ocsci/nc-school-based-ot/event/2023-fall-statewide-meeting-for-related-service-provider-representatives/
LOCATION:Edgecombe County Community College\, 2009 W. Wilson St.\, Tarboro\, NC\, United States
ATTACH;FMTTYPE=image/jpeg:https://www.med.unc.edu/healthsciences/ocsci/nc-school-based-ot/wp-content/uploads/sites/765/2023/08/Save-the-Date-2023-2024-scaled.jpg
END:VEVENT
BEGIN:VEVENT
DTSTART;TZID=America/New_York:20190926T090000
DTEND;TZID=America/New_York:20190926T160000
DTSTAMP:20260425T144442
CREATED:20190919T150700Z
LAST-MODIFIED:20190919T150700Z
UID:10000228-1569488400-1569513600@www.med.unc.edu
SUMMARY:Fall 2019 Related Service Representatives Meeting - East
DESCRIPTION:Fall 2019 Statewide Meeting of Related Services Representatives (Audiology\, Occupational Therapy\, Physical Therapy\, School Psychology\, and Speech-Language Pathology) \nNC Department of Public Instruction’s related services consultants are pleased to announce the Fall 2019 meetings of PSU representative practitioners from each discipline for two dates/locations: \nEAST – Thursday\, September 26\, 2019\, Edgecombe County Community College\, 2009 West Wilson Street\, Tarboro\, NC 27886\, Keihin Auditorium \nWEST – Monday\, September 30\, 2019\, Brookstone Church\, 90 Griffee Road\, Weaverville\, NC 28787 \nBoth meetings will begin at 9:00 a.m. and conclude at 4:00 p.m. with a one-hour break for lunch. Participants will need to bring their lunch or dine at a nearby restaurant. \nEach PSU in NC should send ONE (1) representative\, which may include contracted personnel\, from each discipline to one of the meetings. \nThese are duplicated meetings; there is no need to attend both. We have divided the state to improve access for participants. \nPSUs are also encouraged to utilize PRC 118 funding to support participation at this meeting and reimburse travel costs. \nAn agenda will be emailed to registered participants prior to the meeting. \nQuestions about these meetings can be directed to the appropriate consultant: \n\nSherri Vernelson\, Audiology – sherri.vernelson@dpi.nc.gov\nLaurie Ray\, Consultant for Physical Therapy – laurie_ray@med.unc.edu\nVacant\, Consultant for Occupational Therapy – lauren.holahan@dpi.nc.gov\nLynn Makor\, Consultant for School Psychology – lynn.makor@dpi.nc.gov\nPerry Flynn\, Consultant for Speech-Language Pathology – pfflynn@uncg.edu\n\nRegistration requirements include: 1 representative per discipline per PSU \nIf all requirements are successfully completed\, participation in this professional learning results in .6 CEUs (6 Contact Hours). \nQuestions about this professional learning can be directed to Amy McLemore at amy_mclemore@med.unc.edu.
URL:https://www.med.unc.edu/healthsciences/ocsci/nc-school-based-ot/event/fall-2019-related-service-representatives-meeting-east/
LOCATION:Edgecombe County Community College\, 2009 W. Wilson St.\, Tarboro\, NC\, United States
END:VEVENT
END:VCALENDAR