BEGIN:VCALENDAR
VERSION:2.0
PRODID:-//NC School-Based Physical Therapy - ECPv6.15.18//NONSGML v1.0//EN
CALSCALE:GREGORIAN
METHOD:PUBLISH
X-ORIGINAL-URL:https://www.med.unc.edu/healthsciences/physical/schoolbasedpt
X-WR-CALDESC:Events for NC School-Based Physical Therapy
REFRESH-INTERVAL;VALUE=DURATION:PT1H
X-Robots-Tag:noindex
X-PUBLISHED-TTL:PT1H
BEGIN:VTIMEZONE
TZID:America/New_York
BEGIN:DAYLIGHT
TZOFFSETFROM:-0500
TZOFFSETTO:-0400
TZNAME:EDT
DTSTART:20180311T070000
END:DAYLIGHT
BEGIN:STANDARD
TZOFFSETFROM:-0400
TZOFFSETTO:-0500
TZNAME:EST
DTSTART:20181104T060000
END:STANDARD
BEGIN:DAYLIGHT
TZOFFSETFROM:-0500
TZOFFSETTO:-0400
TZNAME:EDT
DTSTART:20190310T070000
END:DAYLIGHT
BEGIN:STANDARD
TZOFFSETFROM:-0400
TZOFFSETTO:-0500
TZNAME:EST
DTSTART:20191103T060000
END:STANDARD
BEGIN:DAYLIGHT
TZOFFSETFROM:-0500
TZOFFSETTO:-0400
TZNAME:EDT
DTSTART:20200308T070000
END:DAYLIGHT
BEGIN:STANDARD
TZOFFSETFROM:-0400
TZOFFSETTO:-0500
TZNAME:EST
DTSTART:20201101T060000
END:STANDARD
END:VTIMEZONE
BEGIN:VEVENT
DTSTART;VALUE=DATE:20191115
DTEND;VALUE=DATE:20191118
DTSTAMP:20260423T122030
CREATED:20190919T141919Z
LAST-MODIFIED:20190919T142007Z
UID:10000479-1573776000-1574035199@www.med.unc.edu
SUMMARY:Annual Conference of the Academy of Pediatric Physical Therapy
DESCRIPTION:APPTAC is the Annual Conference of the Academy of Pediatric Physical Therapy\, a specialty component of the American Physical Therapy Association. APPTAC is a 3-day continuing education event to advance pediatric therapy with specialty educational sessions\, 2 days of preconference courses (to be held November 13 & 14)\, poster/platform presentations\, a practice fair\, an exhibit hall\, fitness activities\, social events\, and more. \nRegister to Attend: Early Bird Rates Apply Through August 30\, Advance Rates Apply Through October 28 \nLooking for a roommate during your stay at Disneyland? Share you information via the APPTAC Roommate Finder.
URL:https://www.med.unc.edu/healthsciences/physical/schoolbasedpt/event/annual-conference-of-the-academy-of-pediatric-physical-therapy/
LOCATION:Disneyland Hotel\, 1313 Disneyland Railroad\, Anaheim\, CA\, 92802\, United States
END:VEVENT
END:VCALENDAR