BEGIN:VCALENDAR
VERSION:2.0
PRODID:-//NC School-Based Physical Therapy - ECPv6.15.18//NONSGML v1.0//EN
CALSCALE:GREGORIAN
METHOD:PUBLISH
X-ORIGINAL-URL:https://www.med.unc.edu/healthsciences/physical/schoolbasedpt
X-WR-CALDESC:Events for NC School-Based Physical Therapy
REFRESH-INTERVAL;VALUE=DURATION:PT1H
X-Robots-Tag:noindex
X-PUBLISHED-TTL:PT1H
BEGIN:VTIMEZONE
TZID:America/New_York
BEGIN:DAYLIGHT
TZOFFSETFROM:-0500
TZOFFSETTO:-0400
TZNAME:EDT
DTSTART:20210314T070000
END:DAYLIGHT
BEGIN:STANDARD
TZOFFSETFROM:-0400
TZOFFSETTO:-0500
TZNAME:EST
DTSTART:20211107T060000
END:STANDARD
BEGIN:DAYLIGHT
TZOFFSETFROM:-0500
TZOFFSETTO:-0400
TZNAME:EDT
DTSTART:20220313T070000
END:DAYLIGHT
BEGIN:STANDARD
TZOFFSETFROM:-0400
TZOFFSETTO:-0500
TZNAME:EST
DTSTART:20221106T060000
END:STANDARD
BEGIN:DAYLIGHT
TZOFFSETFROM:-0500
TZOFFSETTO:-0400
TZNAME:EDT
DTSTART:20230312T070000
END:DAYLIGHT
BEGIN:STANDARD
TZOFFSETFROM:-0400
TZOFFSETTO:-0500
TZNAME:EST
DTSTART:20231105T060000
END:STANDARD
END:VTIMEZONE
BEGIN:VEVENT
DTSTART;TZID=America/New_York:20221129T080000
DTEND;TZID=America/New_York:20221129T170000
DTSTAMP:20260422T090140
CREATED:20221129T211633Z
LAST-MODIFIED:20221129T211633Z
UID:10000446-1669708800-1669741200@www.med.unc.edu
SUMMARY:Virtual Meeting/Office Hours: Medicaid
DESCRIPTION:Share ideas\, procedures & policies\, answer questions\, clarify issues\, network\, brainstorm together. \nBring your questions about Medicaid to these office hours over lunch\, each month/3rd Wednesday 12-1p \nCheck the Virtual Meeting Hub for meeting links and updates.
URL:https://www.med.unc.edu/healthsciences/physical/schoolbasedpt/event/virtual-meeting-office-hours-medicaid/
LOCATION:NC\, United States
CATEGORIES:Professional Development,Virtual Meeting Hub
END:VEVENT
END:VCALENDAR