BEGIN:VCALENDAR
VERSION:2.0
PRODID:-//NC School-Based Physical Therapy - ECPv6.15.18//NONSGML v1.0//EN
CALSCALE:GREGORIAN
METHOD:PUBLISH
X-ORIGINAL-URL:https://www.med.unc.edu/healthsciences/physical/schoolbasedpt
X-WR-CALDESC:Events for NC School-Based Physical Therapy
REFRESH-INTERVAL;VALUE=DURATION:PT1H
X-Robots-Tag:noindex
X-PUBLISHED-TTL:PT1H
BEGIN:VTIMEZONE
TZID:America/New_York
BEGIN:DAYLIGHT
TZOFFSETFROM:-0500
TZOFFSETTO:-0400
TZNAME:EDT
DTSTART:20230312T070000
END:DAYLIGHT
BEGIN:STANDARD
TZOFFSETFROM:-0400
TZOFFSETTO:-0500
TZNAME:EST
DTSTART:20231105T060000
END:STANDARD
BEGIN:DAYLIGHT
TZOFFSETFROM:-0500
TZOFFSETTO:-0400
TZNAME:EDT
DTSTART:20240310T070000
END:DAYLIGHT
BEGIN:STANDARD
TZOFFSETFROM:-0400
TZOFFSETTO:-0500
TZNAME:EST
DTSTART:20241103T060000
END:STANDARD
BEGIN:DAYLIGHT
TZOFFSETFROM:-0500
TZOFFSETTO:-0400
TZNAME:EDT
DTSTART:20250309T070000
END:DAYLIGHT
BEGIN:STANDARD
TZOFFSETFROM:-0400
TZOFFSETTO:-0500
TZNAME:EST
DTSTART:20251102T060000
END:STANDARD
END:VTIMEZONE
BEGIN:VEVENT
DTSTART;TZID=America/New_York:20240221T120000
DTEND;TZID=America/New_York:20240221T130000
DTSTAMP:20260422T035418
CREATED:20231101T152443Z
LAST-MODIFIED:20231101T152443Z
UID:10000651-1708516800-1708520400@www.med.unc.edu
SUMMARY:Office hours for EC Directors & Coordinators
DESCRIPTION:Bring any questions\, confusion or issues you have regarding physical therapy or topics I can assist with or talk through with you.  \nLet’s figure it out together! \nView on the Virtual Meeting Hub
URL:https://www.med.unc.edu/healthsciences/physical/schoolbasedpt/event/office-hours-for-ec-directors-coordinators/2024-02-21/
CATEGORIES:Virtual Meeting Hub
ATTACH;FMTTYPE=image/png:https://www.med.unc.edu/healthsciences/physical/schoolbasedpt/wp-content/uploads/sites/662/2023/08/DPI-logo-NEW-box-only.png
END:VEVENT
END:VCALENDAR