BEGIN:VCALENDAR
VERSION:2.0
PRODID:-//NC School-Based Physical Therapy - ECPv6.15.18//NONSGML v1.0//EN
CALSCALE:GREGORIAN
METHOD:PUBLISH
X-ORIGINAL-URL:https://www.med.unc.edu/healthsciences/physical/schoolbasedpt
X-WR-CALDESC:Events for NC School-Based Physical Therapy
REFRESH-INTERVAL;VALUE=DURATION:PT1H
X-Robots-Tag:noindex
X-PUBLISHED-TTL:PT1H
BEGIN:VTIMEZONE
TZID:America/New_York
BEGIN:DAYLIGHT
TZOFFSETFROM:-0500
TZOFFSETTO:-0400
TZNAME:EDT
DTSTART:20180311T070000
END:DAYLIGHT
BEGIN:STANDARD
TZOFFSETFROM:-0400
TZOFFSETTO:-0500
TZNAME:EST
DTSTART:20181104T060000
END:STANDARD
BEGIN:DAYLIGHT
TZOFFSETFROM:-0500
TZOFFSETTO:-0400
TZNAME:EDT
DTSTART:20190310T070000
END:DAYLIGHT
BEGIN:STANDARD
TZOFFSETFROM:-0400
TZOFFSETTO:-0500
TZNAME:EST
DTSTART:20191103T060000
END:STANDARD
BEGIN:DAYLIGHT
TZOFFSETFROM:-0500
TZOFFSETTO:-0400
TZNAME:EDT
DTSTART:20200308T070000
END:DAYLIGHT
BEGIN:STANDARD
TZOFFSETFROM:-0400
TZOFFSETTO:-0500
TZNAME:EST
DTSTART:20201101T060000
END:STANDARD
END:VTIMEZONE
BEGIN:VEVENT
DTSTART;TZID=America/New_York:20190930T090000
DTEND;TZID=America/New_York:20190930T160000
DTSTAMP:20260421T220446
CREATED:20190919T135958Z
LAST-MODIFIED:20190919T144614Z
UID:10000462-1569834000-1569859200@www.med.unc.edu
SUMMARY:Fall 2019 Related Service Representatives Meeting – West
DESCRIPTION:Fall 2019 Statewide Meeting of Related Services Representatives (Audiology\, Occupational Therapy\, Physical Therapy\, School Psychology\, and Speech-Language Pathology) \nNC Department of Public Instruction’s related services consultants are pleased to announce the Fall 2019 meetings of PSU representative practitioners from each discipline for two dates/locations: \nEAST – Thursday\, September 26\, 2019\, Edgecombe County Community College\, 2009 West Wilson Street\, Tarboro\, NC 27886\, Keihin Auditorium \nWEST – Monday\, September 30\, 2019\, Brookstone Church\, 90 Griffee Road\, Weaverville\, NC 28787 \nBoth meetings will begin at 9:00 a.m. and conclude at 4:00 p.m. with a one-hour break for lunch. Participants will need to bring their lunch or dine at a nearby restaurant. \nEach PSU in NC should send ONE (1) representative\, which may include contracted personnel\, from each discipline to one of the meetings. \nThese are duplicated meetings; there is no need to attend both. We have divided the state to improve access for participants. \nPSUs are also encouraged to utilize PRC 118 funding to support participation at this meeting and reimburse travel costs. \nAn agenda will be emailed to registered participants prior to the meeting. \nQuestions about these meetings can be directed to the appropriate consultant: \n\nSherri Vernelson\, Audiology – sherri.vernelson@dpi.nc.gov\nLaurie Ray\, Consultant for Physical Therapy – laurie_ray@med.unc.edu\nVacant\, Consultant for Occupational Therapy – lauren.holahan@dpi.nc.gov\nLynn Makor\, Consultant for School Psychology – lynn.makor@dpi.nc.gov\nPerry Flynn\, Consultant for Speech-Language Pathology – pfflynn@uncg.edu\n\nRegistration requirements include: 1 representative per discipline per PSU \nIf all requirements are successfully completed\, participation in this professional learning results in .6 CEUs (6 Contact Hours). \nQuestions about this professional learning can be directed to Amy McLemore at amy_mclemore@med.unc.edu.
URL:https://www.med.unc.edu/healthsciences/physical/schoolbasedpt/event/fall-2019-related-service-representatives-meeting-west/
LOCATION:Brookstone Church\, 90 Griffee Road\, Weaverville\, NC\, 28787\, United States
END:VEVENT
BEGIN:VEVENT
DTSTART;TZID=America/New_York:20191002T130000
DTEND;TZID=America/New_York:20191004T170000
DTSTAMP:20260421T220446
CREATED:20190919T141108Z
LAST-MODIFIED:20190919T141108Z
UID:10000461-1570021200-1570208400@www.med.unc.edu
SUMMARY:2019 17th Annual NAME Conference
DESCRIPTION:The NAME Annual Conference is a national forum for professionals working in education and/or health care and related fields. The conference provides a unique opportunity to network with colleagues and similar professionals in the field of School Based Health at the Local\, State and Federal levels. \nOur national conference provides an opportunity for professional development with the latest information in research\, experience and best practices for Medicaid in Education. When attending our conferences you will hear presentations on topics in areas such as: \n\nMedicaid reimbursement to schools\nCompliance with school-based Medicaid billing and audit requirements\nInnovative ways to provide and pay for school health services and related services for students with disabilities\nPotential health care legislation changes and the relationship to Medicaid in Education\n\n  \nConference Agenda \nConference Registration \nHotel Registration
URL:https://www.med.unc.edu/healthsciences/physical/schoolbasedpt/event/2019-17th-annual-name-conference/
LOCATION:Hyatt Regency Albuquerque Hotel\, 330 Tijeras Avenue NW\, Albuquerque\, NM\, 87102\, United States
END:VEVENT
END:VCALENDAR