BEGIN:VCALENDAR
VERSION:2.0
PRODID:-//NC School-Based Physical Therapy - ECPv6.15.18//NONSGML v1.0//EN
CALSCALE:GREGORIAN
METHOD:PUBLISH
X-ORIGINAL-URL:https://www.med.unc.edu/healthsciences/physical/schoolbasedpt
X-WR-CALDESC:Events for NC School-Based Physical Therapy
REFRESH-INTERVAL;VALUE=DURATION:PT1H
X-Robots-Tag:noindex
X-PUBLISHED-TTL:PT1H
BEGIN:VTIMEZONE
TZID:America/New_York
BEGIN:DAYLIGHT
TZOFFSETFROM:-0500
TZOFFSETTO:-0400
TZNAME:EDT
DTSTART:20230312T070000
END:DAYLIGHT
BEGIN:STANDARD
TZOFFSETFROM:-0400
TZOFFSETTO:-0500
TZNAME:EST
DTSTART:20231105T060000
END:STANDARD
BEGIN:DAYLIGHT
TZOFFSETFROM:-0500
TZOFFSETTO:-0400
TZNAME:EDT
DTSTART:20240310T070000
END:DAYLIGHT
BEGIN:STANDARD
TZOFFSETFROM:-0400
TZOFFSETTO:-0500
TZNAME:EST
DTSTART:20241103T060000
END:STANDARD
BEGIN:DAYLIGHT
TZOFFSETFROM:-0500
TZOFFSETTO:-0400
TZNAME:EDT
DTSTART:20250309T070000
END:DAYLIGHT
BEGIN:STANDARD
TZOFFSETFROM:-0400
TZOFFSETTO:-0500
TZNAME:EST
DTSTART:20251102T060000
END:STANDARD
END:VTIMEZONE
BEGIN:VEVENT
DTSTART;TZID=America/New_York:20240221T120000
DTEND;TZID=America/New_York:20240221T130000
DTSTAMP:20260422T202817
CREATED:20231101T152443Z
LAST-MODIFIED:20231101T152443Z
UID:10000651-1708516800-1708520400@www.med.unc.edu
SUMMARY:Office hours for EC Directors & Coordinators
DESCRIPTION:Bring any questions\, confusion or issues you have regarding physical therapy or topics I can assist with or talk through with you.  \nLet’s figure it out together! \nView on the Virtual Meeting Hub
URL:https://www.med.unc.edu/healthsciences/physical/schoolbasedpt/event/office-hours-for-ec-directors-coordinators/2024-02-21/
CATEGORIES:Virtual Meeting Hub
ATTACH;FMTTYPE=image/png:https://www.med.unc.edu/healthsciences/physical/schoolbasedpt/wp-content/uploads/sites/662/2023/08/DPI-logo-NEW-box-only.png
END:VEVENT
BEGIN:VEVENT
DTSTART;TZID=America/New_York:20240223T120000
DTEND;TZID=America/New_York:20240223T130000
DTSTAMP:20260422T202817
CREATED:20230811T204044Z
LAST-MODIFIED:20240209T172129Z
UID:10000622-1708689600-1708693200@www.med.unc.edu
SUMMARY:OT/PT Practice Pals Journal Club
DESCRIPTION:On designated Fridays\, we will hold a journal club. Every other month will be driven by PT and OT practice respectively; however\, all disciplines are welcome to attend all journal clubs. Participants are invited to suggest/select articles and/or lead/support the discussion. Your team can attend and then set up your own journal club. We hope to expand our knowledge of current evidence and assist each other as we practice applying new understanding into our work in schools.
URL:https://www.med.unc.edu/healthsciences/physical/schoolbasedpt/event/ot-pt-practice-pals-journal-club-2/2024-02-23/
CATEGORIES:Virtual Meeting Hub
END:VEVENT
BEGIN:VEVENT
DTSTART;TZID=America/New_York:20240223T180000
DTEND;TZID=America/New_York:20240224T173000
DTSTAMP:20260422T202817
CREATED:20240108T154440Z
LAST-MODIFIED:20240108T154440Z
UID:10000705-1708711200-1708795800@www.med.unc.edu
SUMMARY:NC CEC 37th Annual Conference
DESCRIPTION:Professional development opportunity\, details below. This conference is not endorsed\, affiliated with or sponsored by NC DPI. Shared for your information. \nNC CEC 37th Annual Conference\nFriday * February 23 (virtual awards ceremony)\nSaturday* February 24\, 2024 (in person) \n“Empowering Educators: Evidence-Based Practices for Exceptional Learners”\nCome together with administrators\, policymakers\, teacher educators\, special educators\, parents\, and fellow advocates from across our state to engage in collaboration and deepen our understanding of the latest insights in the field\, enriched by theory\, research\, and practical expertise!\n********** \nREGISTRATION Link EARLY BIRD SPECIALS!!\n*********\nKeynote Speaker: Dr. Julie Bost \n 
URL:https://www.med.unc.edu/healthsciences/physical/schoolbasedpt/event/nc-cec-37th-annual-conference/
CATEGORIES:Professional Development
END:VEVENT
END:VCALENDAR