BEGIN:VCALENDAR
VERSION:2.0
PRODID:-//NC School-Based Physical Therapy - ECPv6.15.18//NONSGML v1.0//EN
CALSCALE:GREGORIAN
METHOD:PUBLISH
X-ORIGINAL-URL:https://www.med.unc.edu/healthsciences/physical/schoolbasedpt
X-WR-CALDESC:Events for NC School-Based Physical Therapy
REFRESH-INTERVAL;VALUE=DURATION:PT1H
X-Robots-Tag:noindex
X-PUBLISHED-TTL:PT1H
BEGIN:VTIMEZONE
TZID:America/New_York
BEGIN:DAYLIGHT
TZOFFSETFROM:-0500
TZOFFSETTO:-0400
TZNAME:EDT
DTSTART:20200308T070000
END:DAYLIGHT
BEGIN:STANDARD
TZOFFSETFROM:-0400
TZOFFSETTO:-0500
TZNAME:EST
DTSTART:20201101T060000
END:STANDARD
BEGIN:DAYLIGHT
TZOFFSETFROM:-0500
TZOFFSETTO:-0400
TZNAME:EDT
DTSTART:20210314T070000
END:DAYLIGHT
BEGIN:STANDARD
TZOFFSETFROM:-0400
TZOFFSETTO:-0500
TZNAME:EST
DTSTART:20211107T060000
END:STANDARD
BEGIN:DAYLIGHT
TZOFFSETFROM:-0500
TZOFFSETTO:-0400
TZNAME:EDT
DTSTART:20220313T070000
END:DAYLIGHT
BEGIN:STANDARD
TZOFFSETFROM:-0400
TZOFFSETTO:-0500
TZNAME:EST
DTSTART:20221106T060000
END:STANDARD
END:VTIMEZONE
BEGIN:VEVENT
DTSTART;TZID=America/New_York:20210520T130000
DTEND;TZID=America/New_York:20210520T160000
DTSTAMP:20260421T180514
CREATED:20210510T210245Z
LAST-MODIFIED:20210510T210245Z
UID:10000497-1621515600-1621526400@www.med.unc.edu
SUMMARY:Spring 2021 Statewide Physical Therapy Meeting
DESCRIPTION:The Spring 2021 Statewide Physical Therpy Meeting will be held virtually on May 20\, 2021 from 1:00pm – 4:00pm. \nPlease register here an agenda will be sent out soon! \nThis meeting is open to all School-based Physical Therapists and PTAs in North Carolina. \n  \n 
URL:https://www.med.unc.edu/healthsciences/physical/schoolbasedpt/event/spring-2021-statewide-physical-therapy-meeting/
LOCATION:NC\, United States
ATTACH;FMTTYPE=image/png:https://www.med.unc.edu/healthsciences/physical/schoolbasedpt/wp-content/uploads/sites/662/2018/07/2021-Spring-PT-Meeting-flyer.png
END:VEVENT
END:VCALENDAR