BEGIN:VCALENDAR
VERSION:2.0
PRODID:-//Office of Research and Scholarship - ECPv6.15.18//NONSGML v1.0//EN
CALSCALE:GREGORIAN
METHOD:PUBLISH
X-ORIGINAL-URL:https://www.med.unc.edu/healthsciences/research
X-WR-CALDESC:Events for Office of Research and Scholarship
REFRESH-INTERVAL;VALUE=DURATION:PT1H
X-Robots-Tag:noindex
X-PUBLISHED-TTL:PT1H
BEGIN:VTIMEZONE
TZID:America/New_York
BEGIN:DAYLIGHT
TZOFFSETFROM:-0500
TZOFFSETTO:-0400
TZNAME:EDT
DTSTART:20240310T070000
END:DAYLIGHT
BEGIN:STANDARD
TZOFFSETFROM:-0400
TZOFFSETTO:-0500
TZNAME:EST
DTSTART:20241103T060000
END:STANDARD
BEGIN:DAYLIGHT
TZOFFSETFROM:-0500
TZOFFSETTO:-0400
TZNAME:EDT
DTSTART:20250309T070000
END:DAYLIGHT
BEGIN:STANDARD
TZOFFSETFROM:-0400
TZOFFSETTO:-0500
TZNAME:EST
DTSTART:20251102T060000
END:STANDARD
BEGIN:DAYLIGHT
TZOFFSETFROM:-0500
TZOFFSETTO:-0400
TZNAME:EDT
DTSTART:20260308T070000
END:DAYLIGHT
BEGIN:STANDARD
TZOFFSETFROM:-0400
TZOFFSETTO:-0500
TZNAME:EST
DTSTART:20261101T060000
END:STANDARD
END:VTIMEZONE
BEGIN:VEVENT
DTSTART;TZID=America/New_York:20251112T120000
DTEND;TZID=America/New_York:20251112T130000
DTSTAMP:20260423T062358
CREATED:20251104T172017Z
LAST-MODIFIED:20251105T184240Z
UID:10000047-1762948800-1762952400@www.med.unc.edu
SUMMARY:Discovering Pathways to Translate Ideas Into Innovations for the Public Good
DESCRIPTION:Department of Health Sciences Research Forum \nDiscovering Pathways to Translate Ideas Into Innovations for the Public Good\n\n\n\n\nLearn about the opportunities and Innovate Carolina resources available to support your innovation journey or to unlock the commercial potential of your research. View full flyer. \nRegister Here!\n 
URL:https://www.med.unc.edu/healthsciences/research/event/department-of-health-sciences-research-forum/
LOCATION:Hybrid: MacNider 321 and Zoom
ATTACH;FMTTYPE=image/jpeg:https://www.med.unc.edu/healthsciences/research/wp-content/uploads/sites/888/2025/11/Dept-Health-Sci-Forum-Flyer-November-12_2025-Bill-Romani.jpg
END:VEVENT
END:VCALENDAR