BEGIN:VCALENDAR
VERSION:2.0
PRODID:-//Office of Research and Scholarship - ECPv6.15.18//NONSGML v1.0//EN
CALSCALE:GREGORIAN
METHOD:PUBLISH
X-ORIGINAL-URL:https://www.med.unc.edu/healthsciences/research
X-WR-CALDESC:Events for Office of Research and Scholarship
REFRESH-INTERVAL;VALUE=DURATION:PT1H
X-Robots-Tag:noindex
X-PUBLISHED-TTL:PT1H
BEGIN:VTIMEZONE
TZID:America/New_York
BEGIN:DAYLIGHT
TZOFFSETFROM:-0500
TZOFFSETTO:-0400
TZNAME:EDT
DTSTART:20250309T070000
END:DAYLIGHT
BEGIN:STANDARD
TZOFFSETFROM:-0400
TZOFFSETTO:-0500
TZNAME:EST
DTSTART:20251102T060000
END:STANDARD
BEGIN:DAYLIGHT
TZOFFSETFROM:-0500
TZOFFSETTO:-0400
TZNAME:EDT
DTSTART:20260308T070000
END:DAYLIGHT
BEGIN:STANDARD
TZOFFSETFROM:-0400
TZOFFSETTO:-0500
TZNAME:EST
DTSTART:20261101T060000
END:STANDARD
BEGIN:DAYLIGHT
TZOFFSETFROM:-0500
TZOFFSETTO:-0400
TZNAME:EDT
DTSTART:20270314T070000
END:DAYLIGHT
BEGIN:STANDARD
TZOFFSETFROM:-0400
TZOFFSETTO:-0500
TZNAME:EST
DTSTART:20271107T060000
END:STANDARD
END:VTIMEZONE
BEGIN:VEVENT
DTSTART;TZID=America/New_York:20260520T120000
DTEND;TZID=America/New_York:20260520T130000
DTSTAMP:20260423T171452
CREATED:20260423T163216Z
LAST-MODIFIED:20260423T164314Z
UID:10000049-1779278400-1779282000@www.med.unc.edu
SUMMARY:Research Forum: Motor-Based Problem Solving in Physical Therapy for Infants
DESCRIPTION:Motor-Based Problem Solving in Physical Therapy for Infants\nStacey Dusing PT\, PhD\, FAPTA \nDivision of Biokinesiology and Physical Therapy\nHerman Ostrow School of Dentistry\nUniversity of Southern California \nTraining for physical\, occupational\, and speech therapists are isolated from each other\, and rarely provide adequate training in transdisciplinary practice or research methods. \nDr. Dusing will share her experience with mentoring researchers\, clinician scientists\, and therapists. She will also share preliminary results from the SIT-PT trial for infants with early signs of Cerebral Palsy which compared the efficacy of a motor-based problem-solving intervention with a dose matched control intervention that replicated usual care. \nRegister for Research Forum
URL:https://www.med.unc.edu/healthsciences/research/event/research-forum-motor-based-problem-solving-in-physical-therapy-for-infants/
LOCATION:Hybrid: MacNider 321 and Zoom
CATEGORIES:DHS
END:VEVENT
END:VCALENDAR