BEGIN:VCALENDAR
VERSION:2.0
PRODID:-//Office of Research and Scholarship - ECPv6.15.18//NONSGML v1.0//EN
CALSCALE:GREGORIAN
METHOD:PUBLISH
X-ORIGINAL-URL:https://www.med.unc.edu/healthsciences/research
X-WR-CALDESC:Events for Office of Research and Scholarship
REFRESH-INTERVAL;VALUE=DURATION:PT1H
X-Robots-Tag:noindex
X-PUBLISHED-TTL:PT1H
BEGIN:VTIMEZONE
TZID:America/New_York
BEGIN:DAYLIGHT
TZOFFSETFROM:-0500
TZOFFSETTO:-0400
TZNAME:EDT
DTSTART:20230312T070000
END:DAYLIGHT
BEGIN:STANDARD
TZOFFSETFROM:-0400
TZOFFSETTO:-0500
TZNAME:EST
DTSTART:20231105T060000
END:STANDARD
BEGIN:DAYLIGHT
TZOFFSETFROM:-0500
TZOFFSETTO:-0400
TZNAME:EDT
DTSTART:20240310T070000
END:DAYLIGHT
BEGIN:STANDARD
TZOFFSETFROM:-0400
TZOFFSETTO:-0500
TZNAME:EST
DTSTART:20241103T060000
END:STANDARD
BEGIN:DAYLIGHT
TZOFFSETFROM:-0500
TZOFFSETTO:-0400
TZNAME:EDT
DTSTART:20250309T070000
END:DAYLIGHT
BEGIN:STANDARD
TZOFFSETFROM:-0400
TZOFFSETTO:-0500
TZNAME:EST
DTSTART:20251102T060000
END:STANDARD
END:VTIMEZONE
BEGIN:VEVENT
DTSTART;TZID=America/New_York:20240320T120000
DTEND;TZID=America/New_York:20240320T130000
DTSTAMP:20260423T182859
CREATED:20240305T153415Z
LAST-MODIFIED:20240305T153415Z
UID:10000038-1710936000-1710939600@www.med.unc.edu
SUMMARY:March Research Forum: Systematic Reviews and Meta-Analyses Panel Discussion
DESCRIPTION:Panelists will share their experiences using applicable research examples (e.g.\, search and screenings\, data extraction and quality assessment\, library resources). \nWednesday\, March 20\, Noon – 1 p.m. \nMacNider 321 \nfor Zoom link & lunch registration\,\nhttps://unc.az1.qualtrics.com/jfe/form/SV_b70b83M53W2ukse
URL:https://www.med.unc.edu/healthsciences/research/event/march-research-forum-systematic-reviews-and-meta-analyses-panel-discussion/
LOCATION:Hybrid: MacNider 321 and Zoom
END:VEVENT
END:VCALENDAR