BEGIN:VCALENDAR
VERSION:2.0
PRODID:-//UNC Hearing and Communication Center - ECPv6.15.18//NONSGML v1.0//EN
CALSCALE:GREGORIAN
METHOD:PUBLISH
X-ORIGINAL-URL:https://www.med.unc.edu/healthsciences/sphs/hcc
X-WR-CALDESC:Events for UNC Hearing and Communication Center
REFRESH-INTERVAL;VALUE=DURATION:PT1H
X-Robots-Tag:noindex
X-PUBLISHED-TTL:PT1H
BEGIN:VTIMEZONE
TZID:America/New_York
BEGIN:DAYLIGHT
TZOFFSETFROM:-0500
TZOFFSETTO:-0400
TZNAME:EDT
DTSTART:20180311T070000
END:DAYLIGHT
BEGIN:STANDARD
TZOFFSETFROM:-0400
TZOFFSETTO:-0500
TZNAME:EST
DTSTART:20181104T060000
END:STANDARD
BEGIN:DAYLIGHT
TZOFFSETFROM:-0500
TZOFFSETTO:-0400
TZNAME:EDT
DTSTART:20190310T070000
END:DAYLIGHT
BEGIN:STANDARD
TZOFFSETFROM:-0400
TZOFFSETTO:-0500
TZNAME:EST
DTSTART:20191103T060000
END:STANDARD
BEGIN:DAYLIGHT
TZOFFSETFROM:-0500
TZOFFSETTO:-0400
TZNAME:EDT
DTSTART:20200308T070000
END:DAYLIGHT
BEGIN:STANDARD
TZOFFSETFROM:-0400
TZOFFSETTO:-0500
TZNAME:EST
DTSTART:20201101T060000
END:STANDARD
END:VTIMEZONE
BEGIN:VEVENT
DTSTART;TZID=America/New_York:20191004T130000
DTEND;TZID=America/New_York:20191004T150000
DTSTAMP:20260424T093542
CREATED:20190802T131740Z
LAST-MODIFIED:20190802T131740Z
UID:10000072-1570194000-1570201200@www.med.unc.edu
SUMMARY:Better Hearing Workshop - at Carol Woods
DESCRIPTION:Join us for an interactive aural rehabilitation workshop\, where you and your communication partner will learn about the anatomy/physiology of hearing loss\, updates in hearing technology and important communication strategies. \nFor more information\, contact our office: 919-493-7980.
URL:https://www.med.unc.edu/healthsciences/sphs/hcc/event/better-hearing-workshop-at-carol-woods/
LOCATION:Carol Woods\, 750 Weaver Dairy Road\, Chapel Hill\, NC\, 27514\, United States
CATEGORIES:Better Hearing Workshop
ORGANIZER;CN="Nancy McKenna":MAILTO:nancy_mckenna@med.unc.edu
END:VEVENT
END:VCALENDAR