BEGIN:VCALENDAR
VERSION:2.0
PRODID:-//UNC Hearing and Communication Center - ECPv6.15.18//NONSGML v1.0//EN
CALSCALE:GREGORIAN
METHOD:PUBLISH
X-ORIGINAL-URL:https://www.med.unc.edu/healthsciences/sphs/hcc
X-WR-CALDESC:Events for UNC Hearing and Communication Center
REFRESH-INTERVAL;VALUE=DURATION:PT1H
X-Robots-Tag:noindex
X-PUBLISHED-TTL:PT1H
BEGIN:VTIMEZONE
TZID:America/New_York
BEGIN:DAYLIGHT
TZOFFSETFROM:-0500
TZOFFSETTO:-0400
TZNAME:EDT
DTSTART:20200308T070000
END:DAYLIGHT
BEGIN:STANDARD
TZOFFSETFROM:-0400
TZOFFSETTO:-0500
TZNAME:EST
DTSTART:20201101T060000
END:STANDARD
BEGIN:DAYLIGHT
TZOFFSETFROM:-0500
TZOFFSETTO:-0400
TZNAME:EDT
DTSTART:20210314T070000
END:DAYLIGHT
BEGIN:STANDARD
TZOFFSETFROM:-0400
TZOFFSETTO:-0500
TZNAME:EST
DTSTART:20211107T060000
END:STANDARD
BEGIN:DAYLIGHT
TZOFFSETFROM:-0500
TZOFFSETTO:-0400
TZNAME:EDT
DTSTART:20220313T070000
END:DAYLIGHT
BEGIN:STANDARD
TZOFFSETFROM:-0400
TZOFFSETTO:-0500
TZNAME:EST
DTSTART:20221106T060000
END:STANDARD
END:VTIMEZONE
BEGIN:VEVENT
DTSTART;TZID=America/New_York:20210713T140000
DTEND;TZID=America/New_York:20210713T150000
DTSTAMP:20260424T142543
CREATED:20210609T153759Z
LAST-MODIFIED:20210609T153759Z
UID:10000121-1626184800-1626188400@www.med.unc.edu
SUMMARY:Galloway Ridge Presentation: Strategies for Improving Hearing and Communication
DESCRIPTION:While hearing technology has seen amazing advances in the last decade\, no device can fully address all auditory challenges. A comprehensive aural rehabilitation plan should include communication strategies\, the process of modifying one’s behavior\, environment and speaking style to improve communication. Becoming a better advocate for good communication has shown to greatly improve satisfaction with hearing devices and reduce overall frustration. This engaging presentation will offer practical advice for individuals with hearing loss and their communication partners. \nThis presentation is exclusively for residents of the Galloway Ridge community and will be presented through the closed-loop television channel. It will also be recorded for future viewing.
URL:https://www.med.unc.edu/healthsciences/sphs/hcc/event/galloway-ridge-presentation-strategies-for-improving-hearing-and-communication/
LOCATION:Galloway Ridge\, 3000 Galloway Ridge\, Pittsboro\, NC\, 27312
CATEGORIES:Presentation
ORGANIZER;CN="Penny Kelly%2C RN":MAILTO:pkelly@gallowayridge.com
END:VEVENT
END:VCALENDAR