BEGIN:VCALENDAR
VERSION:2.0
PRODID:-//UNC Hearing and Communication Center - ECPv6.15.18//NONSGML v1.0//EN
CALSCALE:GREGORIAN
METHOD:PUBLISH
X-ORIGINAL-URL:https://www.med.unc.edu/healthsciences/sphs/hcc
X-WR-CALDESC:Events for UNC Hearing and Communication Center
REFRESH-INTERVAL;VALUE=DURATION:PT1H
X-Robots-Tag:noindex
X-PUBLISHED-TTL:PT1H
BEGIN:VTIMEZONE
TZID:America/New_York
BEGIN:DAYLIGHT
TZOFFSETFROM:-0500
TZOFFSETTO:-0400
TZNAME:EDT
DTSTART:20180311T070000
END:DAYLIGHT
BEGIN:STANDARD
TZOFFSETFROM:-0400
TZOFFSETTO:-0500
TZNAME:EST
DTSTART:20181104T060000
END:STANDARD
BEGIN:DAYLIGHT
TZOFFSETFROM:-0500
TZOFFSETTO:-0400
TZNAME:EDT
DTSTART:20190310T070000
END:DAYLIGHT
BEGIN:STANDARD
TZOFFSETFROM:-0400
TZOFFSETTO:-0500
TZNAME:EST
DTSTART:20191103T060000
END:STANDARD
BEGIN:DAYLIGHT
TZOFFSETFROM:-0500
TZOFFSETTO:-0400
TZNAME:EDT
DTSTART:20200308T070000
END:DAYLIGHT
BEGIN:STANDARD
TZOFFSETFROM:-0400
TZOFFSETTO:-0500
TZNAME:EST
DTSTART:20201101T060000
END:STANDARD
END:VTIMEZONE
BEGIN:VEVENT
DTSTART;TZID=America/New_York:20191030T183000
DTEND;TZID=America/New_York:20191030T193000
DTSTAMP:20260424T123131
CREATED:20190802T134200Z
LAST-MODIFIED:20191028T161027Z
UID:10000100-1572460200-1572463800@www.med.unc.edu
SUMMARY:Brain Health Academy
DESCRIPTION:Join Dr. Patrica Johnson as she speaks on Healthy Hearing & Cognition as part of the Orange County Department on Aging‘s popular Brain Health Academy Series. The presentation will focus on types of hearing loss\, assistive technology and how hearing connects to the brain.
URL:https://www.med.unc.edu/healthsciences/sphs/hcc/event/brain-health-academy/
LOCATION:Seymour Center\, 2551 Homestead Road\, Chapel Hill\, NC\, 27516
CATEGORIES:Presentation
GEO:35.9506837;-79.0633686
X-APPLE-STRUCTURED-LOCATION;VALUE=URI;X-ADDRESS=Seymour Center 2551 Homestead Road Chapel Hill NC 27516;X-APPLE-RADIUS=500;X-TITLE=2551 Homestead Road:geo:-79.0633686,35.9506837
END:VEVENT
END:VCALENDAR