BEGIN:VCALENDAR
VERSION:2.0
PRODID:-//UNC Hearing and Communication Center - ECPv6.15.18//NONSGML v1.0//EN
CALSCALE:GREGORIAN
METHOD:PUBLISH
X-ORIGINAL-URL:https://www.med.unc.edu/healthsciences/sphs/hcc
X-WR-CALDESC:Events for UNC Hearing and Communication Center
REFRESH-INTERVAL;VALUE=DURATION:PT1H
X-Robots-Tag:noindex
X-PUBLISHED-TTL:PT1H
BEGIN:VTIMEZONE
TZID:America/New_York
BEGIN:DAYLIGHT
TZOFFSETFROM:-0500
TZOFFSETTO:-0400
TZNAME:EDT
DTSTART:20220313T070000
END:DAYLIGHT
BEGIN:STANDARD
TZOFFSETFROM:-0400
TZOFFSETTO:-0500
TZNAME:EST
DTSTART:20221106T060000
END:STANDARD
BEGIN:DAYLIGHT
TZOFFSETFROM:-0500
TZOFFSETTO:-0400
TZNAME:EDT
DTSTART:20230312T070000
END:DAYLIGHT
BEGIN:STANDARD
TZOFFSETFROM:-0400
TZOFFSETTO:-0500
TZNAME:EST
DTSTART:20231105T060000
END:STANDARD
BEGIN:DAYLIGHT
TZOFFSETFROM:-0500
TZOFFSETTO:-0400
TZNAME:EDT
DTSTART:20240310T070000
END:DAYLIGHT
BEGIN:STANDARD
TZOFFSETFROM:-0400
TZOFFSETTO:-0500
TZNAME:EST
DTSTART:20241103T060000
END:STANDARD
END:VTIMEZONE
BEGIN:VEVENT
DTSTART;TZID=America/New_York:20230425T130000
DTEND;TZID=America/New_York:20230425T160000
DTSTAMP:20260425T092815
CREATED:20230223T140246Z
LAST-MODIFIED:20230223T140626Z
UID:10000141-1682427600-1682438400@www.med.unc.edu
SUMMARY:Free Hearing Screenings at Fearrington Cares
DESCRIPTION:Concerned about your hearing? Sign up for a free 10-minute hearing test and consultation to determine if you might benefit from a full hearing evaluation. \nPatricia Johnson\, AuD\, of the UNC Hearing and Communication Center will conduct the screenings. The UNC Center offers a wide range of hearing services including complete diagnostic evaluations\, aural rehabilitation\, and a variety of amplification and assistive listening devices. \nCall us at 919-542-6877 to schedule your free screening. Appointments are available between 1 – 4 pm.
URL:https://www.med.unc.edu/healthsciences/sphs/hcc/event/free-hearing-screening-at-fearrington-cares/
LOCATION:Fearrington Cares\, 26 Swim & Croquet\, Pittsboro\, NC\, 27312
CATEGORIES:Hearing Screening
END:VEVENT
BEGIN:VEVENT
DTSTART;TZID=America/New_York:20230328T130000
DTEND;TZID=America/New_York:20230328T160000
DTSTAMP:20260425T092815
CREATED:20230223T140520Z
LAST-MODIFIED:20230223T140520Z
UID:10000140-1680008400-1680019200@www.med.unc.edu
SUMMARY:Free Hearing Screenings at Fearrington Cares
DESCRIPTION:Concerned about your hearing? Sign up for a free 10-minute hearing test and consultation to determine if you might benefit from a full hearing evaluation. \nPatricia Johnson\, AuD\, of the UNC Hearing and Communication Center will conduct the screenings. The UNC Center offers a wide range of hearing services including complete diagnostic evaluations\, aural rehabilitation\, and a variety of amplification and assistive listening devices. \nCall us at 919-542-6877 to schedule your free screening. Appointments are available between 1 – 4 pm.
URL:https://www.med.unc.edu/healthsciences/sphs/hcc/event/free-hearing-screenings-at-fearrington-cares-2/
LOCATION:Fearrington Cares\, 26 Swim & Croquet\, Pittsboro\, NC\, 27312
CATEGORIES:Hearing Screening
END:VEVENT
BEGIN:VEVENT
DTSTART;TZID=America/New_York:20230314T130000
DTEND;TZID=America/New_York:20230314T160000
DTSTAMP:20260425T092815
CREATED:20230223T140405Z
LAST-MODIFIED:20230223T140405Z
UID:10000139-1678798800-1678809600@www.med.unc.edu
SUMMARY:Free Hearing Screenings at Fearrington Cares
DESCRIPTION:Concerned about your hearing? Sign up for a free 10-minute hearing test and consultation to determine if you might benefit from a full hearing evaluation. \nPatricia Johnson\, AuD\, of the UNC Hearing and Communication Center will conduct the screenings. The UNC Center offers a wide range of hearing services including complete diagnostic evaluations\, aural rehabilitation\, and a variety of amplification and assistive listening devices. \nCall us at 919-542-6877 to schedule your free screening. Appointments are available between 1 – 4 pm.
URL:https://www.med.unc.edu/healthsciences/sphs/hcc/event/free-hearing-screenings-at-fearrington-cares/
LOCATION:Fearrington Cares\, 26 Swim & Croquet\, Pittsboro\, NC\, 27312
CATEGORIES:Hearing Screening
END:VEVENT
END:VCALENDAR