BEGIN:VCALENDAR
VERSION:2.0
PRODID:-//UNC Hearing and Communication Center - ECPv6.15.18//NONSGML v1.0//EN
CALSCALE:GREGORIAN
METHOD:PUBLISH
X-ORIGINAL-URL:https://www.med.unc.edu/healthsciences/sphs/hcc
X-WR-CALDESC:Events for UNC Hearing and Communication Center
REFRESH-INTERVAL;VALUE=DURATION:PT1H
X-Robots-Tag:noindex
X-PUBLISHED-TTL:PT1H
BEGIN:VTIMEZONE
TZID:America/New_York
BEGIN:DAYLIGHT
TZOFFSETFROM:-0500
TZOFFSETTO:-0400
TZNAME:EDT
DTSTART:20180311T070000
END:DAYLIGHT
BEGIN:STANDARD
TZOFFSETFROM:-0400
TZOFFSETTO:-0500
TZNAME:EST
DTSTART:20181104T060000
END:STANDARD
BEGIN:DAYLIGHT
TZOFFSETFROM:-0500
TZOFFSETTO:-0400
TZNAME:EDT
DTSTART:20190310T070000
END:DAYLIGHT
BEGIN:STANDARD
TZOFFSETFROM:-0400
TZOFFSETTO:-0500
TZNAME:EST
DTSTART:20191103T060000
END:STANDARD
BEGIN:DAYLIGHT
TZOFFSETFROM:-0500
TZOFFSETTO:-0400
TZNAME:EDT
DTSTART:20200308T070000
END:DAYLIGHT
BEGIN:STANDARD
TZOFFSETFROM:-0400
TZOFFSETTO:-0500
TZNAME:EST
DTSTART:20201101T060000
END:STANDARD
BEGIN:DAYLIGHT
TZOFFSETFROM:-0500
TZOFFSETTO:-0400
TZNAME:EDT
DTSTART:20210314T070000
END:DAYLIGHT
BEGIN:STANDARD
TZOFFSETFROM:-0400
TZOFFSETTO:-0500
TZNAME:EST
DTSTART:20211107T060000
END:STANDARD
BEGIN:DAYLIGHT
TZOFFSETFROM:-0500
TZOFFSETTO:-0400
TZNAME:EDT
DTSTART:20220313T070000
END:DAYLIGHT
BEGIN:STANDARD
TZOFFSETFROM:-0400
TZOFFSETTO:-0500
TZNAME:EST
DTSTART:20221106T060000
END:STANDARD
BEGIN:DAYLIGHT
TZOFFSETFROM:-0500
TZOFFSETTO:-0400
TZNAME:EDT
DTSTART:20230312T070000
END:DAYLIGHT
BEGIN:STANDARD
TZOFFSETFROM:-0400
TZOFFSETTO:-0500
TZNAME:EST
DTSTART:20231105T060000
END:STANDARD
BEGIN:DAYLIGHT
TZOFFSETFROM:-0500
TZOFFSETTO:-0400
TZNAME:EDT
DTSTART:20240310T070000
END:DAYLIGHT
BEGIN:STANDARD
TZOFFSETFROM:-0400
TZOFFSETTO:-0500
TZNAME:EST
DTSTART:20241103T060000
END:STANDARD
END:VTIMEZONE
BEGIN:VEVENT
DTSTART;TZID=America/New_York:20231018T090000
DTEND;TZID=America/New_York:20231018T120000
DTSTAMP:20260422T234215
CREATED:20230726T143857Z
LAST-MODIFIED:20230726T143857Z
UID:10000154-1697619600-1697630400@www.med.unc.edu
SUMMARY:Free Hearing Screenings at Galloway Ridge
DESCRIPTION:Concerned about your hearing? Take the first step with the UNC Hearing and Communication Center. This free hearing screening is quick pass/fail test to see if hearing loss is present. A screening is intended for community members who do not already have diagnosed hearing loss and do not wear hearing aids. The audiologist will examine ears for ear wax and provide appropriate recommendations. Wax cannot be removed as part of a free hearing screening.  \nContact Sonia Grogan at Galloway Ridge to secure your hearing screening appointment: sgrogan@gallowayridge.com. This screening is ONLY available for Galloway Ridge residents. \n\n*NOTE: if you are currently a patient at the UNC Hearing and Communication Center and are in need of assessment or services\, please schedule an office visit at: 919-445-6744.
URL:https://www.med.unc.edu/healthsciences/sphs/hcc/event/free-hearing-screenings-at-galloway-ridge/
LOCATION:Galloway Ridge\, 3000 Galloway Ridge\, Pittsboro\, NC\, 27312
CATEGORIES:Hearing Screening
ATTACH;FMTTYPE=image/jpeg:https://www.med.unc.edu/healthsciences/sphs/hcc/wp-content/uploads/sites/520/2022/07/hearing.jpg
ORGANIZER;CN="Sonia Grogan":MAILTO:sgrogan@gallowayridge.com
END:VEVENT
BEGIN:VEVENT
DTSTART;TZID=America/New_York:20210713T140000
DTEND;TZID=America/New_York:20210713T150000
DTSTAMP:20260422T234215
CREATED:20210609T153759Z
LAST-MODIFIED:20210609T153759Z
UID:10000121-1626184800-1626188400@www.med.unc.edu
SUMMARY:Galloway Ridge Presentation: Strategies for Improving Hearing and Communication
DESCRIPTION:While hearing technology has seen amazing advances in the last decade\, no device can fully address all auditory challenges. A comprehensive aural rehabilitation plan should include communication strategies\, the process of modifying one’s behavior\, environment and speaking style to improve communication. Becoming a better advocate for good communication has shown to greatly improve satisfaction with hearing devices and reduce overall frustration. This engaging presentation will offer practical advice for individuals with hearing loss and their communication partners. \nThis presentation is exclusively for residents of the Galloway Ridge community and will be presented through the closed-loop television channel. It will also be recorded for future viewing.
URL:https://www.med.unc.edu/healthsciences/sphs/hcc/event/galloway-ridge-presentation-strategies-for-improving-hearing-and-communication/
LOCATION:Galloway Ridge\, 3000 Galloway Ridge\, Pittsboro\, NC\, 27312
CATEGORIES:Presentation
ORGANIZER;CN="Penny Kelly%2C RN":MAILTO:pkelly@gallowayridge.com
END:VEVENT
BEGIN:VEVENT
DTSTART;TZID=America/New_York:20191203T130000
DTEND;TZID=America/New_York:20191203T143000
DTSTAMP:20260422T234215
CREATED:20191101T182245Z
LAST-MODIFIED:20191101T182245Z
UID:10000109-1575378000-1575383400@www.med.unc.edu
SUMMARY:The Brain-Ear Connection: Understanding Hearing’s Relationship with Cognitive Health - Galloway Ridge Presentation
DESCRIPTION:Welcome\, Galloway Ridge Community! Come learn about the research behind the connection between hearing loss and cognitive decline. Dr. Patricia Johnson will discuss the mechanisms behind the correlation and practical ways you can improve your communication – and in turn\, your brain health. \n  \nThe presentation will be held in the Chapin Auditorium at Galloway Ridge.
URL:https://www.med.unc.edu/healthsciences/sphs/hcc/event/the-brain-ear-connection-understanding-hearings-relationship-with-cognitive-health-galloway-ridge-presentation/
LOCATION:Galloway Ridge\, 3000 Galloway Ridge\, Pittsboro\, NC\, 27312
CATEGORIES:Presentation
ORGANIZER;CN="":MAILTO:Steve.Bravy@aol.com
END:VEVENT
END:VCALENDAR