BEGIN:VCALENDAR
VERSION:2.0
PRODID:-//UNC Hearing and Communication Center - ECPv6.15.18//NONSGML v1.0//EN
CALSCALE:GREGORIAN
METHOD:PUBLISH
X-ORIGINAL-URL:https://www.med.unc.edu/healthsciences/sphs/hcc
X-WR-CALDESC:Events for UNC Hearing and Communication Center
REFRESH-INTERVAL;VALUE=DURATION:PT1H
X-Robots-Tag:noindex
X-PUBLISHED-TTL:PT1H
BEGIN:VTIMEZONE
TZID:America/New_York
BEGIN:DAYLIGHT
TZOFFSETFROM:-0500
TZOFFSETTO:-0400
TZNAME:EDT
DTSTART:20190310T070000
END:DAYLIGHT
BEGIN:STANDARD
TZOFFSETFROM:-0400
TZOFFSETTO:-0500
TZNAME:EST
DTSTART:20191103T060000
END:STANDARD
BEGIN:DAYLIGHT
TZOFFSETFROM:-0500
TZOFFSETTO:-0400
TZNAME:EDT
DTSTART:20200308T070000
END:DAYLIGHT
BEGIN:STANDARD
TZOFFSETFROM:-0400
TZOFFSETTO:-0500
TZNAME:EST
DTSTART:20201101T060000
END:STANDARD
BEGIN:DAYLIGHT
TZOFFSETFROM:-0500
TZOFFSETTO:-0400
TZNAME:EDT
DTSTART:20210314T070000
END:DAYLIGHT
BEGIN:STANDARD
TZOFFSETFROM:-0400
TZOFFSETTO:-0500
TZNAME:EST
DTSTART:20211107T060000
END:STANDARD
END:VTIMEZONE
BEGIN:VEVENT
DTSTART;TZID=America/New_York:20200121T083000
DTEND;TZID=America/New_York:20200121T093000
DTSTAMP:20260424T172430
CREATED:20191028T160717Z
LAST-MODIFIED:20191028T160717Z
UID:10000108-1579595400-1579599000@www.med.unc.edu
SUMMARY:Over-the-Counter Hearing Devices Presentation - Hillsborough Striders
DESCRIPTION:You’re invited to Walk and Learn! Dr. Patricia Johnson will be providing and interactive presentation on Over-the-Counter hearing devices to the Hillsborough Striders Club. Following the Striders’ scheduled morning walk\, Dr. Johnson will speak to the Club during their shared breakfast in the employee lunch room at the Walmart in Hillsborough. \n  \nContact Latonya Brown with Orange County Dept of Aging with questions regarding the event.
URL:https://www.med.unc.edu/healthsciences/sphs/hcc/event/over-the-counter-hearing-devices-presentation-hillsborough-striders/
LOCATION:Hillsborough Walmart\, 501 Hampton Pointe B\, Hillsborough\, NC\, 27278\, United States
CATEGORIES:Presentation
END:VEVENT
END:VCALENDAR