BEGIN:VCALENDAR
VERSION:2.0
PRODID:-//UNC Hearing and Communication Center - ECPv6.15.18//NONSGML v1.0//EN
CALSCALE:GREGORIAN
METHOD:PUBLISH
X-ORIGINAL-URL:https://www.med.unc.edu/healthsciences/sphs/hcc
X-WR-CALDESC:Events for UNC Hearing and Communication Center
REFRESH-INTERVAL;VALUE=DURATION:PT1H
X-Robots-Tag:noindex
X-PUBLISHED-TTL:PT1H
BEGIN:VTIMEZONE
TZID:America/New_York
BEGIN:DAYLIGHT
TZOFFSETFROM:-0500
TZOFFSETTO:-0400
TZNAME:EDT
DTSTART:20170312T070000
END:DAYLIGHT
BEGIN:STANDARD
TZOFFSETFROM:-0400
TZOFFSETTO:-0500
TZNAME:EST
DTSTART:20171105T060000
END:STANDARD
BEGIN:DAYLIGHT
TZOFFSETFROM:-0500
TZOFFSETTO:-0400
TZNAME:EDT
DTSTART:20180311T070000
END:DAYLIGHT
BEGIN:STANDARD
TZOFFSETFROM:-0400
TZOFFSETTO:-0500
TZNAME:EST
DTSTART:20181104T060000
END:STANDARD
BEGIN:DAYLIGHT
TZOFFSETFROM:-0500
TZOFFSETTO:-0400
TZNAME:EDT
DTSTART:20190310T070000
END:DAYLIGHT
BEGIN:STANDARD
TZOFFSETFROM:-0400
TZOFFSETTO:-0500
TZNAME:EST
DTSTART:20191103T060000
END:STANDARD
BEGIN:DAYLIGHT
TZOFFSETFROM:-0500
TZOFFSETTO:-0400
TZNAME:EDT
DTSTART:20200308T070000
END:DAYLIGHT
BEGIN:STANDARD
TZOFFSETFROM:-0400
TZOFFSETTO:-0500
TZNAME:EST
DTSTART:20201101T060000
END:STANDARD
BEGIN:DAYLIGHT
TZOFFSETFROM:-0500
TZOFFSETTO:-0400
TZNAME:EDT
DTSTART:20210314T070000
END:DAYLIGHT
BEGIN:STANDARD
TZOFFSETFROM:-0400
TZOFFSETTO:-0500
TZNAME:EST
DTSTART:20211107T060000
END:STANDARD
BEGIN:DAYLIGHT
TZOFFSETFROM:-0500
TZOFFSETTO:-0400
TZNAME:EDT
DTSTART:20220313T070000
END:DAYLIGHT
BEGIN:STANDARD
TZOFFSETFROM:-0400
TZOFFSETTO:-0500
TZNAME:EST
DTSTART:20221106T060000
END:STANDARD
BEGIN:DAYLIGHT
TZOFFSETFROM:-0500
TZOFFSETTO:-0400
TZNAME:EDT
DTSTART:20230312T070000
END:DAYLIGHT
BEGIN:STANDARD
TZOFFSETFROM:-0400
TZOFFSETTO:-0500
TZNAME:EST
DTSTART:20231105T060000
END:STANDARD
BEGIN:DAYLIGHT
TZOFFSETFROM:-0500
TZOFFSETTO:-0400
TZNAME:EDT
DTSTART:20240310T070000
END:DAYLIGHT
BEGIN:STANDARD
TZOFFSETFROM:-0400
TZOFFSETTO:-0500
TZNAME:EST
DTSTART:20241103T060000
END:STANDARD
BEGIN:DAYLIGHT
TZOFFSETFROM:-0500
TZOFFSETTO:-0400
TZNAME:EDT
DTSTART:20250309T070000
END:DAYLIGHT
BEGIN:STANDARD
TZOFFSETFROM:-0400
TZOFFSETTO:-0500
TZNAME:EST
DTSTART:20251102T060000
END:STANDARD
END:VTIMEZONE
BEGIN:VEVENT
DTSTART;TZID=America/New_York:20240515T090000
DTEND;TZID=America/New_York:20240515T130000
DTSTAMP:20260424T081102
CREATED:20240513T145309Z
LAST-MODIFIED:20240513T145309Z
UID:10000155-1715763600-1715778000@www.med.unc.edu
SUMMARY:Orange County Health & Wellness Fair
DESCRIPTION:Orange County to host Health and Wellness Fair\n \n\n  \nThe Orange County Department on Aging invites the public to the 2024 “Health and Wellness Fair” on May 15. \nThe Department on Aging’s Wellness Program is excited to host the Health and Wellness Fair to maximize the health\, well-being\, community engagement\, and independence of older adults at all functional levels. \nThe FREE event will take place on Wednesday\, May 15\, from 9am – 1pm at the Passmore Center located at 103 Meadowlands Drive in Hillsborough. \nThe event features: \n\nFree Tote Bag to First 100 Guests: Get your free Department on Aging tote bag filled with helpful goodies!\nMedication Disposal Drop Box: Bring your expired\, unused\, or unwanted prescription and over-the-counter medications for safe disposal.\nMultiple Vendors: Visit health\, wellness\, and community vendor booths.\nPassmore Center Tour: Learn about our programs\, services & resources.\n\nCome enjoy the wonderful festivities\, giveaways\, and vendors! \nIf have questions regarding the event or need additional information\, please contact Latonya Brown (919-245-4270 or lbrown@orangecountync.gov) or the Passmore Center (919-245-2015). \n  \nSponsored by: Aetna\, Alignment Health Plan\, Alliance Health\, Bluestem Cemetery\, OC Meals on Wheels\, UNC Hearing and Communication Center\, Wellcare\, and Wisdom Senior Care.
URL:https://www.med.unc.edu/healthsciences/sphs/hcc/event/orange-county-health-wellness-fair/
LOCATION:Passmore Center\, 103 Meadowlands Drive\, Hillsborough\, NC\, 27278
CATEGORIES:Health Fair
ATTACH;FMTTYPE=image/png:https://www.med.unc.edu/healthsciences/sphs/hcc/wp-content/uploads/sites/520/2024/05/wellness-fair.png
END:VEVENT
BEGIN:VEVENT
DTSTART;TZID=America/New_York:20231101T090000
DTEND;TZID=America/New_York:20231101T120000
DTSTAMP:20260424T081102
CREATED:20230713T174349Z
LAST-MODIFIED:20230713T174349Z
UID:10000153-1698829200-1698840000@www.med.unc.edu
SUMMARY:Free Hearing Screening at Passmore Center
DESCRIPTION:Concerned about your hearing? The UNC Hearing and Communication Center is partnering with the Orange County Department on Aging to provide free hearing screenings. This hearing screening is quick pass/fail test to see if hearing loss is present. It does not replace a comprehensive hearing test. This screening is intended for community members who do not already have diagnosed hearing loss and do not wear hearing aids. The audiologist will examine your ears for ear wax and provide appropriate recommendations. Wax cannot be removed as part of a free hearing screening.\n \nContact the Orange County Department on Aging to secure your hearing screening appointment: 919-245-2015. \n  \n*NOTE: if you are currently a patient at the UNC Hearing and Communication Center and are in need of assessment or services\, please schedule an office visit at: 919-445-6744.
URL:https://www.med.unc.edu/healthsciences/sphs/hcc/event/free-hearing-screening-at-passmore-center/
LOCATION:Passmore Center\, 103 Meadowlands Drive\, Hillsborough\, NC\, 27278
CATEGORIES:Hearing Screening
ATTACH;FMTTYPE=image/png:https://www.med.unc.edu/healthsciences/sphs/hcc/wp-content/uploads/sites/520/2021/07/sound-waves.png
END:VEVENT
BEGIN:VEVENT
DTSTART;TZID=America/New_York:20230720T090000
DTEND;TZID=America/New_York:20230720T120000
DTSTAMP:20260424T081102
CREATED:20230310T163807Z
LAST-MODIFIED:20230712T122157Z
UID:10000143-1689843600-1689854400@www.med.unc.edu
SUMMARY:Free Hearing Screening at Passmore Center
DESCRIPTION:Concerned about your hearing? Want your ears checked for earwax? The UNC Hearing and Communication Center is partnering with the Orange County Department on Aging to provide free hearing screenings and consultations. This hearing screening is quick pass/fail test to see if hearing loss is present. It does not replace a comprehensive hearing test. This screening is intended for community members who do not already have diagnosed hearing loss and do not wear hearing aids. The audiologist will examine your ears for ear wax and provide appropriate recommendations. Wax cannot be removed as part of a free hearing screening.\n \nContact the Orange County Department on Aging to secure your hearing screening appointment. \n  \n*NOTE: if you are currently a patient at the UNC Hearing and Communication Center and are in need of assessment or services\, please schedule an office visit at: 919-445-6744.
URL:https://www.med.unc.edu/healthsciences/sphs/hcc/event/hearing-screening-at-passmore-center-2/
LOCATION:Passmore Center\, 103 Meadowlands Drive\, Hillsborough\, NC\, 27278
CATEGORIES:Hearing Screening
END:VEVENT
BEGIN:VEVENT
DTSTART;TZID=America/New_York:20211028T093000
DTEND;TZID=America/New_York:20211028T120000
DTSTAMP:20260424T081102
CREATED:20210628T162015Z
LAST-MODIFIED:20210628T162138Z
UID:10000123-1635413400-1635422400@www.med.unc.edu
SUMMARY:Hearing Screening at Passmore Center
DESCRIPTION:Concerned about your hearing? Want your ears checked for earwax? The UNC Hearing and Communication Center is partnering with the Orange County Department on Aging to provide free hearing screenings and consultations. This hearing screening is quick pass/fail test to see if hearing loss is present. It does not replace a comprehensive hearing test. The audiologist will examine your ears for ear wax and provide appropriate recommendations. Wax cannot be removed as part of a free hearing screening.\n \nContact the Orange County Department on Aging to secure your hearing screening appointment.
URL:https://www.med.unc.edu/healthsciences/sphs/hcc/event/hearing-screening-at-passmore-center/
LOCATION:Passmore Center\, 103 Meadowlands Drive\, Hillsborough\, NC\, 27278
CATEGORIES:Hearing Screening
END:VEVENT
BEGIN:VEVENT
DTSTART;TZID=America/New_York:20210624T090000
DTEND;TZID=America/New_York:20210624T120000
DTSTAMP:20260424T081102
CREATED:20210304T144342Z
LAST-MODIFIED:20210304T144342Z
UID:10000116-1624525200-1624536000@www.med.unc.edu
SUMMARY:Free Hearing Screenings at the Passmore Center
DESCRIPTION:Concerned about your hearing? Want your ears checked for earwax? The UNC Hearing and Communication Center is partnering with the Orange County Department on Aging to provide free hearing screenings and consultations. This hearing screening is quick pass/fail test to see if hearing loss is present. The audiologist will examine your ears for ear wax and provide appropriate recommendations. \nContact the Orange County Department on Aging to secure your hearing screening appointment.
URL:https://www.med.unc.edu/healthsciences/sphs/hcc/event/free-hearing-screenings-at-the-passmore-center-3/
LOCATION:Passmore Center\, 103 Meadowlands Drive\, Hillsborough\, NC\, 27278
CATEGORIES:Hearing Screening
END:VEVENT
BEGIN:VEVENT
DTSTART;TZID=America/New_York:20200402T100000
DTEND;TZID=America/New_York:20200402T140000
DTSTAMP:20260424T081102
CREATED:20200217T172733Z
LAST-MODIFIED:20200217T172733Z
UID:10000112-1585821600-1585836000@www.med.unc.edu
SUMMARY:Free Hearing Screenings at the Passmore Center
DESCRIPTION:Concerned about your hearing? Want your ears checked for earwax? The UNC Hearing and Communication Center is partnering with the Orange County Department on Aging to provide free hearing screenings and consultations. This hearing screening is quick pass/fail test to see if hearing loss is present. The audiologist will examine your ears for ear wax and provide appropriate recommendations. \nContact the Orange County Department on Aging to secure your hearing screening appointment.
URL:https://www.med.unc.edu/healthsciences/sphs/hcc/event/free-hearing-screenings-at-the-passmore-center-2/
LOCATION:Passmore Center\, 103 Meadowlands Drive\, Hillsborough\, NC\, 27278
CATEGORIES:Hearing Screening
END:VEVENT
BEGIN:VEVENT
DTSTART;TZID=America/New_York:20200123T100000
DTEND;TZID=America/New_York:20200123T133000
DTSTAMP:20260424T081102
CREATED:20190828T152035Z
LAST-MODIFIED:20191028T154838Z
UID:10000105-1579773600-1579786200@www.med.unc.edu
SUMMARY:Free Hearing Screenings at the Passmore Center
DESCRIPTION:Concerned about your hearing? Want your ears checked for earwax? The UNC Hearing and Communication Center is partnering with the Orange County Department on Aging to provide free hearing screenings and consultations. This hearing screening is quick pass/fail test to see if hearing loss is present. The audiologist will examine your ears for ear wax and provide appropriate recommendations. \nContact the Orange County Department on Aging to secure your hearing screening appointment. Screenings will be held in the Art Room.
URL:https://www.med.unc.edu/healthsciences/sphs/hcc/event/free-hearing-screenings-at-the-passmore-center/
LOCATION:Passmore Center\, 103 Meadowlands Drive\, Hillsborough\, NC\, 27278
CATEGORIES:Hearing Screening
END:VEVENT
BEGIN:VEVENT
DTSTART;TZID=America/New_York:20180920T090000
DTEND;TZID=America/New_York:20180920T120000
DTSTAMP:20260424T081103
CREATED:20180627T150142Z
LAST-MODIFIED:20190802T132330Z
UID:10000094-1537434000-1537444800@www.med.unc.edu
SUMMARY:Free Hearing Screenings at Passmore Center
DESCRIPTION:Concerned about your hearing? Want your ears checked for earwax? The UNC Hearing and Communication Center is partnering with the Orange County Department on Aging to provide free hearing screenings and consultations. This hearing screening is quick pass/fail test to see if hearing loss is present. The audiologist will examine your ears for ear wax and provide appropriate recommendations. \nContact the Orange County Department on Aging to secure your hearing screening appointment.
URL:https://www.med.unc.edu/healthsciences/sphs/hcc/event/event-2/
LOCATION:Passmore Center\, 103 Meadowlands Drive\, Hillsborough\, NC\, 27278
CATEGORIES:Hearing Screening
END:VEVENT
END:VCALENDAR