BEGIN:VCALENDAR
VERSION:2.0
PRODID:-//UNC Hearing and Communication Center - ECPv6.15.18//NONSGML v1.0//EN
CALSCALE:GREGORIAN
METHOD:PUBLISH
X-ORIGINAL-URL:https://www.med.unc.edu/healthsciences/sphs/hcc
X-WR-CALDESC:Events for UNC Hearing and Communication Center
REFRESH-INTERVAL;VALUE=DURATION:PT1H
X-Robots-Tag:noindex
X-PUBLISHED-TTL:PT1H
BEGIN:VTIMEZONE
TZID:America/New_York
BEGIN:DAYLIGHT
TZOFFSETFROM:-0500
TZOFFSETTO:-0400
TZNAME:EDT
DTSTART:20220313T070000
END:DAYLIGHT
BEGIN:STANDARD
TZOFFSETFROM:-0400
TZOFFSETTO:-0500
TZNAME:EST
DTSTART:20221106T060000
END:STANDARD
BEGIN:DAYLIGHT
TZOFFSETFROM:-0500
TZOFFSETTO:-0400
TZNAME:EDT
DTSTART:20230312T070000
END:DAYLIGHT
BEGIN:STANDARD
TZOFFSETFROM:-0400
TZOFFSETTO:-0500
TZNAME:EST
DTSTART:20231105T060000
END:STANDARD
BEGIN:DAYLIGHT
TZOFFSETFROM:-0500
TZOFFSETTO:-0400
TZNAME:EDT
DTSTART:20240310T070000
END:DAYLIGHT
BEGIN:STANDARD
TZOFFSETFROM:-0400
TZOFFSETTO:-0500
TZNAME:EST
DTSTART:20241103T060000
END:STANDARD
END:VTIMEZONE
BEGIN:VEVENT
DTSTART;TZID=America/New_York:20231009T090000
DTEND;TZID=America/New_York:20231009T120000
DTSTAMP:20260425T185053
CREATED:20230713T173618Z
LAST-MODIFIED:20230713T173618Z
UID:10000151-1696842000-1696852800@www.med.unc.edu
SUMMARY:Free Hearing Screenings at the Cedars
DESCRIPTION:Concerned about your hearing? Take the first step with the UNC Hearing and Communication Center. This free hearing screening is quick pass/fail test to see if hearing loss is present. A screening is intended for community members who do not already have diagnosed hearing loss and do not wear hearing aids. The audiologist will examine ears for ear wax and provide appropriate recommendations. Wax cannot be removed as part of a free hearing screening.  \nContact the Cedars (Becky) to secure your hearing screening appointment: 919-259-7934. This screening is ONLY available for Cedars residents. \n  \n*NOTE: if you are currently a patient at the UNC Hearing and Communication Center and are in need of assessment or services\, please schedule an office visit at: 919-445-6744.
URL:https://www.med.unc.edu/healthsciences/sphs/hcc/event/free-hearing-screenings-at-the-cedars/
LOCATION:The Cedars Dubose Center\, NC\, United States
CATEGORIES:Hearing Screening
ATTACH;FMTTYPE=image/jpeg:https://www.med.unc.edu/healthsciences/sphs/hcc/wp-content/uploads/sites/520/2022/07/hearing.jpg
END:VEVENT
END:VCALENDAR