BEGIN:VCALENDAR
VERSION:2.0
PRODID:-//Department of Health Sciences - ECPv6.15.18//NONSGML v1.0//EN
CALSCALE:GREGORIAN
METHOD:PUBLISH
X-ORIGINAL-URL:https://www.med.unc.edu/healthsciences
X-WR-CALDESC:Events for Department of Health Sciences
REFRESH-INTERVAL;VALUE=DURATION:PT1H
X-Robots-Tag:noindex
X-PUBLISHED-TTL:PT1H
BEGIN:VTIMEZONE
TZID:America/New_York
BEGIN:DAYLIGHT
TZOFFSETFROM:-0500
TZOFFSETTO:-0400
TZNAME:EDT
DTSTART:20220313T070000
END:DAYLIGHT
BEGIN:STANDARD
TZOFFSETFROM:-0400
TZOFFSETTO:-0500
TZNAME:EST
DTSTART:20221106T060000
END:STANDARD
BEGIN:DAYLIGHT
TZOFFSETFROM:-0500
TZOFFSETTO:-0400
TZNAME:EDT
DTSTART:20230312T070000
END:DAYLIGHT
BEGIN:STANDARD
TZOFFSETFROM:-0400
TZOFFSETTO:-0500
TZNAME:EST
DTSTART:20231105T060000
END:STANDARD
BEGIN:DAYLIGHT
TZOFFSETFROM:-0500
TZOFFSETTO:-0400
TZNAME:EDT
DTSTART:20240310T070000
END:DAYLIGHT
BEGIN:STANDARD
TZOFFSETFROM:-0400
TZOFFSETTO:-0500
TZNAME:EST
DTSTART:20241103T060000
END:STANDARD
BEGIN:DAYLIGHT
TZOFFSETFROM:-0500
TZOFFSETTO:-0400
TZNAME:EDT
DTSTART:20250309T070000
END:DAYLIGHT
BEGIN:STANDARD
TZOFFSETFROM:-0400
TZOFFSETTO:-0500
TZNAME:EST
DTSTART:20251102T060000
END:STANDARD
BEGIN:DAYLIGHT
TZOFFSETFROM:-0500
TZOFFSETTO:-0400
TZNAME:EDT
DTSTART:20260308T070000
END:DAYLIGHT
BEGIN:STANDARD
TZOFFSETFROM:-0400
TZOFFSETTO:-0500
TZNAME:EST
DTSTART:20261101T060000
END:STANDARD
BEGIN:DAYLIGHT
TZOFFSETFROM:-0500
TZOFFSETTO:-0400
TZNAME:EDT
DTSTART:20270314T070000
END:DAYLIGHT
BEGIN:STANDARD
TZOFFSETFROM:-0400
TZOFFSETTO:-0500
TZNAME:EST
DTSTART:20271107T060000
END:STANDARD
END:VTIMEZONE
BEGIN:VEVENT
DTSTART;TZID=America/New_York:20260415T120000
DTEND;TZID=America/New_York:20260415T130000
DTSTAMP:20260425T153254
CREATED:20260121T181123Z
LAST-MODIFIED:20260407T184840Z
UID:10000379-1776254400-1776258000@www.med.unc.edu
SUMMARY:Research Forum: Health Sciences Research Excellence Awards - PhD Students
DESCRIPTION:2026 Research Excellence Awardees \n\nMags McAllister\, Speech and Hearing Sciences PhD Program\nA Pause\, Not a Stop: Language Regression in Toddlers with High Familial Likelihood of Autism\nJoel Robert Thompson\, Human Movement Science PhD Program\nSupporting Self-Management in Axial Spondyloarthritis: Understanding Flare Recognition and Response\n\nMonica K. Ridlehoover\, Occupational Science PhD Program\nUnderstanding the Lived Sensory Experiences of Adult Survivors of Childhood Trauma\n\n\nWednesday\, April 15\, 2026 | 12:00pm – 1:00pm | MacNider 321 & Zoom \n  \nRegister: https://go.unc.edu/DHSResearchForum
URL:https://www.med.unc.edu/healthsciences/event/research-forum-health-sciences-research-excellence-awards-phd-students/
LOCATION:MacNider 321 and Zoom
CATEGORIES:OT,PT,Research,SPHS,Students
ATTACH;FMTTYPE=image/jpeg:https://www.med.unc.edu/healthsciences/wp-content/uploads/sites/628/2026/01/ORS-Research-Forum-Digital-Sign-Instagram-Post-45-1.jpg
END:VEVENT
BEGIN:VEVENT
DTSTART;TZID=America/New_York:20260218T120000
DTEND;TZID=America/New_York:20260218T130000
DTSTAMP:20260425T153254
CREATED:20260121T180355Z
LAST-MODIFIED:20260121T180808Z
UID:10000377-1771416000-1771419600@www.med.unc.edu
SUMMARY:Research Forum: Junior Faculty Research Frontiers in Health Sciences
DESCRIPTION:Register Today!
URL:https://www.med.unc.edu/healthsciences/event/research-forum-junior-faculty-research-frontiers-in-health-sciences/
LOCATION:MacNider 321 and Zoom
CATEGORIES:Research
END:VEVENT
BEGIN:VEVENT
DTSTART;TZID=America/New_York:20240918T120000
DTEND;TZID=America/New_York:20240918T130000
DTSTAMP:20260425T153254
CREATED:20240910T213514Z
LAST-MODIFIED:20240910T213514Z
UID:10000373-1726660800-1726664400@www.med.unc.edu
SUMMARY:September Research Forum: New Research Frontiers in Health Sciences
DESCRIPTION:
URL:https://www.med.unc.edu/healthsciences/research/event/september-research-forum-2024/
LOCATION:MacNider 321 and Zoom
CATEGORIES:Research
END:VEVENT
BEGIN:VEVENT
DTSTART;TZID=America/New_York:20240410T120000
DTEND;TZID=America/New_York:20240410T130000
DTSTAMP:20260425T153254
CREATED:20240328T185005Z
LAST-MODIFIED:20240328T185005Z
UID:10000372-1712750400-1712754000@www.med.unc.edu
SUMMARY:April Research Forum: Research Excellence Award Presentations
DESCRIPTION:
URL:https://www.med.unc.edu/healthsciences/research/event/april-research-forum-research-excellence-award-presentations/
LOCATION:MacNider 321 and Zoom
CATEGORIES:Research
END:VEVENT
BEGIN:VEVENT
DTSTART;TZID=America/New_York:20240320T120000
DTEND;TZID=America/New_York:20240320T130000
DTSTAMP:20260425T153254
CREATED:20240305T153941Z
LAST-MODIFIED:20240305T153941Z
UID:10000371-1710936000-1710939600@www.med.unc.edu
SUMMARY:March Research Forum: Systematic Reviews and Meta-Analyses Panel Discussion
DESCRIPTION:Panelists will share their experiences using applicable research examples (e.g.\, search and screenings\, data extraction and quality assessment\, library resources).
URL:https://www.med.unc.edu/healthsciences/research/event/march-research-forum-systematic-reviews-and-meta-analyses-panel-discussion/
LOCATION:MacNider 321 and Zoom
CATEGORIES:Research
END:VEVENT
BEGIN:VEVENT
DTSTART;TZID=America/New_York:20231129T120000
DTEND;TZID=America/New_York:20231129T130000
DTSTAMP:20260425T153254
CREATED:20231116T131038Z
LAST-MODIFIED:20231116T131038Z
UID:10000369-1701259200-1701262800@www.med.unc.edu
SUMMARY:November Research Forum: New Research Frontiers in Health Sciences
DESCRIPTION:
URL:https://www.med.unc.edu/healthsciences/research/event/november-research-forum-new-research-frontiers-in-health-sciences/#new_tab
LOCATION:MacNider 321 and Zoom
CATEGORIES:Research
END:VEVENT
END:VCALENDAR