BEGIN:VCALENDAR
VERSION:2.0
PRODID:-//Institute for Healthcare Quality Improvement - ECPv6.15.18//NONSGML v1.0//EN
CALSCALE:GREGORIAN
METHOD:PUBLISH
X-ORIGINAL-URL:https://www.med.unc.edu/ihqi
X-WR-CALDESC:Events for Institute for Healthcare Quality Improvement
REFRESH-INTERVAL;VALUE=DURATION:PT1H
X-Robots-Tag:noindex
X-PUBLISHED-TTL:PT1H
BEGIN:VTIMEZONE
TZID:America/New_York
BEGIN:DAYLIGHT
TZOFFSETFROM:-0500
TZOFFSETTO:-0400
TZNAME:EDT
DTSTART:20200308T070000
END:DAYLIGHT
BEGIN:STANDARD
TZOFFSETFROM:-0400
TZOFFSETTO:-0500
TZNAME:EST
DTSTART:20201101T060000
END:STANDARD
BEGIN:DAYLIGHT
TZOFFSETFROM:-0500
TZOFFSETTO:-0400
TZNAME:EDT
DTSTART:20210314T070000
END:DAYLIGHT
BEGIN:STANDARD
TZOFFSETFROM:-0400
TZOFFSETTO:-0500
TZNAME:EST
DTSTART:20211107T060000
END:STANDARD
BEGIN:DAYLIGHT
TZOFFSETFROM:-0500
TZOFFSETTO:-0400
TZNAME:EDT
DTSTART:20220313T070000
END:DAYLIGHT
BEGIN:STANDARD
TZOFFSETFROM:-0400
TZOFFSETTO:-0500
TZNAME:EST
DTSTART:20221106T060000
END:STANDARD
END:VTIMEZONE
BEGIN:VEVENT
DTSTART;VALUE=DATE:20210303
DTEND;VALUE=DATE:20210304
DTSTAMP:20260423T054726
CREATED:20201217T134825Z
LAST-MODIFIED:20210204T170549Z
UID:10000180-1614729600-1614815999@www.med.unc.edu
SUMMARY:Clinician Leadership in Quality and Safety Symposium
DESCRIPTION:Details in flyer: \nCLQS symposium flyer 2021
URL:https://www.med.unc.edu/ihqi/event/clinician-leadership-in-quality-and-safety-symposium-2/
END:VEVENT
BEGIN:VEVENT
DTSTART;VALUE=DATE:20210314
DTEND;VALUE=DATE:20210321
DTSTAMP:20260423T054726
CREATED:20210310T193259Z
LAST-MODIFIED:20210310T193403Z
UID:10000184-1615680000-1616284799@www.med.unc.edu
SUMMARY:Patient Safety Awareness Week
DESCRIPTION:UNC Health is celebrating National Patient Safety Awareness Week (PSAW) March 14-20!\nThe World Health Organization (WHO) estimates that 134 million adverse events occur each year in hospitals. Studies suggest that as many as 400\,000 deaths occur in the United States each year as a result of errors or preventable harm. Patient safety is everyone’s job and we are One Great Team working together to improve patient safety. The goal of PSAW is to recognize everyone’s role regarding patient safety\, connect the work we do back to our patients\, celebrate work preventing errors\, and reinforce our safety culture. \nBelow you will find events we are hosting across the Medical Center\, as well as ways to celebrate PSAW in your local area – please join us and share this information with your teams! \n\nPSAW Tool kit. Click the link (available to UNC employees only) to check out different tools available to celebrate and recognize PSAW in your areas. Examples include a patient safety pledge\, crossword puzzles\, educational tools\, conversation starters\, podcasts\, videos\, and more.\nTuesday March 16th from 1-2pm IHI Free Webinar. Click the link to register Workplace Violence: Protecting Health Care Workers | IHI – Institute for Healthcare Improvement\nWednesday March 17th from 10:30-11:30am Leaders are going to the Gemba (safety walk) in all areas after Tier III Huddle. Gemba means “the actual place” – where the work is done to create value for a patient or customer. In order to truly understand current operations\, leaders go to where the work is happening to hear from frontline coworkers. There will be additional Gemba rounding throughout the week.\n\nContact Cristie Dangerfield\, UNC Medical Center Patient Safety Officer\, for more information: Cristie.Dangerfield@unchealth.unc.edu
URL:https://www.med.unc.edu/ihqi/event/patient-safety-awareness-week-3/
END:VEVENT
BEGIN:VEVENT
DTSTART;VALUE=DATE:20210326
DTEND;VALUE=DATE:20210327
DTSTAMP:20260423T054726
CREATED:20210129T151423Z
LAST-MODIFIED:20210129T151423Z
UID:10000182-1616716800-1616803199@www.med.unc.edu
SUMMARY:Physician Engagement in Quality and Safety
DESCRIPTION:
URL:https://www.med.unc.edu/ihqi/event/physician-engagement-in-quality-and-safety-8/
END:VEVENT
END:VCALENDAR