BEGIN:VCALENDAR
VERSION:2.0
PRODID:-//School of Medicine Intranet - ECPv6.15.18//NONSGML v1.0//EN
CALSCALE:GREGORIAN
METHOD:PUBLISH
X-ORIGINAL-URL:https://www.med.unc.edu/intranet
X-WR-CALDESC:Events for School of Medicine Intranet
REFRESH-INTERVAL;VALUE=DURATION:PT1H
X-Robots-Tag:noindex
X-PUBLISHED-TTL:PT1H
BEGIN:VTIMEZONE
TZID:America/New_York
BEGIN:DAYLIGHT
TZOFFSETFROM:-0500
TZOFFSETTO:-0400
TZNAME:EDT
DTSTART:20180311T070000
END:DAYLIGHT
BEGIN:STANDARD
TZOFFSETFROM:-0400
TZOFFSETTO:-0500
TZNAME:EST
DTSTART:20181104T060000
END:STANDARD
BEGIN:DAYLIGHT
TZOFFSETFROM:-0500
TZOFFSETTO:-0400
TZNAME:EDT
DTSTART:20190310T070000
END:DAYLIGHT
BEGIN:STANDARD
TZOFFSETFROM:-0400
TZOFFSETTO:-0500
TZNAME:EST
DTSTART:20191103T060000
END:STANDARD
BEGIN:DAYLIGHT
TZOFFSETFROM:-0500
TZOFFSETTO:-0400
TZNAME:EDT
DTSTART:20200308T070000
END:DAYLIGHT
BEGIN:STANDARD
TZOFFSETFROM:-0400
TZOFFSETTO:-0500
TZNAME:EST
DTSTART:20201101T060000
END:STANDARD
END:VTIMEZONE
BEGIN:VEVENT
DTSTART;TZID=America/New_York:20190410T120000
DTEND;TZID=America/New_York:20190410T130000
DTSTAMP:20260424T182411
CREATED:20181127T205121Z
LAST-MODIFIED:20190115T003753Z
UID:10000010-1554897600-1554901200@www.med.unc.edu
SUMMARY:Understanding and Treating Anxiety & Depression in Patients and Families with Cancer
DESCRIPTION:Please join the UNC Cancer Network for an online telehealth lecture with Eliza Park\, MD. Depression and anxiety disorders commonly occur among patients with cancer and their family caregivers. This lecture focuses on the common symptoms and management strategies for depression and anxiety disorders in patients with cancer and their family members.
URL:https://www.med.unc.edu/intranet/event/understanding-and-treating-anxiety-depression-in-patients-and-families-with-cancer/
END:VEVENT
END:VCALENDAR