BEGIN:VCALENDAR
VERSION:2.0
PRODID:-//Marsico Lung Institute - ECPv6.15.18//NONSGML v1.0//EN
CALSCALE:GREGORIAN
METHOD:PUBLISH
X-ORIGINAL-URL:https://www.med.unc.edu/marsicolunginstitute
X-WR-CALDESC:Events for Marsico Lung Institute
REFRESH-INTERVAL;VALUE=DURATION:PT1H
X-Robots-Tag:noindex
X-PUBLISHED-TTL:PT1H
BEGIN:VTIMEZONE
TZID:America/New_York
BEGIN:DAYLIGHT
TZOFFSETFROM:-0500
TZOFFSETTO:-0400
TZNAME:EDT
DTSTART:20170312T070000
END:DAYLIGHT
BEGIN:STANDARD
TZOFFSETFROM:-0400
TZOFFSETTO:-0500
TZNAME:EST
DTSTART:20171105T060000
END:STANDARD
BEGIN:DAYLIGHT
TZOFFSETFROM:-0500
TZOFFSETTO:-0400
TZNAME:EDT
DTSTART:20180311T070000
END:DAYLIGHT
BEGIN:STANDARD
TZOFFSETFROM:-0400
TZOFFSETTO:-0500
TZNAME:EST
DTSTART:20181104T060000
END:STANDARD
BEGIN:DAYLIGHT
TZOFFSETFROM:-0500
TZOFFSETTO:-0400
TZNAME:EDT
DTSTART:20190310T070000
END:DAYLIGHT
BEGIN:STANDARD
TZOFFSETFROM:-0400
TZOFFSETTO:-0500
TZNAME:EST
DTSTART:20191103T060000
END:STANDARD
END:VTIMEZONE
BEGIN:VTIMEZONE
TZID:America/Halifax
BEGIN:DAYLIGHT
TZOFFSETFROM:-0400
TZOFFSETTO:-0300
TZNAME:ADT
DTSTART:20160313T060000
END:DAYLIGHT
BEGIN:STANDARD
TZOFFSETFROM:-0300
TZOFFSETTO:-0400
TZNAME:AST
DTSTART:20161106T050000
END:STANDARD
BEGIN:DAYLIGHT
TZOFFSETFROM:-0400
TZOFFSETTO:-0300
TZNAME:ADT
DTSTART:20170312T060000
END:DAYLIGHT
BEGIN:STANDARD
TZOFFSETFROM:-0300
TZOFFSETTO:-0400
TZNAME:AST
DTSTART:20171105T050000
END:STANDARD
BEGIN:DAYLIGHT
TZOFFSETFROM:-0400
TZOFFSETTO:-0300
TZNAME:ADT
DTSTART:20180311T060000
END:DAYLIGHT
BEGIN:STANDARD
TZOFFSETFROM:-0300
TZOFFSETTO:-0400
TZNAME:AST
DTSTART:20181104T050000
END:STANDARD
END:VTIMEZONE
BEGIN:VEVENT
DTSTART;TZID=America/New_York:20181102T090000
DTEND;TZID=America/New_York:20181102T090000
DTSTAMP:20260425T080856
CREATED:20181031T202521Z
LAST-MODIFIED:20181031T202521Z
UID:10000227-1541149200-1541149200@www.med.unc.edu
SUMMARY:Marsico Lung Institute Seminars in Respiratory Biology: Speaker Gang Chen
DESCRIPTION:Please join us this Friday\, November 2nd\, for a presentation by Gang Chen\, PhD\, titled “Regulation of MUC5B Expression in Health and Muco-Obstructive Lung Diseases.” This session will begin at 9:00 a.m. and be held in G100 Bondurant Hall.
URL:https://www.med.unc.edu/marsicolunginstitute/event/marsico-lung-institute-seminars-in-respiratory-biology-speaker-gang-chen/
LOCATION:G100 Bondurant Hall
END:VEVENT
BEGIN:VEVENT
DTSTART;TZID=America/New_York:20181026T090000
DTEND;TZID=America/New_York:20181026T090000
DTSTAMP:20260425T080856
CREATED:20181022T133445Z
LAST-MODIFIED:20181023T165038Z
UID:10000226-1540544400-1540544400@www.med.unc.edu
SUMMARY:2018 North American Cystic Fibrosis Conference Review
DESCRIPTION:Please join us this Friday\, October 26th\, for a review of last week’s North American Cystic Fibrosis Conference. This session will begin at 9:00 a.m. and be held in G100 Bondurant Hall.
URL:https://www.med.unc.edu/marsicolunginstitute/event/2018-north-american-cystic-fibrosis-conference-review/
LOCATION:G100 Bondurant Hall
END:VEVENT
BEGIN:VEVENT
DTSTART;TZID=America/New_York:20181012T090000
DTEND;TZID=America/New_York:20181012T100000
DTSTAMP:20260425T080856
CREATED:20181010T145958Z
LAST-MODIFIED:20181010T145958Z
UID:10000224-1539334800-1539338400@www.med.unc.edu
SUMMARY:Marsico Lung Seminar: CF Conference Preview\, Speakers Bethany Batson & Alessandra Livraghi-Butrico
DESCRIPTION:  \nPlease join us this Friday\, October 12th\, for the next Marsico Lung Seminar session. In a preview for the upcoming CF meetings\, we will have two speakers who will present their posters. Each speaker will have 20 minutes for the presentation\, and time for questions will be limited to 10 minutes. The speakers will be: \nBethany Batson: “Gel Forming Mucins in the CF Airway: A Comprehensive Characterization” \nAlessandra Livraghi-Butrico: “CF Rabbit: The UNC Experience” \nThis session will begin at 9:00 a.m. and be held in G100 Bondurant Hall.
URL:https://www.med.unc.edu/marsicolunginstitute/event/marsico-lung-seminar-cf-conference-preview-speakers-bethany-batson-alessandra-livraghi-butrico/
LOCATION:G100 Bondurant Hall
END:VEVENT
BEGIN:VEVENT
DTSTART;TZID=America/New_York:20181011T083000
DTEND;TZID=America/New_York:20181011T093000
DTSTAMP:20260425T080856
CREATED:20181009T184607Z
LAST-MODIFIED:20181009T184607Z
UID:10000223-1539246600-1539250200@www.med.unc.edu
SUMMARY:Pathology and Laboratory Medicine Grand Rounds\, Guest Speaker: Dr. Xiaobo Zhou
DESCRIPTION:Please join us on Thursday\, October 11th\, for the Pathology and Laboratory Medicine Grand Rounds\, featuring guest speaker Dr. Xiaobo Zhou (Harvard)\, who will be presenting “Molecular Mechanisms of GWAS Loci Associated with Lung Disease.” The talk will take place at 8:30 a.m. in 101 Bondurant Hall. \n 
URL:https://www.med.unc.edu/marsicolunginstitute/event/pathology-and-laboratory-medicine-grand-rounds-guest-speaker-dr-xiaobo-zhou/
END:VEVENT
BEGIN:VEVENT
DTSTART;TZID=America/New_York:20180928T090000
DTEND;TZID=America/New_York:20180928T100000
DTSTAMP:20260425T080856
CREATED:20180920T155450Z
LAST-MODIFIED:20180920T155450Z
UID:10000222-1538125200-1538128800@www.med.unc.edu
SUMMARY:Richard C. Boucher\, MD: "State of the Marsico Lung Institute"
DESCRIPTION:The Marsico Lung Institute Seminars in Respiratory Biology series will kick off with Dr. Richard C. Boucher’s “State of the Marsico Lung Institute.” The talk will be held in G100 Bondurant Hall at 9:00 AM\, Friday\, September 28\, 2018. \nRichard C. Boucher\, MD\, is the Director of the Marsico Lung Institute/UNC CF Research Center.
URL:https://www.med.unc.edu/marsicolunginstitute/event/richard-c-boucher-md-state-of-the-marsico-lung-institute/
LOCATION:G100 Bondurant Hall
END:VEVENT
BEGIN:VEVENT
DTSTART;TZID=America/New_York:20180923T120000
DTEND;TZID=America/New_York:20180923T160000
DTSTAMP:20260425T080856
CREATED:20180830T211314Z
LAST-MODIFIED:20180830T211314Z
UID:10000220-1537704000-1537718400@www.med.unc.edu
SUMMARY:UNC Adult Cystic Fibrosis Center's Fall Fundraiser and Cornhole Tournament
DESCRIPTION:Join us on Sunday\, September 23rd from 12pm-4pm\, for an afternoon of FUNdraising! We are raising money and collecting non-perishable food items for our CF Patient Assistance Fund and Patient Food Pantry! This fund is used for medical devices\, transportation assistance\, and most recently grocery assistance. We hope to raise awareness around food insecurity issues among those living with Cystic Fibrosis and support patients who have an increased caloric need but who are unable to afford meals in order to support that need. \nMore information can be found here.
URL:https://www.med.unc.edu/marsicolunginstitute/event/unc-adult-cystic-fibrosis-centers-fall-fundraiser-and-cornhole-tournament/
ORGANIZER;CN="Katie Howe":MAILTO:katie_howe@med.unc.edu
END:VEVENT
BEGIN:VEVENT
DTSTART;TZID=America/New_York:20180919T100000
DTEND;TZID=America/New_York:20180919T130000
DTSTAMP:20260425T080856
CREATED:20180917T153531Z
LAST-MODIFIED:20180917T153531Z
UID:10000221-1537351200-1537362000@www.med.unc.edu
SUMMARY:Drop-In Portrait Session for School of Medicine Faculty & Staff
DESCRIPTION:A free drop-in photo session is being offered for School of Medicine faculty and staff members\, including post-docs\, residents\, fellows\, research coordinators\, administrative professionals\, etc\, on Wednesday\, September 19. \nMore information can be found here.
URL:https://www.med.unc.edu/marsicolunginstitute/event/drop-in-portrait-session-for-school-of-medicine-faculty-staff-2/
LOCATION:Bioinformatics 1131
END:VEVENT
BEGIN:VEVENT
DTSTART;TZID=America/New_York:20180508T121500
DTEND;TZID=America/New_York:20180508T133000
DTSTAMP:20260425T080856
CREATED:20180426T184157Z
LAST-MODIFIED:20180426T184310Z
UID:10000218-1525781700-1525786200@www.med.unc.edu
SUMMARY:Children's Research Institute Seminar Series: "Vaping: Perspectives of an Inhalation Toxicologist who is Also a Mother of Teenagers"
DESCRIPTION:The Children’s Research Institute Seminar Series presents its May speaker\, Ilona Jaspers\, PhD\, for her talk\, “Vaping: Perspectives of an Inhalation Toxicologist who is Also a Mother of Teenagers.” \nMore information can be found here.
URL:https://www.med.unc.edu/marsicolunginstitute/event/childrens-research-institute-seminar-series-vaping-perspectives-of-an-inhalation-toxicologist-who-is-also-a-mother-of-teenagers/
LOCATION:Bioinformatics Auditorium 1131
END:VEVENT
BEGIN:VEVENT
DTSTART;VALUE=DATE:20180208
DTEND;VALUE=DATE:20180209
DTSTAMP:20260425T080856
CREATED:20171221T175451Z
LAST-MODIFIED:20171221T175451Z
UID:10000216-1518048000-1518134399@www.med.unc.edu
SUMMARY:Cystic Fibrosis Research Innovation Award
DESCRIPTION:APPLICATIONS ARE NOW BEING ACCEPTED. The Vertex CF Research Innovation Awards (CF RIA) support and inspire the next generation of researchers who are advancing the understanding of cystic fibrosis (CF). Awards are chosen by an independent steering committee and applications will be accepted from candidates in the US\, Canada\, Austria\, Belgium\, Denmark\, France\, Germany\, Greece\, Italy\, Ireland\, Netherlands\, Norway\, Portugal\, Spain\, Sweden\, Switzerland\, UK\, and Israel. \nApplications are now being accepted for the Cystic Fibrosis Research Innovation Award\, as follows: \nINDEPENDENT RESEARCH INNOVATION AWARD \nUp to 2 grants of $750\,000 are available to newly independent researchers conducting an\nindependent research program over 3 years \nMENTORED RESEARCH INNOVATION AWARD \nUp to 4 grants of $125\,000 are available to junior investigators conducting\na 2-year mentored research project \nDeadline for applications is January 8\, 2018. \nMore information about this event…
URL:https://www.med.unc.edu/marsicolunginstitute/event/cystic-fibrosis-research-innovation-award/
END:VEVENT
BEGIN:VEVENT
DTSTART;TZID=America/Halifax:20171208T073000
DTEND;TZID=America/Halifax:20171208T130000
DTSTAMP:20260425T080856
CREATED:20171117T021226Z
LAST-MODIFIED:20230130T144855Z
UID:10000213-1512718200-1512738000@www.med.unc.edu
SUMMARY:Free Drop-In Photo Session for Faculty and APPs
DESCRIPTION:A free drop-in photography session for UNC School of Medicine faculty members and UNC Health Care advanced practice providers (AuDs\, CRNAs\, CNMs\, CNSs\, CPPs\, LCSWs\, NPs\, OTs\, PTs\, PAs and SLPs) will be offered on Dec. 8th. Non-faculty advanced practice providers must provide direct\, clinical patient care in the outpatient setting in order to be photographed. \nAll UNC School of Medicine faculty members are welcome to attend. \nPlease note the hours for this session have been altered from previous sessions to accommodate provider schedules. Providers can now have their photo taken before clinic starts and during the lunch hour. \nThese portrait photos can be used for websites\, directories\, news releases\, publications\, and any other purpose that requires a portrait shot. Photographs will also be returned to the faculty member or advanced practice provider. There is no charge to be photographed\, and no appointment is necessary. \nDirections to N.C. Women’s Hospital Conference Room 4: Enter N.C. Women’s Hospital\, go down the hallway past the information desk\, turn right at the intersecting hallway\, and the conference room is the second door on the right. There will be a sign. \nFor more information contact Jenny Dewitt at Jennifer.Dewitt@unchealth.unc.edu.
URL:https://www.med.unc.edu/marsicolunginstitute/event/drop-in-portrait-session-for-school-of-medicine-faculty/
END:VEVENT
BEGIN:VEVENT
DTSTART;TZID=America/Halifax:20171004T100000
DTEND;TZID=America/Halifax:20171004T130000
DTSTAMP:20260425T080856
CREATED:20170928T220750Z
LAST-MODIFIED:20230130T144951Z
UID:10000211-1507111200-1507122000@www.med.unc.edu
SUMMARY:Drop-In Portrait Session for School of Medicine Faculty & Staff
DESCRIPTION:A free drop-in photo session is being offered for School of Medicine faculty and staff members\, including post-docs\, residents\, fellows\, research coordinators\, administrative professionals\, etc\, Oct. 4. \nThese portrait photos can be used for websites\, directories\, news releases\, publications and any other purpose that requires a portrait shot. \nThere is no charge to have a photo taken and no appointment is required. Digital copies of the photos will be sent to the staff member for departmental and personal use. Please contact webhelp@med.unc.edu with any questions.
URL:https://www.med.unc.edu/marsicolunginstitute/event/drop-in-portrait-session-for-school-of-medicine-faculty-staff/
END:VEVENT
BEGIN:VEVENT
DTSTART;TZID=America/Halifax:20170830T110000
DTEND;TZID=America/Halifax:20170901T150000
DTSTAMP:20260425T080856
CREATED:20170706T181000Z
LAST-MODIFIED:20230130T145005Z
UID:10000209-1504090800-1504278000@www.med.unc.edu
SUMMARY:BALR Summer Meeting 2017
DESCRIPTION:The BALR meeting is now open for registration. It will be held at Queen’s University\, Centre for Experimental Medicine\, in Belfast\, from August 30 through September 1\, 2017. The meeting title is “Discovery to Recovery\, Still Lost in Translation?” \nThe BALR meeting is now open for registration. \n\nDates: 30th August – 1st September 2017 \n\nLocation – Queens University\, Centre for Experimental Medicine\, Belfast\, UK \n\nMeeting title – Discovery to Recovery\, Still Lost in Translation? \n\nHosted by – Bettina Schock \n\nThe full program and all information can be found at www.balr.co.uk/meetings \n\nHighlights include: \n\n\nWelcome reception at Belfast City Hall by the Lord Mayor\nKeynote speaker – Stephen Holgate\nA fantastic program of speakers\nPost-doctoral development seminar (open to all)\nOpen communications from selected abstracts\nPhD student competition – oral presentations from selected abstracts. Prize £750 (~ $970) to attend a meeting.\nPost-doc competition – oral presentations from selected abstracts. Prize £750 (~ $970) to attend a meeting.\nGala dinner at the Great Hall\nAnnual General Meeting (open to all)\n\n\nRegistration for members is £175 (~ $226)\, or £125 (~ $162) for student members. Options for non-members also available.  \n\nAccommodation is available in student halls at Queens University at £43.50 (~ $56) per night.  \n\nFor more information\, to register\, and for abstract submission\, please visit www.balr.co.uk/meetings
URL:https://www.med.unc.edu/marsicolunginstitute/event/balr-summer-meeting-2017/
END:VEVENT
END:VCALENDAR