BEGIN:VCALENDAR
VERSION:2.0
PRODID:-//Marsico Lung Institute - ECPv6.15.18//NONSGML v1.0//EN
CALSCALE:GREGORIAN
METHOD:PUBLISH
X-ORIGINAL-URL:https://www.med.unc.edu/marsicolunginstitute
X-WR-CALDESC:Events for Marsico Lung Institute
REFRESH-INTERVAL;VALUE=DURATION:PT1H
X-Robots-Tag:noindex
X-PUBLISHED-TTL:PT1H
BEGIN:VTIMEZONE
TZID:America/New_York
BEGIN:DAYLIGHT
TZOFFSETFROM:-0500
TZOFFSETTO:-0400
TZNAME:EDT
DTSTART:20180311T070000
END:DAYLIGHT
BEGIN:STANDARD
TZOFFSETFROM:-0400
TZOFFSETTO:-0500
TZNAME:EST
DTSTART:20181104T060000
END:STANDARD
BEGIN:DAYLIGHT
TZOFFSETFROM:-0500
TZOFFSETTO:-0400
TZNAME:EDT
DTSTART:20190310T070000
END:DAYLIGHT
BEGIN:STANDARD
TZOFFSETFROM:-0400
TZOFFSETTO:-0500
TZNAME:EST
DTSTART:20191103T060000
END:STANDARD
BEGIN:DAYLIGHT
TZOFFSETFROM:-0500
TZOFFSETTO:-0400
TZNAME:EDT
DTSTART:20200308T070000
END:DAYLIGHT
BEGIN:STANDARD
TZOFFSETFROM:-0400
TZOFFSETTO:-0500
TZNAME:EST
DTSTART:20201101T060000
END:STANDARD
BEGIN:DAYLIGHT
TZOFFSETFROM:-0500
TZOFFSETTO:-0400
TZNAME:EDT
DTSTART:20210314T070000
END:DAYLIGHT
BEGIN:STANDARD
TZOFFSETFROM:-0400
TZOFFSETTO:-0500
TZNAME:EST
DTSTART:20211107T060000
END:STANDARD
END:VTIMEZONE
BEGIN:VEVENT
DTSTART;TZID=America/New_York:20200131T090000
DTEND;TZID=America/New_York:20200131T090000
DTSTAMP:20260425T095252
CREATED:20200129T175326Z
LAST-MODIFIED:20200129T175428Z
UID:10000261-1580461200-1580461200@www.med.unc.edu
SUMMARY:Marsico Lung Institute Seminars in Respiratory Biology: Speaker Dean Staus\, PhD
DESCRIPTION:Please join us for a presentation by Dean Staus\, PhD\, a Research Specialist in the Lefkowitz Lab at Duke University. Dr. Staus will talk about stabilizing receptors using nanobodies and other tools\, technology that has been utilized to stabilize CFTR for conformational and functional studies. His presentation is entitled “Structural and Molecular Insights into G Protein Coupled Receptor Signaling.” This session will be held in G100 Bondurant Hall.
URL:https://www.med.unc.edu/marsicolunginstitute/event/marsico-lung-institute-seminars-in-respiratory-biology-speaker-dean-staus-phd/
LOCATION:G100 Bondurant Hall
END:VEVENT
BEGIN:VEVENT
DTSTART;TZID=America/New_York:20200124T120000
DTEND;TZID=America/New_York:20200124T120000
DTSTAMP:20260425T095252
CREATED:20200115T151524Z
LAST-MODIFIED:20200115T151524Z
UID:10000219-1579867200-1579867200@www.med.unc.edu
SUMMARY:Kaganov Research Initiative in Pulmonary Medicine and Engineering Seminar: Speaker Thomas Barker\, PhD
DESCRIPTION:Please join us at Duke University on Friday\, January 24th\, for Kaganov Research Initiative in Pulmonary Medicine and Engineering Seminar speaker Thomas Barker\, PhD. Dr. Barker is a Professor of Biomedical Engineering and Cell Biology and the Director of the University of Virginia Fibrosis Institute\, and his presentation is entitled “Mechanotransduction In Disease: More Than Just Stiffness.” More information can be found here and in the attached flyer.
URL:https://www.med.unc.edu/marsicolunginstitute/event/kaganov-research-initiative-in-pulmonary-medicine-and-engineering-seminar-speaker-thomas-barker-phd/
LOCATION:Duke University\, Bryan Research Auditorium\, Room 103
END:VEVENT
BEGIN:VEVENT
DTSTART;TZID=America/New_York:20200124T090000
DTEND;TZID=America/New_York:20200124T090000
DTSTAMP:20260425T095252
CREATED:20200123T143142Z
LAST-MODIFIED:20200123T143142Z
UID:10000265-1579856400-1579856400@www.med.unc.edu
SUMMARY:EIGHTH ANNUAL JOHN K. SHEEHAN LECTURE IN MUCIN BIOLOGY: Speaker Burton Dickey\, MD
DESCRIPTION:Please join us on Friday\, January 24th\, for the Eighth Annual John K. Sheehan Lecture In Mucin Biology and a presentation by Burton F. Dickey\, MD. Dr. Dickey is a Professor in the Department of Pulmonary Medicine at The University of Texas M. D. Anderson Cancer Center. His presentation is entitled “Airway Mucin Secretion: Molecular Mechanism and Pathobiologic Consequences.” This session will begin at 9:00 a.m. and be held in G100 Bondurant Hall.
URL:https://www.med.unc.edu/marsicolunginstitute/event/eighth-annual-john-k-sheehan-lecture-in-mucin-biology-speaker-burton-dickey-md/
LOCATION:G100 Bondurant Hall
END:VEVENT
BEGIN:VEVENT
DTSTART;TZID=America/New_York:20200117T090000
DTEND;TZID=America/New_York:20200117T090000
DTSTAMP:20260425T095252
CREATED:20200114T185826Z
LAST-MODIFIED:20200114T185826Z
UID:10000217-1579251600-1579251600@www.med.unc.edu
SUMMARY:Marsico Lung Institute Seminars in Respiratory Biology: Speaker Don Cook\, PhD
DESCRIPTION:Please join us for a presentation by Don Cook\, PhD\, Senior Investigator of the Immunity\, Inflammation\, and Disease Laboratory Immunogenetics Group (NIEHS). Dr. Cook’s presentation is entitled “Digging up the roots of asthma endotypes.” This session will be held in G100 Bondurant Hall.
URL:https://www.med.unc.edu/marsicolunginstitute/event/marsico-lung-institute-seminars-in-respiratory-biology-speaker-don-cook-phd/
LOCATION:G100 Bondurant Hall
END:VEVENT
BEGIN:VEVENT
DTSTART;TZID=America/New_York:20200110T090000
DTEND;TZID=America/New_York:20200110T090000
DTSTAMP:20260425T095252
CREATED:20200107T211235Z
LAST-MODIFIED:20200107T211235Z
UID:10000215-1578646800-1578646800@www.med.unc.edu
SUMMARY:Marsico Lung Institute Seminars in Respiratory Biology: Speaker Stavros Garantziotis
DESCRIPTION:Please join us for a presentation by Stavros Garantziotis\, MD\, of the National Institute of Environmental Health Sciences and Duke University Medical Center. Dr. Garantziotis’s presentation is entitled “TLR5 Protects Aagainst Idiopathic Pulmonary Fibrosis by Reducing Lung Dysbiosis.” This session will be held in G100 Bondurant Hall.
URL:https://www.med.unc.edu/marsicolunginstitute/event/marsico-lung-institute-seminars-in-respiratory-biology-speaker-stavros-garantziotis/
LOCATION:G100 Bondurant Hall
END:VEVENT
BEGIN:VEVENT
DTSTART;TZID=America/New_York:20191220T090000
DTEND;TZID=America/New_York:20191220T090000
DTSTAMP:20260425T095252
CREATED:20191213T213609Z
LAST-MODIFIED:20191216T151534Z
UID:10000214-1576832400-1576832400@www.med.unc.edu
SUMMARY:Marsico Lung Institute Seminars in Respiratory Biology: Speaker Kym Gowdy
DESCRIPTION:Please join us for a presentation by Kym Gowdy\, PhD\, Assistant Professor in the Department of Pharmacology & Toxicology at East Carolina University. Dr. Gowdy’s presentation is entitled “A Fishy Story: Uncovering the Molecular Interactions Between Pulmonary Lipid Metabolism and Environmental Lung Diseases.” This session will be held in 321 MacNider Hall.
URL:https://www.med.unc.edu/marsicolunginstitute/event/marsico-lung-institute-seminars-in-respiratory-biology-speaker-kym-gowdy/
LOCATION:321 MacNider\, 333 S. Columbia Street\, Chapel Hill\, NC\, 27599\, United States
END:VEVENT
BEGIN:VEVENT
DTSTART;TZID=America/New_York:20191213T090000
DTEND;TZID=America/New_York:20191213T090000
DTSTAMP:20260425T095252
CREATED:20191211T180257Z
LAST-MODIFIED:20191212T204306Z
UID:10000212-1576227600-1576227600@www.med.unc.edu
SUMMARY:Marsico Lung Institute Seminars in Respiratory Biology: Speakers Saira Ahmad & Arunava Ghosh
DESCRIPTION:Please join us on Friday\, December 13th\, for presentations by Saira Ahmad\, PhD\, and Arunava Ghosh\, PhD. \nDr. Ahmad is a Postdoctoral Fellow in Cystic Fibrosis / Pulmonary Research & Treatment. Her presentation is entitled “Novel Peptides Inhibit Orai1 to Reduce Pulmonary Inflammation.” \nDr. Ghosh is a Research Associate in Cystic Fibrosis / Pulmonary Research & Treatment. His presentation is entitled “E-Cigarette Use Increases Protease Levels in the Lungs of Vapers.” \nThis session will begin at 9:00 a.m. and be held in 321 MacNider Hall.
URL:https://www.med.unc.edu/marsicolunginstitute/event/marsico-lung-institute-seminars-in-respiratory-biology-speakers-saira-ahmad-arunava-ghosh/
LOCATION:321 MacNider\, 333 S. Columbia Street\, Chapel Hill\, NC\, 27599\, United States
END:VEVENT
BEGIN:VEVENT
DTSTART;TZID=America/New_York:20191206T090000
DTEND;TZID=America/New_York:20191206T090000
DTSTAMP:20260425T095252
CREATED:20191204T153111Z
LAST-MODIFIED:20191204T153111Z
UID:10000210-1575622800-1575622800@www.med.unc.edu
SUMMARY:Marsico Lung Institute Seminars in Respiratory Biology: Speaker Camille Ehre
DESCRIPTION:Please join us on Friday\, December 6th\, for a presentation by Camille Ehre\, PhD\, Research Assistant Professor at the UNC Cystic Fibrosis/Pulmonary Research and Treatment Center. Dr. Ehre’s presentation is entitled “Role of CFTR on Mucus Properties.” This session will begin at 9:00 a.m. and be held in G100 Bondurant Hall.
URL:https://www.med.unc.edu/marsicolunginstitute/event/marsico-lung-institute-seminars-in-respiratory-biology-speaker-camille-ehre/
LOCATION:G100 Bondurant Hall
END:VEVENT
BEGIN:VEVENT
DTSTART;TZID=America/New_York:20191204T163000
DTEND;TZID=America/New_York:20191204T163000
DTSTAMP:20260425T095252
CREATED:20191202T213752Z
LAST-MODIFIED:20191202T213845Z
UID:10000208-1575477000-1575477000@www.med.unc.edu
SUMMARY:Visiting Pulmonary Scholar Seminar: Speakers Jayaraj Rajagopal & Kenichi Okuda
DESCRIPTION:Please join us on Wednesday\, December 4th\, for the next Visiting Pulmonary Scholar seminar of the 2019-2020 season. Jayaraj Rajagopal\, MD\, a Professor of Medicine at Harvard Medical School\, will speak on “New Insights into the Airway Epithelial Ensemble.” The local speaker to follow will be Kenichi Okuda\, MD\, PhD\, Research Associate at the UNC Cystic Fibrosis/Pulmonary Research and Treatment Center. He will speak about “CFTR-expressing Cell Types in Normal Human Airways.” \nThis session will begin at 4:30 p.m. and be held at the Friday Center.
URL:https://www.med.unc.edu/marsicolunginstitute/event/visiting-pulmonary-scholar-seminar-speaker-jayaraj-rajagopal-md/
LOCATION:Friday Center
END:VEVENT
BEGIN:VEVENT
DTSTART;TZID=America/New_York:20191204T140000
DTEND;TZID=America/New_York:20191204T140000
DTSTAMP:20260425T095252
CREATED:20191113T135726Z
LAST-MODIFIED:20191113T135726Z
UID:10000206-1575468000-1575468000@www.med.unc.edu
SUMMARY:Special Seminar: Speaker Dr. Steven Rowe
DESCRIPTION:Please join us on Wednesday\, December 4th\, for a special seminar by Steven Rowe\, MD\, MSPH\, of the University of Alabama-Birmingham. Dr. Rowe will speak on “The Transformation of Cystic Fibrosis Therapy (and Other Opportunities in Diseases of Mucus).” This special seminar will begin at 2:00 p.m. and be held in 1131 Bioinformatics Hall. \nFor more information\, please see the flyer attached below: \nSteven Rowe_flyer
URL:https://www.med.unc.edu/marsicolunginstitute/event/special-seminar-speaker-dr-steven-rowe/
LOCATION:Bioinformatics 1131
END:VEVENT
BEGIN:VEVENT
DTSTART;TZID=America/New_York:20191122T090000
DTEND;TZID=America/New_York:20191122T090000
DTSTAMP:20260425T095252
CREATED:20191120T140111Z
LAST-MODIFIED:20191120T140111Z
UID:10000207-1574413200-1574413200@www.med.unc.edu
SUMMARY:Marsico Lung Institute Seminars in Respiratory Biology: Speaker James Bonner
DESCRIPTION:Please join us on Friday\, November 22nd\, for a presentation by James Bonner\, PhD\, Professor in the Toxicology Program at North Carolina State University. Dr. Bonner’s presentation is entitled “Immunotoxicology of Inhaled Nanoparticles and the Implications for Lung Disease Susceptibility.” This session will begin at 9:00 a.m. and be held in G100 Bondurant Hall.
URL:https://www.med.unc.edu/marsicolunginstitute/event/marsico-lung-institute-seminars-in-respiratory-biology-speaker-james-bonner/
LOCATION:G100 Bondurant Hall
END:VEVENT
BEGIN:VEVENT
DTSTART;TZID=America/New_York:20191108T090000
DTEND;TZID=America/New_York:20191108T090000
DTSTAMP:20260425T095252
CREATED:20191104T205226Z
LAST-MODIFIED:20191104T205226Z
UID:10000205-1573203600-1573203600@www.med.unc.edu
SUMMARY:Marsico Lung Institute Seminars in Respiratory Biology: Speaker Sally E. Wenzel
DESCRIPTION:Please join us on Friday\, November 8th\, for a presentation by Sally E. Wenzel\, MD\, Professor of Medicine and Immunology\, Chair of the Department of Environmental and Occupational Health\, and Director of the University of Pittsburgh Asthma Institute at UPMC. Dr. Wenzel’s presentation is entitled “At the Crossroads of Cell Differentiation and Cell Death.” This session will begin at 9:00 a.m. and be held in G100 Bondurant Hall.
URL:https://www.med.unc.edu/marsicolunginstitute/event/marsico-lung-institute-seminars-in-respiratory-biology-speaker-sally-e-wenzel/
LOCATION:G100 Bondurant Hall
END:VEVENT
BEGIN:VEVENT
DTSTART;TZID=America/New_York:20191025T090000
DTEND;TZID=America/New_York:20191025T090000
DTSTAMP:20260425T095252
CREATED:20191022T190838Z
LAST-MODIFIED:20191022T190838Z
UID:10000267-1571994000-1571994000@www.med.unc.edu
SUMMARY:Marsico Lung Institute Seminars in Respiratory Biology: Speakers Phillip Clapp & William Bennett
DESCRIPTION:Please join us on Friday\, October 25th\, for a presentation by the UNC Center for Environmental Medicine\, Asthma and Lung Biology’s Phillip Clapp\, PhD\, and William Bennett\, PhD. Their presentation is entitled “The Effects of E-cigarettes on Mucociliary Clearance: Data from In Vitro and Human In Vivo Studies.” This session will begin at 9:00 a.m. and be held in G100 Bondurant Hall.
URL:https://www.med.unc.edu/marsicolunginstitute/event/marsico-lung-institute-seminars-in-respiratory-biology-speakers-phillip-clapp-william-bennett/
LOCATION:G100 Bondurant Hall
END:VEVENT
BEGIN:VEVENT
DTSTART;TZID=America/New_York:20191023T163000
DTEND;TZID=America/New_York:20191023T163000
DTSTAMP:20260425T095252
CREATED:20191017T174944Z
LAST-MODIFIED:20191017T175029Z
UID:10000266-1571848200-1571848200@www.med.unc.edu
SUMMARY:Visiting Pulmonary Scholar Seminar: Speakers Stephanie Shore & Colette Miller
DESCRIPTION:Please join us on Wednesday\, October 23rd\, for the first Visiting Pulmonary Scholar seminar of the 2019-2020 season. Stephanie Shore\, PhD\, a Senior Lecturer in the Physiology Program at the Harvard School of Public Health\, will speak on “Obesity\, Asthma\, and the Gut Microbiome.” The local speaker to follow will be Colette N. Miller\, MS\, PhD\, from the US EPA. She will speak about “Acute Exposures\, Lifelong Consequences: Metabolic Effects of Early-Life Ozone Exposure.” \nThis session will begin at 4:30 p.m. and be held at the Friday Center.
URL:https://www.med.unc.edu/marsicolunginstitute/event/visiting-pulmonary-scholar-seminar-speaker-stephanie-shore-phd/
LOCATION:Friday Center
END:VEVENT
BEGIN:VEVENT
DTSTART;TZID=America/New_York:20191020T120000
DTEND;TZID=America/New_York:20191020T160000
DTSTAMP:20260425T095252
CREATED:20191017T183920Z
LAST-MODIFIED:20191017T183920Z
UID:10000268-1571572800-1571587200@www.med.unc.edu
SUMMARY:UNC Cystic Fibrosis Fundraiser and Cornhole Tournament
DESCRIPTION:Join us for the 3rd Annual UNC Adult Cystic Fibrosis Fall Fundraiser and Cornhole Tournament for our Patient Assistance Fund! The University of North Carolina’s Adult Cystic Fibrosis Center will host the cornhole tournament complete with local food trucks and raffles\, too. What better way to spend your Sunday afternoon than raising money for our patients in the most fun way? \nFor more information and to register\, click here.
URL:https://www.med.unc.edu/marsicolunginstitute/event/unc-cystic-fibrosis-fundraiser-and-cornhole-tournament/
LOCATION:Southern Village Green\, 400 Market Street\, Chapel Hill\, NC\, 27516
END:VEVENT
BEGIN:VEVENT
DTSTART;TZID=America/New_York:20191011T090000
DTEND;TZID=America/New_York:20191011T090000
DTSTAMP:20260425T095252
CREATED:20191004T205008Z
LAST-MODIFIED:20191004T205008Z
UID:10000264-1570784400-1570784400@www.med.unc.edu
SUMMARY:Marsico Lung Institute Seminars in Respiratory Biology: Speaker Katherine Tuggle
DESCRIPTION:Please join us on Friday\, October 11th\, for a presentation by Katherine Tuggle\, PhD\, Director of Research at the Cystic Fibrosis Foundation. Dr. Tuggle’s presentation is entitled “CF Research and Funding Priorities.” This session will begin at 9:00 a.m. and be held in G100 Bondurant Hall.
URL:https://www.med.unc.edu/marsicolunginstitute/event/marsico-lung-institute-seminars-in-respiratory-biology-speaker-katherine-tuggle/
LOCATION:G100 Bondurant Hall
END:VEVENT
BEGIN:VEVENT
DTSTART;TZID=America/New_York:20191004T090000
DTEND;TZID=America/New_York:20191004T090000
DTSTAMP:20260425T095252
CREATED:20190930T192925Z
LAST-MODIFIED:20190930T192925Z
UID:10000262-1570179600-1570179600@www.med.unc.edu
SUMMARY:Marsico Lung Institute Seminars in Respiratory Biology: Speaker Adam David Gracz
DESCRIPTION:Please join us on Friday\, October 4th\, for a presentation by Adam David Gracz\, PhD\, Research Assistant Professor in the UNC Department of Genetics. Dr. Gracz’s presentation is entitled “Dissecting Cellular Heterogeneity in the Bile Ducts.” This session will begin at 9:00 a.m. and be held in G100 Bondurant Hall.
URL:https://www.med.unc.edu/marsicolunginstitute/event/marsico-lung-institute-seminars-in-respiratory-biology-speaker-adam-david-gracz/
LOCATION:G100 Bondurant Hall
END:VEVENT
BEGIN:VEVENT
DTSTART;TZID=America/New_York:20190920T090000
DTEND;TZID=America/New_York:20190920T090000
DTSTAMP:20260425T095252
CREATED:20190916T205558Z
LAST-MODIFIED:20190916T205558Z
UID:10000260-1568970000-1568970000@www.med.unc.edu
SUMMARY:Marsico Lung Institute Seminars in Respiratory Biology: Speaker Elena Batrakova
DESCRIPTION:Please join us on Friday\, September 20th\, for a presentation by Elena Batrakova\, PhD\, Research Associate Professor in the UNC Center for Nanotechnology in Drug Delivery. Dr. Batrakova’s presentation is entitled “Back to Nature: Harnessing the Power of Exosomes for Anticancer Therapy.” This session will begin at 9:00 a.m. and be held in G100 Bondurant Hall.
URL:https://www.med.unc.edu/marsicolunginstitute/event/marsico-lung-institute-seminars-in-respiratory-biology-speaker-elena-batrakova/
LOCATION:G100 Bondurant Hall
END:VEVENT
BEGIN:VEVENT
DTSTART;TZID=America/New_York:20190913T090000
DTEND;TZID=America/New_York:20190913T090000
DTSTAMP:20260425T095252
CREATED:20190802T180947Z
LAST-MODIFIED:20190820T210153Z
UID:10000257-1568365200-1568365200@www.med.unc.edu
SUMMARY:Richard C. Boucher\, MD: State of the Marsico Lung Institute/CF Research Center
DESCRIPTION:The Marsico Lung Institute Seminars in Respiratory Biology series will kick off with Dr. Richard C. Boucher’s “State of the Marsico Lung Institute/CF Research Center.” The talk will be held at 9:00 a.m. on Friday\, September 13\, 2019\, in G100 Bondurant Hall. \nRichard C. Boucher\, MD\, is the Director of the Marsico Lung Institute/UNC CF Research Center.
URL:https://www.med.unc.edu/marsicolunginstitute/event/richard-c-boucher-md-state-of-the-marsico-lung-institute-cf-research-center/
LOCATION:G100 Bondurant Hall
END:VEVENT
BEGIN:VEVENT
DTSTART;TZID=America/New_York:20190910T121500
DTEND;TZID=America/New_York:20190910T121500
DTSTAMP:20260425T095252
CREATED:20190905T140355Z
LAST-MODIFIED:20190905T140355Z
UID:10000258-1568117700-1568117700@www.med.unc.edu
SUMMARY:Children's Research Institute Seminar Series: Speaker Stephen Kingsmore\, MD\, DSc
DESCRIPTION:Please join us on Tuesday\, September 10th\, for a special joint lecture\, “Rapid Precision Medicine for Infants in ICUs\,” delivered by Stephen Kingsmore\, MD\, DSc\, President and CEO of Rady Children’s Institute for Genomic Medicine. This lecture is co-sponsored by the Children’s Research Institute\, Program for Precision Medicine in Health Care and the Program for Rare and Interstitial Lung Disease. This session will begin at 12:15 p.m. and be held in Bioinformatics 1131. \nAbout Dr. Kingsmore: Stephen F. Kingsmore\, MD\, DSc is President/CEO of Rady Children’s Institute for Genomic Medicine (RCIGM)\, where he leads a multi-disciplinary team of scientists\, physicians\, and researchers who are pioneering the use of rapid Whole Genome Sequencing to enable precise diagnoses for critically-ill newborns. Dr. Kingsmore and RCIGM are advancing precision healthcare for infants and children through genomic and systems medicine research. Discoveries at the Institute are enabling rapid diagnosis and targeted treatment of critically ill newborns and pediatric patients at Rady Children’s Hospital-San Diego and partnering hospitals. The vision is to expand delivery of this integrated translational research process to enable the practice of precision pediatric medicine at children’s hospitals across California\, the nation and the world. Project Baby Bear is a pilot program in California that provides whole genome sequencing to babies hospitalized in intensive care. In the past year\, more than 100 infants have received whole genome sequencing\, and half of these children have been diagnosed with rare genetic diseases. Also among his achievements\, Dr. Kingsmore holds the world speed record for achieving the fastest molecular diagnosis using whole genome sequencing in just 19.5 hours.
URL:https://www.med.unc.edu/marsicolunginstitute/event/childrens-research-institute-seminar-series-speaker-stephen-kingsmore-md-dsc/
LOCATION:Bioinformatics 1131
END:VEVENT
BEGIN:VEVENT
DTSTART;TZID=America/New_York:20190805T120000
DTEND;TZID=America/New_York:20190805T120000
DTSTAMP:20260425T095252
CREATED:20190724T130257Z
LAST-MODIFIED:20190724T130651Z
UID:10000256-1565006400-1565006400@www.med.unc.edu
SUMMARY:Dr. Jeffrey Whitsett's UNC Visit
DESCRIPTION:Jeffey A. Whitsett\, MD\, Co-Director of the Perinatal Institute and Chief of the Section of Neonatology\, Perinatal and Pulmonary Biology at Cincinnati Children’s Hospital\, will speak on Monday\, August 5th\, at UNC. His presentation is entitled “Preparing for the First Breath a Single Cell at a Time\,” and it will begin at 12:00 pm in the MBRB G202 Auditorium . The host for this visit is Dr. Scott Randell.
URL:https://www.med.unc.edu/marsicolunginstitute/event/dr-jeffrey-whitsetts-visit-at-unc/
LOCATION:MBRB G202 Auditorium
END:VEVENT
BEGIN:VEVENT
DTSTART;TZID=America/New_York:20190719T090000
DTEND;TZID=America/New_York:20190719T090000
DTSTAMP:20260425T095252
CREATED:20190712T161440Z
LAST-MODIFIED:20190712T161440Z
UID:10000255-1563526800-1563526800@www.med.unc.edu
SUMMARY:Special Summer Seminar: Speaker Ho Namkoong
DESCRIPTION:Please join us on Friday\, July 19th\, for a special summer seminar presentation by Ho Namkoong MD\, PhD\, Post-Doctoral Visiting Fellow from the National Institute of Allergy and Infectious Diseases and Research Associate from Keio University School of Medicine\, Tokyo. Dr. Namkoong’s presentation is entitled “Host Susceptibility to Pulmonary NTM Infection and Bronchiectasis.” This session will begin at 9:00 a.m. and be held in 7004 Marsico Hall.
URL:https://www.med.unc.edu/marsicolunginstitute/event/special-summer-seminar-speaker-ho-namkoong/
LOCATION:7004 Marsico Hall
END:VEVENT
BEGIN:VEVENT
DTSTART;TZID=America/New_York:20190614T090000
DTEND;TZID=America/New_York:20190614T090000
DTSTAMP:20260425T095252
CREATED:20190605T192609Z
LAST-MODIFIED:20190605T192609Z
UID:10000254-1560502800-1560502800@www.med.unc.edu
SUMMARY:Marsico Lung Institute Seminars in Respiratory Biology: Speaker Max A. Seibold
DESCRIPTION:Please join us on Friday\, June 14th\, for a presentation by Max A. Seibold\, PhD\, Associate Professor in the Department of Pediatrics at National Jewish Health. Dr. Seibold’s presentation is entitled “Defining the Cellular and Functional Diversity of Human Airway Epithelium and Its Modification by Smoking.” This session will begin at 9:00 a.m. and be held in G100 Bondurant Hall.
URL:https://www.med.unc.edu/marsicolunginstitute/event/marsico-lung-institute-seminars-in-respiratory-biology-speaker-max-a-seibold/
LOCATION:G100 Bondurant Hall
END:VEVENT
BEGIN:VEVENT
DTSTART;TZID=America/New_York:20190524T090000
DTEND;TZID=America/New_York:20190524T090000
DTSTAMP:20260425T095252
CREATED:20190513T173747Z
LAST-MODIFIED:20190515T125115Z
UID:10000253-1558688400-1558688400@www.med.unc.edu
SUMMARY:Marsico Lung Institute Seminars in Respiratory Biology: Speaker Jennifer Goralski
DESCRIPTION:Please join us on Friday\, May 24th\, for a presentation by Jennifer Goralski\, MD\, Assistant Professor of Medicine and Pediatrics at UNC. Dr. Goralski’s presentation is entitled “19F MRI Detects Abnormal Ventilation Despite Normal FEV1 in CF Adults.” This session will begin at 9:00 a.m. and be held in G100 Bondurant Hall.
URL:https://www.med.unc.edu/marsicolunginstitute/event/marsico-lung-institute-seminars-in-respiratory-biology-speaker-jennifer-goralski/
LOCATION:G100 Bondurant Hall
END:VEVENT
BEGIN:VEVENT
DTSTART;TZID=America/New_York:20190510T090000
DTEND;TZID=America/New_York:20190510T090000
DTSTAMP:20260425T095252
CREATED:20190506T173019Z
LAST-MODIFIED:20190506T173019Z
UID:10000252-1557478800-1557478800@www.med.unc.edu
SUMMARY:Marsico Lung Institute Seminars in Respiratory Biology: Speaker Maimoona Zariwala
DESCRIPTION:Please join us on Friday\, May 10th\, for a presentation by Maimoona Zariwala\, PhD\, Research Professor of Pathology and Laboratory Medicine at UNC. Dr. Zariwala will be speaking on “Insights into the Genetics of PCD.” This session will begin at 9:00 a.m. and be held in G100 Bondurant Hall.
URL:https://www.med.unc.edu/marsicolunginstitute/event/marsico-lung-institute-seminars-in-respiratory-biology-speaker-maimoona-zariwala/
LOCATION:G100 Bondurant Hall
END:VEVENT
BEGIN:VEVENT
DTSTART;TZID=America/New_York:20190503T090000
DTEND;TZID=America/New_York:20190503T090000
DTSTAMP:20260425T095252
CREATED:20190501T212546Z
LAST-MODIFIED:20190502T150449Z
UID:10000251-1556874000-1556874000@www.med.unc.edu
SUMMARY:Marsico Lung Institute Seminars in Respiratory Biology: Speaker Hong Yuan
DESCRIPTION:Please join us on Friday\, May 3rd\, for a presentation by Hong Yuan\, PhD\, Associate Professor of Radiology at UNC. Dr. Yuan will be speaking on “Preclinical Imaging of Lung in Animal Models: Challenges and Developments.” This session will begin at 9:00 a.m. and be held in G100 Bondurant Hall.
URL:https://www.med.unc.edu/marsicolunginstitute/event/marsico-lung-institute-seminars-in-respiratory-biology-speaker-hong-yuan/
LOCATION:G100 Bondurant Hall
END:VEVENT
BEGIN:VEVENT
DTSTART;TZID=America/New_York:20190426T090000
DTEND;TZID=America/New_York:20190426T090000
DTSTAMP:20260425T095252
CREATED:20190422T150006Z
LAST-MODIFIED:20190422T150006Z
UID:10000250-1556269200-1556269200@www.med.unc.edu
SUMMARY:Marsico Lung Institute Seminars in Respiratory Biology: Speaker Isabelle Baconguis
DESCRIPTION:Please join us on Friday\, April 26th\, for a presentation by Isabelle Baconguis\, PhD\, of Oregon Health & Science University’s Vollum Institute. Dr. Baconguis will be speaking on “Architecture of the Gating Domains in the Epithelial Sodium Channel.” This session will begin at 9:00 a.m. and be held in G100 Bondurant Hall.
URL:https://www.med.unc.edu/marsicolunginstitute/event/marsico-lung-institute-seminars-in-respiratory-biology-speaker-isabelle-baconguis/
LOCATION:G100 Bondurant Hall
END:VEVENT
BEGIN:VEVENT
DTSTART;TZID=America/New_York:20190412T090000
DTEND;TZID=America/New_York:20190412T090000
DTSTAMP:20260425T095252
CREATED:20190405T194644Z
LAST-MODIFIED:20190408T213232Z
UID:10000249-1555059600-1555059600@www.med.unc.edu
SUMMARY:Marsico Lung Institute Seminars in Respiratory Biology: Speaker Christine Vigeland
DESCRIPTION:Please join us on Friday\, April 12th\, for a presentation by Christine Vigeland\, MD\, on “Immune Cell Metabolism and Glutamine-Mediated Pathways in Acute Lung Injury.” This session will begin at 9:00 a.m. and be held in G100 Bondurant Hall.
URL:https://www.med.unc.edu/marsicolunginstitute/event/marsico-lung-institute-seminars-in-respiratory-biology-speaker-christine-vigeland/
LOCATION:G100 Bondurant Hall
END:VEVENT
BEGIN:VEVENT
DTSTART;TZID=America/New_York:20190410T160000
DTEND;TZID=America/New_York:20190410T160000
DTSTAMP:20260425T095252
CREATED:20190405T154620Z
LAST-MODIFIED:20190405T154620Z
UID:10000248-1554912000-1554912000@www.med.unc.edu
SUMMARY:Dr. Mark Krasnow's Seminar at Duke University
DESCRIPTION:Mark Krasnow\, PhD\, Professor of Biochemistry at Stanford University\, will speak on Wednesday\, April 10th\, on “Stem Cells in Tissue Regeneration.” This seminar is part of Duke’s Developmental & Stem Cell Biology (DSCB) Colloquium\, and it will begin at 4:00 p.m. at Duke University in the Bryan Research Auditorium\, Room 103.
URL:https://www.med.unc.edu/marsicolunginstitute/event/dr-mark-krasnows-seminar-at-duke-university/
LOCATION:Duke University\, Bryan Research Auditorium\, Room 103
END:VEVENT
BEGIN:VEVENT
DTSTART;TZID=America/New_York:20190405T120000
DTEND;TZID=America/New_York:20190405T120000
DTSTAMP:20260425T095252
CREATED:20190320T192656Z
LAST-MODIFIED:20190320T192656Z
UID:10000245-1554465600-1554465600@www.med.unc.edu
SUMMARY:Genetics and Molecular Biology Seminar: Speaker Carole Ober\, PhD
DESCRIPTION:Carole Ober\, PhD\, Professor of Genetics at the University of Chicago\, will speak on Friday\, April 5th\, on “Asthma in the Post-GWAS Era: Searching for the Mid-Hanging Fruit.” This seminar will begin at noon and be held in 1131 Bioninformatics.
URL:https://www.med.unc.edu/marsicolunginstitute/event/genetics-and-molecular-biology-seminar-speaker-carole-ober-phd/
LOCATION:Bioinformatics 1131
END:VEVENT
END:VCALENDAR