BEGIN:VCALENDAR
VERSION:2.0
PRODID:-//Marsico Lung Institute - ECPv6.15.18//NONSGML v1.0//EN
CALSCALE:GREGORIAN
METHOD:PUBLISH
X-ORIGINAL-URL:https://www.med.unc.edu/marsicolunginstitute
X-WR-CALDESC:Events for Marsico Lung Institute
REFRESH-INTERVAL;VALUE=DURATION:PT1H
X-Robots-Tag:noindex
X-PUBLISHED-TTL:PT1H
BEGIN:VTIMEZONE
TZID:America/New_York
BEGIN:DAYLIGHT
TZOFFSETFROM:-0500
TZOFFSETTO:-0400
TZNAME:EDT
DTSTART:20240310T070000
END:DAYLIGHT
BEGIN:STANDARD
TZOFFSETFROM:-0400
TZOFFSETTO:-0500
TZNAME:EST
DTSTART:20241103T060000
END:STANDARD
BEGIN:DAYLIGHT
TZOFFSETFROM:-0500
TZOFFSETTO:-0400
TZNAME:EDT
DTSTART:20250309T070000
END:DAYLIGHT
BEGIN:STANDARD
TZOFFSETFROM:-0400
TZOFFSETTO:-0500
TZNAME:EST
DTSTART:20251102T060000
END:STANDARD
BEGIN:DAYLIGHT
TZOFFSETFROM:-0500
TZOFFSETTO:-0400
TZNAME:EDT
DTSTART:20260308T070000
END:DAYLIGHT
BEGIN:STANDARD
TZOFFSETFROM:-0400
TZOFFSETTO:-0500
TZNAME:EST
DTSTART:20261101T060000
END:STANDARD
END:VTIMEZONE
BEGIN:VEVENT
DTSTART;TZID=America/New_York:20251205T090000
DTEND;TZID=America/New_York:20251205T100000
DTSTAMP:20260423T141915
CREATED:20251203T182406Z
LAST-MODIFIED:20251203T182406Z
UID:10000316-1764925200-1764928800@www.med.unc.edu
SUMMARY:Marsico Lung Institute Seminars in Respiratory Biology: Andrew Ghio\, MD
DESCRIPTION:Please join us for a presentation by Andrew Ghio\, PhD\, a consultant for Occupational and Environmental Pulmonary Medicine-US EPA and an adjunct faculty member at UNC. Dr. Ghio’s presentation is entitled “Iron\, tuberculosis\, and smoking.” \nThis session will be held in Marsico Hall\, Seminar Room 6004.
URL:https://www.med.unc.edu/marsicolunginstitute/event/marsico-lung-institute-seminars-in-respiratory-biology-andrew-ghio-md/
LOCATION:6004 Marsico Hall
END:VEVENT
END:VCALENDAR