BEGIN:VCALENDAR
VERSION:2.0
PRODID:-//Marsico Lung Institute - ECPv6.15.18//NONSGML v1.0//EN
CALSCALE:GREGORIAN
METHOD:PUBLISH
X-ORIGINAL-URL:https://www.med.unc.edu/marsicolunginstitute
X-WR-CALDESC:Events for Marsico Lung Institute
REFRESH-INTERVAL;VALUE=DURATION:PT1H
X-Robots-Tag:noindex
X-PUBLISHED-TTL:PT1H
BEGIN:VTIMEZONE
TZID:America/New_York
BEGIN:DAYLIGHT
TZOFFSETFROM:-0500
TZOFFSETTO:-0400
TZNAME:EDT
DTSTART:20250309T070000
END:DAYLIGHT
BEGIN:STANDARD
TZOFFSETFROM:-0400
TZOFFSETTO:-0500
TZNAME:EST
DTSTART:20251102T060000
END:STANDARD
BEGIN:DAYLIGHT
TZOFFSETFROM:-0500
TZOFFSETTO:-0400
TZNAME:EDT
DTSTART:20260308T070000
END:DAYLIGHT
BEGIN:STANDARD
TZOFFSETFROM:-0400
TZOFFSETTO:-0500
TZNAME:EST
DTSTART:20261101T060000
END:STANDARD
BEGIN:DAYLIGHT
TZOFFSETFROM:-0500
TZOFFSETTO:-0400
TZNAME:EDT
DTSTART:20270314T070000
END:DAYLIGHT
BEGIN:STANDARD
TZOFFSETFROM:-0400
TZOFFSETTO:-0500
TZNAME:EST
DTSTART:20271107T060000
END:STANDARD
END:VTIMEZONE
BEGIN:VEVENT
DTSTART;TZID=America/New_York:20260313T090000
DTEND;TZID=America/New_York:20260313T100000
DTSTAMP:20260425T093934
CREATED:20260310T135843Z
LAST-MODIFIED:20260310T135843Z
UID:10000321-1773392400-1773396000@www.med.unc.edu
SUMMARY:Marsico Lung Institute Seminars in Respiratory Biology: Rosemary Bayless\, DVM\, MS\, PhD\, DACVIM (LAIM)
DESCRIPTION:Please join us for a presentation by Rosemary Bayless\,  DVM\, MS\, PhD\, DACVIM (LAIM)\, Assistant Professor in the Translational Predictive Biology cluster at North Carolina State University. Dr. Bayless’s presentation is entitled “Targeting neutrophils to treat respiratory disease.” \nThis session will be held in G100 Bondurant Hall.
URL:https://www.med.unc.edu/marsicolunginstitute/event/marsico-lung-institute-seminars-in-respiratory-biology-rosemary-bayless-dvm-ms-phd-dacvim-laim/
LOCATION:G100 Bondurant Hall
END:VEVENT
END:VCALENDAR