BEGIN:VCALENDAR
VERSION:2.0
PRODID:-//Marsico Lung Institute - ECPv6.15.18//NONSGML v1.0//EN
CALSCALE:GREGORIAN
METHOD:PUBLISH
X-ORIGINAL-URL:https://www.med.unc.edu/marsicolunginstitute
X-WR-CALDESC:Events for Marsico Lung Institute
REFRESH-INTERVAL;VALUE=DURATION:PT1H
X-Robots-Tag:noindex
X-PUBLISHED-TTL:PT1H
BEGIN:VTIMEZONE
TZID:America/New_York
BEGIN:DAYLIGHT
TZOFFSETFROM:-0500
TZOFFSETTO:-0400
TZNAME:EDT
DTSTART:20250309T070000
END:DAYLIGHT
BEGIN:STANDARD
TZOFFSETFROM:-0400
TZOFFSETTO:-0500
TZNAME:EST
DTSTART:20251102T060000
END:STANDARD
BEGIN:DAYLIGHT
TZOFFSETFROM:-0500
TZOFFSETTO:-0400
TZNAME:EDT
DTSTART:20260308T070000
END:DAYLIGHT
BEGIN:STANDARD
TZOFFSETFROM:-0400
TZOFFSETTO:-0500
TZNAME:EST
DTSTART:20261101T060000
END:STANDARD
BEGIN:DAYLIGHT
TZOFFSETFROM:-0500
TZOFFSETTO:-0400
TZNAME:EDT
DTSTART:20270314T070000
END:DAYLIGHT
BEGIN:STANDARD
TZOFFSETFROM:-0400
TZOFFSETTO:-0500
TZNAME:EST
DTSTART:20271107T060000
END:STANDARD
END:VTIMEZONE
BEGIN:VEVENT
DTSTART;TZID=America/New_York:20260417T090000
DTEND;TZID=America/New_York:20260417T100000
DTSTAMP:20260422T083330
CREATED:20260414T184500Z
LAST-MODIFIED:20260414T184500Z
UID:10000324-1776416400-1776420000@www.med.unc.edu
SUMMARY:Marsico Lung Institute Seminars in Respiratory Biology: Stavros Garantziotis\, MD
DESCRIPTION:Please join us for a presentation by Stavros Garantziotis\, MD\, Medical Director of the NIEHS Clinical Research Unit (CRU) and Head of the Matrix Biology Group at NIEHS\, as well as an Adjunct Professor in the Department of Medicine at Duke University. Dr. Garantziotis’s presentation is entitled “Role of flagellin-Tlr5 axis in lung disease.” \nThis session will be held in G100 Bondurant Hall.
URL:https://www.med.unc.edu/marsicolunginstitute/event/marsico-lung-institute-seminars-in-respiratory-biology-stavros-garantziotis-md/
LOCATION:G100 Bondurant Hall
END:VEVENT
END:VCALENDAR