BEGIN:VCALENDAR
VERSION:2.0
PRODID:-//Department of Medicine - ECPv6.15.18//NONSGML v1.0//EN
CALSCALE:GREGORIAN
METHOD:PUBLISH
X-ORIGINAL-URL:https://www.med.unc.edu/medicine
X-WR-CALDESC:Events for Department of Medicine
REFRESH-INTERVAL;VALUE=DURATION:PT1H
X-Robots-Tag:noindex
X-PUBLISHED-TTL:PT1H
BEGIN:VTIMEZONE
TZID:America/New_York
BEGIN:DAYLIGHT
TZOFFSETFROM:-0500
TZOFFSETTO:-0400
TZNAME:EDT
DTSTART:20160313T070000
END:DAYLIGHT
BEGIN:STANDARD
TZOFFSETFROM:-0400
TZOFFSETTO:-0500
TZNAME:EST
DTSTART:20161106T060000
END:STANDARD
BEGIN:DAYLIGHT
TZOFFSETFROM:-0500
TZOFFSETTO:-0400
TZNAME:EDT
DTSTART:20170312T070000
END:DAYLIGHT
BEGIN:STANDARD
TZOFFSETFROM:-0400
TZOFFSETTO:-0500
TZNAME:EST
DTSTART:20171105T060000
END:STANDARD
BEGIN:DAYLIGHT
TZOFFSETFROM:-0500
TZOFFSETTO:-0400
TZNAME:EDT
DTSTART:20180311T070000
END:DAYLIGHT
BEGIN:STANDARD
TZOFFSETFROM:-0400
TZOFFSETTO:-0500
TZNAME:EST
DTSTART:20181104T060000
END:STANDARD
END:VTIMEZONE
BEGIN:VEVENT
DTSTART;TZID=America/New_York:20170225T080000
DTEND;TZID=America/New_York:20170225T160000
DTSTAMP:20260422T140835
CREATED:20170225T130000Z
LAST-MODIFIED:20190307T194642Z
UID:10000850-1488009600-1488038400@www.med.unc.edu
SUMMARY:3rd Annual Women's Heart Symposium
DESCRIPTION:Paula Miller\, MD (Clinical Associate Professor\, Medical Director of Cardiac Rehabilitation\, and Director of the Women’s Heart Program at the UNC School of Medicine) will be hosting the event and giving an overview of heart disease in women. \nTopics at the Symposium include \n\nAn overview of heart disease in women\nHeart failure in women\nDevice therapy in women: cardiac electrophysiology\, pacemakers\, defibrillators\, and more\nCardiovascular disease and exercise\nCardiovascular disease and nutrition\nCardiovascular disease and stress\nStretching for health\n\nLunch will be provided at this FREE event (choice of salmon or a grilled vegetable entrée).Participants will also receive a free t-shirt.To register\, please contact Barbara Reid at (919)843-5205 or breid@med.unc.edu.Information required: first & last name\, email address\, phone number\, t-shirt size (S\, M\, L). \nPlease register by February 23.
URL:https://www.med.unc.edu/medicine/event/3rd-annual-womens-heart-symposium/
CATEGORIES:Medicine Grand Rounds
ATTACH;FMTTYPE=image/jpeg:https://www.med.unc.edu/medicine/wp-content/uploads/sites/945/2018/12/3rdwomensheart.jpeg
END:VEVENT
END:VCALENDAR