BEGIN:VCALENDAR
VERSION:2.0
PRODID:-//Department of Medicine - ECPv6.15.18//NONSGML v1.0//EN
CALSCALE:GREGORIAN
METHOD:PUBLISH
X-ORIGINAL-URL:https://www.med.unc.edu/medicine
X-WR-CALDESC:Events for Department of Medicine
REFRESH-INTERVAL;VALUE=DURATION:PT1H
X-Robots-Tag:noindex
X-PUBLISHED-TTL:PT1H
BEGIN:VTIMEZONE
TZID:America/New_York
BEGIN:DAYLIGHT
TZOFFSETFROM:-0500
TZOFFSETTO:-0400
TZNAME:EDT
DTSTART:20160313T070000
END:DAYLIGHT
BEGIN:STANDARD
TZOFFSETFROM:-0400
TZOFFSETTO:-0500
TZNAME:EST
DTSTART:20161106T060000
END:STANDARD
BEGIN:DAYLIGHT
TZOFFSETFROM:-0500
TZOFFSETTO:-0400
TZNAME:EDT
DTSTART:20170312T070000
END:DAYLIGHT
BEGIN:STANDARD
TZOFFSETFROM:-0400
TZOFFSETTO:-0500
TZNAME:EST
DTSTART:20171105T060000
END:STANDARD
BEGIN:DAYLIGHT
TZOFFSETFROM:-0500
TZOFFSETTO:-0400
TZNAME:EDT
DTSTART:20180311T070000
END:DAYLIGHT
BEGIN:STANDARD
TZOFFSETFROM:-0400
TZOFFSETTO:-0500
TZNAME:EST
DTSTART:20181104T060000
END:STANDARD
END:VTIMEZONE
BEGIN:VEVENT
DTSTART;TZID=America/New_York:20170405T160000
DTEND;TZID=America/New_York:20170405T170000
DTSTAMP:20260421T151506
CREATED:20170405T200000Z
LAST-MODIFIED:20190307T192405Z
UID:10000885-1491408000-1491411600@www.med.unc.edu
SUMMARY:GI Epi Conference - "Characteristics of Individuals with Colorectal Cancer by Age: A Work in Progress" with Anne Peery\, MD\, MSCR
DESCRIPTION:
URL:https://www.med.unc.edu/medicine/event/gi-epi-conference-characteristics-of-individuals-with-colorectal-cancer-by-age-a-work-in-progress-with-anne-peery-md-mscr/
CATEGORIES:Medicine Grand Rounds
ATTACH;FMTTYPE=image/png:https://www.med.unc.edu/medicine/wp-content/uploads/sites/945/2018/12/giepi1.png
END:VEVENT
END:VCALENDAR