BEGIN:VCALENDAR
VERSION:2.0
PRODID:-//Department of Medicine - ECPv6.15.18//NONSGML v1.0//EN
CALSCALE:GREGORIAN
METHOD:PUBLISH
X-ORIGINAL-URL:https://www.med.unc.edu/medicine
X-WR-CALDESC:Events for Department of Medicine
REFRESH-INTERVAL;VALUE=DURATION:PT1H
X-Robots-Tag:noindex
X-PUBLISHED-TTL:PT1H
BEGIN:VTIMEZONE
TZID:America/New_York
BEGIN:DAYLIGHT
TZOFFSETFROM:-0500
TZOFFSETTO:-0400
TZNAME:EDT
DTSTART:20160313T070000
END:DAYLIGHT
BEGIN:STANDARD
TZOFFSETFROM:-0400
TZOFFSETTO:-0500
TZNAME:EST
DTSTART:20161106T060000
END:STANDARD
BEGIN:DAYLIGHT
TZOFFSETFROM:-0500
TZOFFSETTO:-0400
TZNAME:EDT
DTSTART:20170312T070000
END:DAYLIGHT
BEGIN:STANDARD
TZOFFSETFROM:-0400
TZOFFSETTO:-0500
TZNAME:EST
DTSTART:20171105T060000
END:STANDARD
BEGIN:DAYLIGHT
TZOFFSETFROM:-0500
TZOFFSETTO:-0400
TZNAME:EDT
DTSTART:20180311T070000
END:DAYLIGHT
BEGIN:STANDARD
TZOFFSETFROM:-0400
TZOFFSETTO:-0500
TZNAME:EST
DTSTART:20181104T060000
END:STANDARD
END:VTIMEZONE
BEGIN:VEVENT
DTSTART;TZID=America/New_York:20170420T120000
DTEND;TZID=America/New_York:20170420T130000
DTSTAMP:20260419T071241
CREATED:20170420T160000Z
LAST-MODIFIED:20190307T192209Z
UID:10000893-1492689600-1492693200@www.med.unc.edu
SUMMARY:Medicine Grand Rounds\, Ned Sharpless\, "The Surprising Relationship Between Cancer and Aging\, and What This Means for an Internist"
DESCRIPTION:Dr. Ned Sharpless is the Director of the Lineberger Comprehensive Cancer Center and a practicing oncologist. He runs a 15-person basic science group that employs genetically engineered mice to study cancer and aging. His research has focused on how normal cells age and undergo malignant conversion. Dr. Sharpless discovered a fundamental biological link between cancer and aging\, and has used this knowledge to develop murine models and human diagnostic tests of molecular age. \nWork from his group has described novel regulators of metastasis\, identified pharmacological approaches to protecting stem cells in vivo\, and characterized circular RNAs\, a novel form of non-coding RNA. He has authored more than 130 original reports\, reviews and book chapters\, and is an inventor of 14 filed or issued patents.
URL:https://www.med.unc.edu/medicine/event/apr-20/
CATEGORIES:Medicine Grand Rounds
ATTACH;FMTTYPE=image/jpeg:https://www.med.unc.edu/medicine/wp-content/uploads/sites/945/2018/12/ned-sharpless.jpeg
END:VEVENT
BEGIN:VEVENT
DTSTART;TZID=America/New_York:20170420T163000
DTEND;TZID=America/New_York:20170420T173000
DTSTAMP:20260419T071241
CREATED:20170420T203000Z
LAST-MODIFIED:20190307T192208Z
UID:10000894-1492705800-1492709400@www.med.unc.edu
SUMMARY:CGIBD Research Seminar with Dr. Mary Estes
DESCRIPTION:Watch the seminar online:  https://meetings.webex.com/collabs/meetings/join?uuid=M5RXAAYEB6V25IX0KLDM6C9ZSK-12JV
URL:https://www.med.unc.edu/medicine/event/cgibd-research-seminar-with-dr-mary-estes/
CATEGORIES:Medicine Grand Rounds
ATTACH;FMTTYPE=image/png:https://www.med.unc.edu/medicine/wp-content/uploads/sites/945/2018/12/300.png
END:VEVENT
END:VCALENDAR