BEGIN:VCALENDAR
VERSION:2.0
PRODID:-//Department of Medicine - ECPv6.15.18//NONSGML v1.0//EN
CALSCALE:GREGORIAN
METHOD:PUBLISH
X-ORIGINAL-URL:https://www.med.unc.edu/medicine
X-WR-CALDESC:Events for Department of Medicine
REFRESH-INTERVAL;VALUE=DURATION:PT1H
X-Robots-Tag:noindex
X-PUBLISHED-TTL:PT1H
BEGIN:VTIMEZONE
TZID:America/New_York
BEGIN:DAYLIGHT
TZOFFSETFROM:-0500
TZOFFSETTO:-0400
TZNAME:EDT
DTSTART:20160313T070000
END:DAYLIGHT
BEGIN:STANDARD
TZOFFSETFROM:-0400
TZOFFSETTO:-0500
TZNAME:EST
DTSTART:20161106T060000
END:STANDARD
BEGIN:DAYLIGHT
TZOFFSETFROM:-0500
TZOFFSETTO:-0400
TZNAME:EDT
DTSTART:20170312T070000
END:DAYLIGHT
BEGIN:STANDARD
TZOFFSETFROM:-0400
TZOFFSETTO:-0500
TZNAME:EST
DTSTART:20171105T060000
END:STANDARD
BEGIN:DAYLIGHT
TZOFFSETFROM:-0500
TZOFFSETTO:-0400
TZNAME:EDT
DTSTART:20180311T070000
END:DAYLIGHT
BEGIN:STANDARD
TZOFFSETFROM:-0400
TZOFFSETTO:-0500
TZNAME:EST
DTSTART:20181104T060000
END:STANDARD
END:VTIMEZONE
BEGIN:VEVENT
DTSTART;TZID=America/New_York:20170516T110000
DTEND;TZID=America/New_York:20170516T120000
DTSTAMP:20260421T160120
CREATED:20170516T150000Z
LAST-MODIFIED:20190307T192149Z
UID:10000810-1494932400-1494936000@www.med.unc.edu
SUMMARY:McAllister Heart Institute Seminar Series: Yibin Wang\, PhD. Finding “Lncs” For Heart
DESCRIPTION:Speaker: Yibin Wang\, PhD. Chair\, UCLA Cardiovascular Research; Vice Chair for Research of Anesthesiology; Professor of Anesthesiology\, Physiology and Medicine (University of California at Los Angeles).Topic:  Finding “Lncs” For Heart
URL:https://www.med.unc.edu/medicine/event/mcallister-heart-institute-seminar-series-yibin-wang-phd/
CATEGORIES:Medicine Grand Rounds
END:VEVENT
END:VCALENDAR