BEGIN:VCALENDAR
VERSION:2.0
PRODID:-//Department of Medicine - ECPv6.15.18//NONSGML v1.0//EN
CALSCALE:GREGORIAN
METHOD:PUBLISH
X-ORIGINAL-URL:https://www.med.unc.edu/medicine
X-WR-CALDESC:Events for Department of Medicine
REFRESH-INTERVAL;VALUE=DURATION:PT1H
X-Robots-Tag:noindex
X-PUBLISHED-TTL:PT1H
BEGIN:VTIMEZONE
TZID:America/New_York
BEGIN:DAYLIGHT
TZOFFSETFROM:-0500
TZOFFSETTO:-0400
TZNAME:EDT
DTSTART:20160313T070000
END:DAYLIGHT
BEGIN:STANDARD
TZOFFSETFROM:-0400
TZOFFSETTO:-0500
TZNAME:EST
DTSTART:20161106T060000
END:STANDARD
BEGIN:DAYLIGHT
TZOFFSETFROM:-0500
TZOFFSETTO:-0400
TZNAME:EDT
DTSTART:20170312T070000
END:DAYLIGHT
BEGIN:STANDARD
TZOFFSETFROM:-0400
TZOFFSETTO:-0500
TZNAME:EST
DTSTART:20171105T060000
END:STANDARD
BEGIN:DAYLIGHT
TZOFFSETFROM:-0500
TZOFFSETTO:-0400
TZNAME:EDT
DTSTART:20180311T070000
END:DAYLIGHT
BEGIN:STANDARD
TZOFFSETFROM:-0400
TZOFFSETTO:-0500
TZNAME:EST
DTSTART:20181104T060000
END:STANDARD
END:VTIMEZONE
BEGIN:VEVENT
DTSTART;TZID=America/New_York:20170919T140000
DTEND;TZID=America/New_York:20170919T150000
DTSTAMP:20260420T133144
CREATED:20170919T180000Z
LAST-MODIFIED:20190307T190423Z
UID:10000924-1505829600-1505833200@www.med.unc.edu
SUMMARY:McAllister Heart Institute Seminar Series: Christopher Kontos\, MD\, New Insights into Skeletal Muscle-Endothelial Cell Interactions in Peripheral Artery Disease
DESCRIPTION:Speaker: Christopher Kontos\, MD. Associate Professor of Medicine\, Duke UniversityTopic: “New Insights into Skeletal Muscle-Endothelial Cell Interactions in Peripheral Artery Disease” \nPresentation Preview: Peripheral artery disease (PAD) is caused by atherosclerotic obstruction of the peripheral arteries\, most commonly the legs. The clinical manifestations of PAD include intermittent claudication\, characterized by pain with exertion that is relieved by rest\, and critical limb ischemia (CLI)\, in which patients experience rest pain with or without tissue necrosis and gangrene. Traditionally\, these different clinical presentations were thought to be due to differences in the severity of atherosclerotic vascular disease and subsequent differences in limb blood flow. However\, individuals with the same degree of vascular disease can present with vastly different phenotypes\, suggesting that genetics contribute to the different manifestations of PAD. Recent insights from our group have demonstrated that the response of skeletal muscle cells to ischemia\, independent of vascular growth or tissue perfusion\, plays an important role in determining outcomes after limb ischemia. In a mouse model of limb ischemia\, a polymorphism in BAG3 (Bcl2-associated athanogene-3) was found to play a key role in determining tissue survival vs. loss after limb ischemia\, and its potential mechanisms of action and role as a therapeutic target in PAD will be discussed. In addition\, several receptors expressed primarily on endothelial cells have been found play a role in modulating skeletal muscle cellular responses to injury\, and these receptors’ potential roles in the response to PAD and skeletal muscle differentiation will be discussed.
URL:https://www.med.unc.edu/medicine/event/mcallister-heart-institute-seminar-series-christopher-kontos-md-new-insights-into-skeletal-muscle-endothelial-cell-interactions-in-peripheral-artery-disease/
CATEGORIES:Medicine Grand Rounds
END:VEVENT
END:VCALENDAR