BEGIN:VCALENDAR
VERSION:2.0
PRODID:-//Department of Medicine - ECPv6.15.18//NONSGML v1.0//EN
CALSCALE:GREGORIAN
METHOD:PUBLISH
X-ORIGINAL-URL:https://www.med.unc.edu/medicine
X-WR-CALDESC:Events for Department of Medicine
REFRESH-INTERVAL;VALUE=DURATION:PT1H
X-Robots-Tag:noindex
X-PUBLISHED-TTL:PT1H
BEGIN:VTIMEZONE
TZID:America/New_York
BEGIN:DAYLIGHT
TZOFFSETFROM:-0500
TZOFFSETTO:-0400
TZNAME:EDT
DTSTART:20160313T070000
END:DAYLIGHT
BEGIN:STANDARD
TZOFFSETFROM:-0400
TZOFFSETTO:-0500
TZNAME:EST
DTSTART:20161106T060000
END:STANDARD
BEGIN:DAYLIGHT
TZOFFSETFROM:-0500
TZOFFSETTO:-0400
TZNAME:EDT
DTSTART:20170312T070000
END:DAYLIGHT
BEGIN:STANDARD
TZOFFSETFROM:-0400
TZOFFSETTO:-0500
TZNAME:EST
DTSTART:20171105T060000
END:STANDARD
BEGIN:DAYLIGHT
TZOFFSETFROM:-0500
TZOFFSETTO:-0400
TZNAME:EDT
DTSTART:20180311T070000
END:DAYLIGHT
BEGIN:STANDARD
TZOFFSETFROM:-0400
TZOFFSETTO:-0500
TZNAME:EST
DTSTART:20181104T060000
END:STANDARD
END:VTIMEZONE
BEGIN:VEVENT
DTSTART;TZID=America/New_York:20170921T120000
DTEND;TZID=America/New_York:20170921T130000
DTSTAMP:20260420T164943
CREATED:20170921T160000Z
LAST-MODIFIED:20190307T190420Z
UID:10000925-1505995200-1505998800@www.med.unc.edu
SUMMARY:Medicine Grand Rounds\, Kenneth Ataga\, "Pharmacological Therapies for Sickle Cell Disease: Beyond Hydroxyurea"
DESCRIPTION:Dr. Ataga is the director of the UNC Comprehensive Sickle Cell Program. His clinical research is focused on the vasculopathy of sickle cell disease\, with an emphasis on pulmonary hypertension and renal complications\, and coagulation activation in sickle cell disease. \nIn addition\, he has a strong research interest in the development of new therapies for sickle cell disease. His clinical trials in sickle cell disease are funded by the National Institutes of Health and the pharmaceutical industry. Results from an international\, multicenter phase 2 clinical trial led by Dr. Ataga were published online by the New England Journal of Medicine last year\, and were presented at the annual meeting of the American Society of Hematology in San Diego. The trial found that an investigational compound called SeIG1 dramatically reduces sickle cell pain crises. \nSickle cell disease is an inherited\, blood disorder that affects one out of every 500 African-Americans. There are approximately 80\,000 people in the United States with sickle cell disease. It is also one of the most common genetic diseases\, affecting millions of people worldwide. About half of the world’s sickle cell disease population lives in three countries: Nigeria\, India and the Democratic Republic of Congo. \nPatients with sickle cell disease suffer anemia and complications in which sickle-shaped red cells and white blood cells adhere to small vessels and block blood flow to downstream organs. This vaso-occlusive process results in intense pain and repeated hospitalizations. It also leads to progressive multi-organ dysfunction and premature death.
URL:https://www.med.unc.edu/medicine/event/sept-21/
CATEGORIES:Medicine Grand Rounds
ATTACH;FMTTYPE=image/jpeg:https://www.med.unc.edu/medicine/wp-content/uploads/sites/945/2018/12/kenneth-ataga.jpeg
END:VEVENT
END:VCALENDAR