BEGIN:VCALENDAR
VERSION:2.0
PRODID:-//Department of Medicine - ECPv6.15.18//NONSGML v1.0//EN
CALSCALE:GREGORIAN
METHOD:PUBLISH
X-ORIGINAL-URL:https://www.med.unc.edu/medicine
X-WR-CALDESC:Events for Department of Medicine
REFRESH-INTERVAL;VALUE=DURATION:PT1H
X-Robots-Tag:noindex
X-PUBLISHED-TTL:PT1H
BEGIN:VTIMEZONE
TZID:America/New_York
BEGIN:DAYLIGHT
TZOFFSETFROM:-0500
TZOFFSETTO:-0400
TZNAME:EDT
DTSTART:20170312T070000
END:DAYLIGHT
BEGIN:STANDARD
TZOFFSETFROM:-0400
TZOFFSETTO:-0500
TZNAME:EST
DTSTART:20171105T060000
END:STANDARD
BEGIN:DAYLIGHT
TZOFFSETFROM:-0500
TZOFFSETTO:-0400
TZNAME:EDT
DTSTART:20180311T070000
END:DAYLIGHT
BEGIN:STANDARD
TZOFFSETFROM:-0400
TZOFFSETTO:-0500
TZNAME:EST
DTSTART:20181104T060000
END:STANDARD
BEGIN:DAYLIGHT
TZOFFSETFROM:-0500
TZOFFSETTO:-0400
TZNAME:EDT
DTSTART:20190310T070000
END:DAYLIGHT
BEGIN:STANDARD
TZOFFSETFROM:-0400
TZOFFSETTO:-0500
TZNAME:EST
DTSTART:20191103T060000
END:STANDARD
END:VTIMEZONE
BEGIN:VEVENT
DTSTART;TZID=America/New_York:20180306T140000
DTEND;TZID=America/New_York:20180306T150000
DTSTAMP:20260423T142532
CREATED:20180306T190000Z
LAST-MODIFIED:20190307T184828Z
UID:10000971-1520344800-1520348400@www.med.unc.edu
SUMMARY:McAllister Heart Institute Seminar Series: James F. Martin\, MD\, PhD\, "Hippo Signaling in Heart Regeneration"
DESCRIPTION:Speaker: James F. Martin\, MD\, PhD\, Vivian L. Smith Professor in Regenerative Medicine\, Baylor College of Medicine; Director\, Cardiomyocyte Renewal Lab\, Texas Heart InstituteTopic: “Hippo Signaling in Heart Regeneration” \nSeminar Synopsis: Dr. Martin is an internationally recognized developmental and regenerative biologist who has made fundamental contributions to our understanding of development\, disease\, and regeneration. He has authored more than 135 peer-reviewed papers in top journals such as Nature\, Science\, Cell\, Developmental Cell\, Plos Genetics\, Development\, and PNAS. His recent groundbreaking work on the Hippo pathway in heart size regulation is a landmark study that led to the insight that the Hippo pathway is an inhibitor of adult heart muscle regeneration. Dr. Martin’s insights revealed new avenues for treatment of human heart failure. Dr. Martin has made fundamental insights into the role of the transcription factor Pitx2 in atrial fibrillation\, the most common sustained arrhythmia in the human population. He made use of the mouse model to investigate Pitx2 in atrial homeostasis but also in left right asymmetric morphogenesis that is essential for human development. Dr. Martin’s studies investigating Pitx2 function in craniofacial development provided insight into the molecular basis of Rieger syndrome. He uncovered a pivotal function for Bmp signaling in endothelial-mesenchymal transition and cardiac valve development. Dr. Martin’s studies uncovered a novel role for canonical Wnt signaling in cardiac progenitor cell diversification. He found the first microRNA implicated in orofacial clefting. Dr. Martin’s studies are highly cited and also reported on by the lay media.
URL:https://www.med.unc.edu/medicine/event/mcallister-heart-institute-seminar-series-james-f-martin-md-phd-hippo-signaling-in-heart-regeneration/
CATEGORIES:Medicine Grand Rounds
END:VEVENT
END:VCALENDAR